BEGIN:VCALENDAR
VERSION:2.0
PRODID:-//Howell&#039;s Gun Shop - ECPv6.15.20//NONSGML v1.0//EN
CALSCALE:GREGORIAN
METHOD:PUBLISH
X-WR-CALNAME:Howell&#039;s Gun Shop
X-ORIGINAL-URL:https://howellsgunshop.com
X-WR-CALDESC:Events for Howell&#039;s Gun Shop
REFRESH-INTERVAL;VALUE=DURATION:PT1H
X-Robots-Tag:noindex
X-PUBLISHED-TTL:PT1H
BEGIN:VTIMEZONE
TZID:America/New_York
BEGIN:DAYLIGHT
TZOFFSETFROM:-0500
TZOFFSETTO:-0400
TZNAME:EDT
DTSTART:20230312T070000
END:DAYLIGHT
BEGIN:STANDARD
TZOFFSETFROM:-0400
TZOFFSETTO:-0500
TZNAME:EST
DTSTART:20231105T060000
END:STANDARD
BEGIN:DAYLIGHT
TZOFFSETFROM:-0500
TZOFFSETTO:-0400
TZNAME:EDT
DTSTART:20240310T070000
END:DAYLIGHT
BEGIN:STANDARD
TZOFFSETFROM:-0400
TZOFFSETTO:-0500
TZNAME:EST
DTSTART:20241103T060000
END:STANDARD
BEGIN:DAYLIGHT
TZOFFSETFROM:-0500
TZOFFSETTO:-0400
TZNAME:EDT
DTSTART:20250309T070000
END:DAYLIGHT
BEGIN:STANDARD
TZOFFSETFROM:-0400
TZOFFSETTO:-0500
TZNAME:EST
DTSTART:20251102T060000
END:STANDARD
END:VTIMEZONE
BEGIN:VEVENT
DTSTART;TZID=America/New_York:20241217T173000
DTEND;TZID=America/New_York:20241217T190000
DTSTAMP:20260423T180322
CREATED:20231219T141558Z
LAST-MODIFIED:20231219T141633Z
UID:14262-1734456600-1734462000@howellsgunshop.com
SUMMARY:A Girl & A Gun - Fun Shoot!
DESCRIPTION:A GIRL & A GUN\nQUARTERLY MATCH\nTHIS IS AN AG&AG MEMBES ONLY EVENT \n  \nTIME: 5:30pm – 7:00pm \nEVENT FEE: $10 payable in STORE on TEAM APP! \nRANGE FEE: Payable to Howells at check-in. Howell’s Members shoot for FREE. AGAG Members shoot for $15. \nRSVP: ENSURE YOU HAVE A SPOT by signing up on the TEAM APP! \nMEMBERS: REMEMBER TO BRING YOUR SHOOTING JOURNALS! \nNOT A MEMBER? JOIN US!
URL:https://howellsgunshop.com/event/a-girl-a-gun-fun-shoot/2024-12-17/
LOCATION:Howell’s Gun Shop\, 81 West Gray Road\, Gray\, ME\, 04039\, United States
CATEGORIES:A Girl & A Gun,All Events
ATTACH;FMTTYPE=image/jpeg:https://howellsgunshop.com/wp-content/uploads/2022/11/banner2-2.jpg
END:VEVENT
BEGIN:VEVENT
DTSTART;TZID=America/New_York:20241126T173000
DTEND;TZID=America/New_York:20241126T190000
DTSTAMP:20260423T180322
CREATED:20231219T141558Z
LAST-MODIFIED:20231219T141632Z
UID:14261-1732642200-1732647600@howellsgunshop.com
SUMMARY:A Girl & A Gun - Fun Shoot!
DESCRIPTION:A GIRL & A GUN\nQUARTERLY MATCH\nTHIS IS AN AG&AG MEMBES ONLY EVENT \n  \nTIME: 5:30pm – 7:00pm \nEVENT FEE: $10 payable in STORE on TEAM APP! \nRANGE FEE: Payable to Howells at check-in. Howell’s Members shoot for FREE. AGAG Members shoot for $15. \nRSVP: ENSURE YOU HAVE A SPOT by signing up on the TEAM APP! \nMEMBERS: REMEMBER TO BRING YOUR SHOOTING JOURNALS! \nNOT A MEMBER? JOIN US!
URL:https://howellsgunshop.com/event/a-girl-a-gun-fun-shoot/
LOCATION:Howell’s Gun Shop\, 81 West Gray Road\, Gray\, ME\, 04039\, United States
CATEGORIES:A Girl & A Gun,All Events
ATTACH;FMTTYPE=image/jpeg:https://howellsgunshop.com/wp-content/uploads/2022/11/banner2-2.jpg
END:VEVENT
END:VCALENDAR