BEGIN:VCALENDAR
VERSION:2.0
PRODID:-//Howell&#039;s Gun Shop - ECPv6.15.20//NONSGML v1.0//EN
CALSCALE:GREGORIAN
METHOD:PUBLISH
X-WR-CALNAME:Howell&#039;s Gun Shop
X-ORIGINAL-URL:https://howellsgunshop.com
X-WR-CALDESC:Events for Howell&#039;s Gun Shop
REFRESH-INTERVAL;VALUE=DURATION:PT1H
X-Robots-Tag:noindex
X-PUBLISHED-TTL:PT1H
BEGIN:VTIMEZONE
TZID:America/New_York
BEGIN:DAYLIGHT
TZOFFSETFROM:-0500
TZOFFSETTO:-0400
TZNAME:EDT
DTSTART:20230312T070000
END:DAYLIGHT
BEGIN:STANDARD
TZOFFSETFROM:-0400
TZOFFSETTO:-0500
TZNAME:EST
DTSTART:20231105T060000
END:STANDARD
BEGIN:DAYLIGHT
TZOFFSETFROM:-0500
TZOFFSETTO:-0400
TZNAME:EDT
DTSTART:20240310T070000
END:DAYLIGHT
BEGIN:STANDARD
TZOFFSETFROM:-0400
TZOFFSETTO:-0500
TZNAME:EST
DTSTART:20241103T060000
END:STANDARD
BEGIN:DAYLIGHT
TZOFFSETFROM:-0500
TZOFFSETTO:-0400
TZNAME:EDT
DTSTART:20250309T070000
END:DAYLIGHT
BEGIN:STANDARD
TZOFFSETFROM:-0400
TZOFFSETTO:-0500
TZNAME:EST
DTSTART:20251102T060000
END:STANDARD
END:VTIMEZONE
BEGIN:VEVENT
DTSTART;TZID=America/New_York:20241119T173000
DTEND;TZID=America/New_York:20241119T183000
DTSTAMP:20260423T163020
CREATED:20231018T162417Z
LAST-MODIFIED:20231219T142033Z
UID:12746-1732037400-1732041000@howellsgunshop.com
SUMMARY:A Girl & A Gun - Girls Night Out
DESCRIPTION:A GIRL & A GUN  – GIRLS NIGHT OUT\n(Supervised/Coached Practice session)\n\nALL EXPERIENCE LEVELS WELCOME!\nTIME: 5:30pm – 6:30pm \nEVENT FEE: $10 payable in STORE on TEAM APP! \nRANGE FEE: Payable to Howells at check-in. Howell’s Members shoot for FREE. AGAG Members shoot for $15. \nRSVP: ENSURE YOU HAVE A SPOT by signing up on the TEAM APP! \nMEMBERS: REMEMBER TO BRING YOUR SHOOTING JOURNALS! \nNOT A MEMBER? JOIN US! \n\nPrerequisite: None! Come as you are. AG&AG events provide an ideal place to learn for women of all skill levels. \nHOWELL’S GUN SHOP WELCOMES\nA Girl & A Gun Women’s Shooting League!\nA Girl & A Gun Women’s Shooting League (AG & AG) is a shooting club established by women shooters for women shooters. AG & AG events are intended to be fun\, social gatherings where women can come together for support\, encouragement\, ask questions in a safe and nonjudgmental environment\, improve on their marksmanship\, and bond together in the shooting community. \nWhat Makes Us Different? \nAll AG & AG events are supervised by female Certified Firearms Instructors. All facilitators are women who can “speak girl” and provide techniques and tips for female shooters. Our goal is to empower\, educate\, and have fun at the range. AG & AG events have been successful stepping stones for thousands of women. At our events and through articles and information\, we provide: \n\nBasics of safe gun handling\nRange etiquette\nProper grip techniques\nStance for accurate shooting\nTrigger control and follow-through\nSight picture and sight alignment and MUCH MORE!\n\nIt’s More Than Shooting\nWhile our mission is to educate women on safe and accurate shooting\, our organization is about so much more than shooting! It’s about empowerment\, support\, friendships\, fun\, self-reliance\, and so much more. Every day we witness the transformation of women who set out to learn how to shoot and in the process discover a confidence in themselves that improves all areas of their lives. Whether you’re interested in competition\, concealed carry\, home defense\, the safe storage of guns in the home\, or you just want to get out of the house and try something new\, please join us at an upcoming event. \nAs A Member Of The National Club\, You Receive:\n\nOur innovative Shooting Journal specifically for women shooters\nChance to win guns and gear in our quarterly and annually\nMember Appreciation Giveaways\nTONS of discounts and offers from our Vendor Partners\n20% off all AG & AG apparel and hats\nExclusive members-only matches and clinics\nInvitation to attend the AG & AG Conference\nInvitation to attend the regional Girl’s Getaways\nThe Four Rules by Kathy Jackson of The Cornered Cat\nBasic Pistols Skills by Lynn Givens of Rangemaster\nPersonalized AG & AG designer name tag\nAccess to the AG & AG Shooting Journal\nOfficial membership card\nSpecial discounts from our home range\, Howell’s Gun Shop!\n\nHowell’s Members SHOOT FOR FREE\n\n\n\nNOT A MEMBER? JOIN US!
URL:https://howellsgunshop.com/event/a-girl-a-gun-girls-night-out-2/2024-11-19/
LOCATION:Howell’s Gun Shop\, 81 West Gray Road\, Gray\, ME\, 04039\, United States
CATEGORIES:A Girl & A Gun,All Events,Ladies Only
ATTACH;FMTTYPE=image/png:https://howellsgunshop.com/wp-content/uploads/2022/11/AGAG_ChapterMeeting_GNO-1-2.png
END:VEVENT
BEGIN:VEVENT
DTSTART;TZID=America/New_York:20240820T173000
DTEND;TZID=America/New_York:20240820T183000
DTSTAMP:20260423T163020
CREATED:20231018T162417Z
LAST-MODIFIED:20231219T142033Z
UID:13458-1724175000-1724178600@howellsgunshop.com
SUMMARY:A Girl & A Gun - Girls Night Out
DESCRIPTION:A GIRL & A GUN  – GIRLS NIGHT OUT\n(Supervised/Coached Practice session)\n\nALL EXPERIENCE LEVELS WELCOME!\nTIME: 5:30pm – 6:30pm \nEVENT FEE: $10 payable in STORE on TEAM APP! \nRANGE FEE: Payable to Howells at check-in. Howell’s Members shoot for FREE. AGAG Members shoot for $15. \nRSVP: ENSURE YOU HAVE A SPOT by signing up on the TEAM APP! \nMEMBERS: REMEMBER TO BRING YOUR SHOOTING JOURNALS! \nNOT A MEMBER? JOIN US! \n\nPrerequisite: None! Come as you are. AG&AG events provide an ideal place to learn for women of all skill levels. \nHOWELL’S GUN SHOP WELCOMES\nA Girl & A Gun Women’s Shooting League!\nA Girl & A Gun Women’s Shooting League (AG & AG) is a shooting club established by women shooters for women shooters. AG & AG events are intended to be fun\, social gatherings where women can come together for support\, encouragement\, ask questions in a safe and nonjudgmental environment\, improve on their marksmanship\, and bond together in the shooting community. \nWhat Makes Us Different? \nAll AG & AG events are supervised by female Certified Firearms Instructors. All facilitators are women who can “speak girl” and provide techniques and tips for female shooters. Our goal is to empower\, educate\, and have fun at the range. AG & AG events have been successful stepping stones for thousands of women. At our events and through articles and information\, we provide: \n\nBasics of safe gun handling\nRange etiquette\nProper grip techniques\nStance for accurate shooting\nTrigger control and follow-through\nSight picture and sight alignment and MUCH MORE!\n\nIt’s More Than Shooting\nWhile our mission is to educate women on safe and accurate shooting\, our organization is about so much more than shooting! It’s about empowerment\, support\, friendships\, fun\, self-reliance\, and so much more. Every day we witness the transformation of women who set out to learn how to shoot and in the process discover a confidence in themselves that improves all areas of their lives. Whether you’re interested in competition\, concealed carry\, home defense\, the safe storage of guns in the home\, or you just want to get out of the house and try something new\, please join us at an upcoming event. \nAs A Member Of The National Club\, You Receive:\n\nOur innovative Shooting Journal specifically for women shooters\nChance to win guns and gear in our quarterly and annually\nMember Appreciation Giveaways\nTONS of discounts and offers from our Vendor Partners\n20% off all AG & AG apparel and hats\nExclusive members-only matches and clinics\nInvitation to attend the AG & AG Conference\nInvitation to attend the regional Girl’s Getaways\nThe Four Rules by Kathy Jackson of The Cornered Cat\nBasic Pistols Skills by Lynn Givens of Rangemaster\nPersonalized AG & AG designer name tag\nAccess to the AG & AG Shooting Journal\nOfficial membership card\nSpecial discounts from our home range\, Howell’s Gun Shop!\n\nHowell’s Members SHOOT FOR FREE\n\n\n\nNOT A MEMBER? JOIN US!
URL:https://howellsgunshop.com/event/a-girl-a-gun-girls-night-out-2/2024-08-20/
LOCATION:Howell’s Gun Shop\, 81 West Gray Road\, Gray\, ME\, 04039\, United States
CATEGORIES:A Girl & A Gun,All Events,Ladies Only
ATTACH;FMTTYPE=image/png:https://howellsgunshop.com/wp-content/uploads/2022/11/AGAG_ChapterMeeting_GNO-1-2.png
END:VEVENT
BEGIN:VEVENT
DTSTART;TZID=America/New_York:20240521T173000
DTEND;TZID=America/New_York:20240521T183000
DTSTAMP:20260423T163020
CREATED:20231018T162417Z
LAST-MODIFIED:20231219T142032Z
UID:12744-1716312600-1716316200@howellsgunshop.com
SUMMARY:A Girl & A Gun - Girls Night Out
DESCRIPTION:A GIRL & A GUN  – GIRLS NIGHT OUT\n(Supervised/Coached Practice session)\n\nALL EXPERIENCE LEVELS WELCOME!\nTIME: 5:30pm – 6:30pm \nEVENT FEE: $10 payable in STORE on TEAM APP! \nRANGE FEE: Payable to Howells at check-in. Howell’s Members shoot for FREE. AGAG Members shoot for $15. \nRSVP: ENSURE YOU HAVE A SPOT by signing up on the TEAM APP! \nMEMBERS: REMEMBER TO BRING YOUR SHOOTING JOURNALS! \nNOT A MEMBER? JOIN US! \n\nPrerequisite: None! Come as you are. AG&AG events provide an ideal place to learn for women of all skill levels. \nHOWELL’S GUN SHOP WELCOMES\nA Girl & A Gun Women’s Shooting League!\nA Girl & A Gun Women’s Shooting League (AG & AG) is a shooting club established by women shooters for women shooters. AG & AG events are intended to be fun\, social gatherings where women can come together for support\, encouragement\, ask questions in a safe and nonjudgmental environment\, improve on their marksmanship\, and bond together in the shooting community. \nWhat Makes Us Different? \nAll AG & AG events are supervised by female Certified Firearms Instructors. All facilitators are women who can “speak girl” and provide techniques and tips for female shooters. Our goal is to empower\, educate\, and have fun at the range. AG & AG events have been successful stepping stones for thousands of women. At our events and through articles and information\, we provide: \n\nBasics of safe gun handling\nRange etiquette\nProper grip techniques\nStance for accurate shooting\nTrigger control and follow-through\nSight picture and sight alignment and MUCH MORE!\n\nIt’s More Than Shooting\nWhile our mission is to educate women on safe and accurate shooting\, our organization is about so much more than shooting! It’s about empowerment\, support\, friendships\, fun\, self-reliance\, and so much more. Every day we witness the transformation of women who set out to learn how to shoot and in the process discover a confidence in themselves that improves all areas of their lives. Whether you’re interested in competition\, concealed carry\, home defense\, the safe storage of guns in the home\, or you just want to get out of the house and try something new\, please join us at an upcoming event. \nAs A Member Of The National Club\, You Receive:\n\nOur innovative Shooting Journal specifically for women shooters\nChance to win guns and gear in our quarterly and annually\nMember Appreciation Giveaways\nTONS of discounts and offers from our Vendor Partners\n20% off all AG & AG apparel and hats\nExclusive members-only matches and clinics\nInvitation to attend the AG & AG Conference\nInvitation to attend the regional Girl’s Getaways\nThe Four Rules by Kathy Jackson of The Cornered Cat\nBasic Pistols Skills by Lynn Givens of Rangemaster\nPersonalized AG & AG designer name tag\nAccess to the AG & AG Shooting Journal\nOfficial membership card\nSpecial discounts from our home range\, Howell’s Gun Shop!\n\nHowell’s Members SHOOT FOR FREE\n\n\n\nNOT A MEMBER? JOIN US!
URL:https://howellsgunshop.com/event/a-girl-a-gun-girls-night-out-2/2024-05-21/
LOCATION:Howell’s Gun Shop\, 81 West Gray Road\, Gray\, ME\, 04039\, United States
CATEGORIES:A Girl & A Gun,All Events,Ladies Only
ATTACH;FMTTYPE=image/png:https://howellsgunshop.com/wp-content/uploads/2022/11/AGAG_ChapterMeeting_GNO-1-2.png
END:VEVENT
BEGIN:VEVENT
DTSTART;TZID=America/New_York:20240227T173000
DTEND;TZID=America/New_York:20240227T183000
DTSTAMP:20260423T163020
CREATED:20231018T162417Z
LAST-MODIFIED:20231219T142032Z
UID:12742-1709055000-1709058600@howellsgunshop.com
SUMMARY:A Girl & A Gun - Girls Night Out
DESCRIPTION:A GIRL & A GUN  – GIRLS NIGHT OUT\n(Supervised/Coached Practice session)\n\nALL EXPERIENCE LEVELS WELCOME!\nTIME: 5:30pm – 6:30pm \nEVENT FEE: $10 payable in STORE on TEAM APP! \nRANGE FEE: Payable to Howells at check-in. Howell’s Members shoot for FREE. AGAG Members shoot for $15. \nRSVP: ENSURE YOU HAVE A SPOT by signing up on the TEAM APP! \nMEMBERS: REMEMBER TO BRING YOUR SHOOTING JOURNALS! \nNOT A MEMBER? JOIN US! \n\nPrerequisite: None! Come as you are. AG&AG events provide an ideal place to learn for women of all skill levels. \nHOWELL’S GUN SHOP WELCOMES\nA Girl & A Gun Women’s Shooting League!\nA Girl & A Gun Women’s Shooting League (AG & AG) is a shooting club established by women shooters for women shooters. AG & AG events are intended to be fun\, social gatherings where women can come together for support\, encouragement\, ask questions in a safe and nonjudgmental environment\, improve on their marksmanship\, and bond together in the shooting community. \nWhat Makes Us Different? \nAll AG & AG events are supervised by female Certified Firearms Instructors. All facilitators are women who can “speak girl” and provide techniques and tips for female shooters. Our goal is to empower\, educate\, and have fun at the range. AG & AG events have been successful stepping stones for thousands of women. At our events and through articles and information\, we provide: \n\nBasics of safe gun handling\nRange etiquette\nProper grip techniques\nStance for accurate shooting\nTrigger control and follow-through\nSight picture and sight alignment and MUCH MORE!\n\nIt’s More Than Shooting\nWhile our mission is to educate women on safe and accurate shooting\, our organization is about so much more than shooting! It’s about empowerment\, support\, friendships\, fun\, self-reliance\, and so much more. Every day we witness the transformation of women who set out to learn how to shoot and in the process discover a confidence in themselves that improves all areas of their lives. Whether you’re interested in competition\, concealed carry\, home defense\, the safe storage of guns in the home\, or you just want to get out of the house and try something new\, please join us at an upcoming event. \nAs A Member Of The National Club\, You Receive:\n\nOur innovative Shooting Journal specifically for women shooters\nChance to win guns and gear in our quarterly and annually\nMember Appreciation Giveaways\nTONS of discounts and offers from our Vendor Partners\n20% off all AG & AG apparel and hats\nExclusive members-only matches and clinics\nInvitation to attend the AG & AG Conference\nInvitation to attend the regional Girl’s Getaways\nThe Four Rules by Kathy Jackson of The Cornered Cat\nBasic Pistols Skills by Lynn Givens of Rangemaster\nPersonalized AG & AG designer name tag\nAccess to the AG & AG Shooting Journal\nOfficial membership card\nSpecial discounts from our home range\, Howell’s Gun Shop!\n\nHowell’s Members SHOOT FOR FREE\n\n\n\nNOT A MEMBER? JOIN US!
URL:https://howellsgunshop.com/event/a-girl-a-gun-girls-night-out-2/
LOCATION:Howell’s Gun Shop\, 81 West Gray Road\, Gray\, ME\, 04039\, United States
CATEGORIES:A Girl & A Gun,All Events,Ladies Only
ATTACH;FMTTYPE=image/png:https://howellsgunshop.com/wp-content/uploads/2022/11/AGAG_ChapterMeeting_GNO-1-2.png
END:VEVENT
END:VCALENDAR