BEGIN:VCALENDAR
VERSION:2.0
PRODID:-//Howell&#039;s Gun Shop - ECPv6.15.20//NONSGML v1.0//EN
CALSCALE:GREGORIAN
METHOD:PUBLISH
X-WR-CALNAME:Howell&#039;s Gun Shop
X-ORIGINAL-URL:https://howellsgunshop.com
X-WR-CALDESC:Events for Howell&#039;s Gun Shop
REFRESH-INTERVAL;VALUE=DURATION:PT1H
X-Robots-Tag:noindex
X-PUBLISHED-TTL:PT1H
BEGIN:VTIMEZONE
TZID:America/New_York
BEGIN:DAYLIGHT
TZOFFSETFROM:-0500
TZOFFSETTO:-0400
TZNAME:EDT
DTSTART:20220313T070000
END:DAYLIGHT
BEGIN:STANDARD
TZOFFSETFROM:-0400
TZOFFSETTO:-0500
TZNAME:EST
DTSTART:20221106T060000
END:STANDARD
BEGIN:DAYLIGHT
TZOFFSETFROM:-0500
TZOFFSETTO:-0400
TZNAME:EDT
DTSTART:20230312T070000
END:DAYLIGHT
BEGIN:STANDARD
TZOFFSETFROM:-0400
TZOFFSETTO:-0500
TZNAME:EST
DTSTART:20231105T060000
END:STANDARD
BEGIN:DAYLIGHT
TZOFFSETFROM:-0500
TZOFFSETTO:-0400
TZNAME:EDT
DTSTART:20240310T070000
END:DAYLIGHT
BEGIN:STANDARD
TZOFFSETFROM:-0400
TZOFFSETTO:-0500
TZNAME:EST
DTSTART:20241103T060000
END:STANDARD
END:VTIMEZONE
BEGIN:VEVENT
DTSTART;TZID=America/New_York:20230829T173000
DTEND;TZID=America/New_York:20230829T190000
DTSTAMP:20260424T054750
CREATED:20221116T135845Z
LAST-MODIFIED:20230809T104125Z
UID:10357-1693330200-1693335600@howellsgunshop.com
SUMMARY:A GIRL & A GUN QUARTERLY MATCH
DESCRIPTION:A GIRL & A GUN\nQUARTERLY MATCH\nTHIS IS AN AG&AG MEMBES ONLY EVENT\n \nLearn more about our Quarterly Match! \nTIME: 5:30pm – 7:00pm\nEVENT FEE: Match Fees paid directly online at agirlandaguncub.org\nRANGE FEE: Payable to Howells at check-in. Howell’s Members shoot for FREE. AGAG Members shoot for $15.\nRSVP: ENSURE YOU HAVE A SPOT by signing up on the TEAM APP!\n\nNOT A MEMBER? JOIN US!
URL:https://howellsgunshop.com/event/a-girl-a-gun-quarterly-match-2-2023-08-29/2023-08-29/
LOCATION:Howell’s Gun Shop\, 81 West Gray Road\, Gray\, ME\, 04039\, United States
CATEGORIES:A Girl & A Gun,All Events
ATTACH;FMTTYPE=image/png:https://howellsgunshop.com/wp-content/uploads/2022/11/AGAG_ChapterMeeting_QuarterlyMatch-1.png
END:VEVENT
END:VCALENDAR