BEGIN:VCALENDAR
VERSION:2.0
PRODID:-//Howell&#039;s Gun Shop - ECPv6.15.20//NONSGML v1.0//EN
CALSCALE:GREGORIAN
METHOD:PUBLISH
X-WR-CALNAME:Howell&#039;s Gun Shop
X-ORIGINAL-URL:https://howellsgunshop.com
X-WR-CALDESC:Events for Howell&#039;s Gun Shop
REFRESH-INTERVAL;VALUE=DURATION:PT1H
X-Robots-Tag:noindex
X-PUBLISHED-TTL:PT1H
BEGIN:VTIMEZONE
TZID:America/New_York
BEGIN:DAYLIGHT
TZOFFSETFROM:-0500
TZOFFSETTO:-0400
TZNAME:EDT
DTSTART:20230312T070000
END:DAYLIGHT
BEGIN:STANDARD
TZOFFSETFROM:-0400
TZOFFSETTO:-0500
TZNAME:EST
DTSTART:20231105T060000
END:STANDARD
BEGIN:DAYLIGHT
TZOFFSETFROM:-0500
TZOFFSETTO:-0400
TZNAME:EDT
DTSTART:20240310T070000
END:DAYLIGHT
BEGIN:STANDARD
TZOFFSETFROM:-0400
TZOFFSETTO:-0500
TZNAME:EST
DTSTART:20241103T060000
END:STANDARD
BEGIN:DAYLIGHT
TZOFFSETFROM:-0500
TZOFFSETTO:-0400
TZNAME:EDT
DTSTART:20250309T070000
END:DAYLIGHT
BEGIN:STANDARD
TZOFFSETFROM:-0400
TZOFFSETTO:-0500
TZNAME:EST
DTSTART:20251102T060000
END:STANDARD
END:VTIMEZONE
BEGIN:VEVENT
DTSTART;TZID=America/New_York:20240813T173000
DTEND;TZID=America/New_York:20240813T183000
DTSTAMP:20260423T173714
CREATED:20231018T162658Z
LAST-MODIFIED:20231219T140756Z
UID:12750-1723570200-1723573800@howellsgunshop.com
SUMMARY:A Girl & A Gun - Quarterly Match
DESCRIPTION:A GIRL & A GUN\nQUARTERLY MATCH\nTHIS IS AN AG&AG MEMBES ONLY EVENT\n \nLearn more about our Quarterly Match! \nTIME: 5:30pm – 7:00pm \nEVENT FEE: $10 payable in STORE on TEAM APP! \nRANGE FEE: Payable to Howells at check-in. Howell’s Members shoot for FREE. AGAG Members shoot for $15. \nRSVP: ENSURE YOU HAVE A SPOT by signing up on the TEAM APP! \nMEMBERS: REMEMBER TO BRING YOUR SHOOTING JOURNALS! \nNOT A MEMBER? JOIN US! \n  \nHere is your chance to compete on a national level in your own backyard — for cash prizes and bragging rights! The AG & AG Quarterly Match is held at one of your regularly scheduled chapter events. Each Match event will be predetermined by the National Match Director to ensure that it is fair for all chapters (See “Scoring and Rules\,” below). Register to participate in the competition so that your scores can be compiled across all of our members! The more members that register the larger the pot\, and the more YOU could win! Good luck!
URL:https://howellsgunshop.com/event/a-girl-a-gun-quarterly-match/2024-08-13/
LOCATION:Howell’s Gun Shop\, 81 West Gray Road\, Gray\, ME\, 04039\, United States
CATEGORIES:A Girl & A Gun,All Events,Ladies Only
ATTACH;FMTTYPE=image/png:https://howellsgunshop.com/wp-content/uploads/2022/11/AGAG_ChapterMeeting_QuarterlyMatch-1.png
END:VEVENT
BEGIN:VEVENT
DTSTART;TZID=America/New_York:20240514T173000
DTEND;TZID=America/New_York:20240514T183000
DTSTAMP:20260423T173714
CREATED:20231018T162658Z
LAST-MODIFIED:20231219T140755Z
UID:12749-1715707800-1715711400@howellsgunshop.com
SUMMARY:A Girl & A Gun - Quarterly Match
DESCRIPTION:A GIRL & A GUN\nQUARTERLY MATCH\nTHIS IS AN AG&AG MEMBES ONLY EVENT\n \nLearn more about our Quarterly Match! \nTIME: 5:30pm – 7:00pm \nEVENT FEE: $10 payable in STORE on TEAM APP! \nRANGE FEE: Payable to Howells at check-in. Howell’s Members shoot for FREE. AGAG Members shoot for $15. \nRSVP: ENSURE YOU HAVE A SPOT by signing up on the TEAM APP! \nMEMBERS: REMEMBER TO BRING YOUR SHOOTING JOURNALS! \nNOT A MEMBER? JOIN US! \n  \nHere is your chance to compete on a national level in your own backyard — for cash prizes and bragging rights! The AG & AG Quarterly Match is held at one of your regularly scheduled chapter events. Each Match event will be predetermined by the National Match Director to ensure that it is fair for all chapters (See “Scoring and Rules\,” below). Register to participate in the competition so that your scores can be compiled across all of our members! The more members that register the larger the pot\, and the more YOU could win! Good luck!
URL:https://howellsgunshop.com/event/a-girl-a-gun-quarterly-match/2024-05-14/
LOCATION:Howell’s Gun Shop\, 81 West Gray Road\, Gray\, ME\, 04039\, United States
CATEGORIES:A Girl & A Gun,All Events,Ladies Only
ATTACH;FMTTYPE=image/png:https://howellsgunshop.com/wp-content/uploads/2022/11/AGAG_ChapterMeeting_QuarterlyMatch-1.png
END:VEVENT
BEGIN:VEVENT
DTSTART;TZID=America/New_York:20240123T173000
DTEND;TZID=America/New_York:20240123T183000
DTSTAMP:20260423T173714
CREATED:20231018T162658Z
LAST-MODIFIED:20231219T140755Z
UID:12747-1706031000-1706034600@howellsgunshop.com
SUMMARY:A Girl & A Gun - Quarterly Match
DESCRIPTION:A GIRL & A GUN\nQUARTERLY MATCH\nTHIS IS AN AG&AG MEMBES ONLY EVENT\n \nLearn more about our Quarterly Match! \nTIME: 5:30pm – 7:00pm \nEVENT FEE: $10 payable in STORE on TEAM APP! \nRANGE FEE: Payable to Howells at check-in. Howell’s Members shoot for FREE. AGAG Members shoot for $15. \nRSVP: ENSURE YOU HAVE A SPOT by signing up on the TEAM APP! \nMEMBERS: REMEMBER TO BRING YOUR SHOOTING JOURNALS! \nNOT A MEMBER? JOIN US! \n  \nHere is your chance to compete on a national level in your own backyard — for cash prizes and bragging rights! The AG & AG Quarterly Match is held at one of your regularly scheduled chapter events. Each Match event will be predetermined by the National Match Director to ensure that it is fair for all chapters (See “Scoring and Rules\,” below). Register to participate in the competition so that your scores can be compiled across all of our members! The more members that register the larger the pot\, and the more YOU could win! Good luck!
URL:https://howellsgunshop.com/event/a-girl-a-gun-quarterly-match/
LOCATION:Howell’s Gun Shop\, 81 West Gray Road\, Gray\, ME\, 04039\, United States
CATEGORIES:A Girl & A Gun,All Events,Ladies Only
ATTACH;FMTTYPE=image/png:https://howellsgunshop.com/wp-content/uploads/2022/11/AGAG_ChapterMeeting_QuarterlyMatch-1.png
END:VEVENT
END:VCALENDAR