BEGIN:VCALENDAR
VERSION:2.0
PRODID:-//Howell&#039;s Gun Shop - ECPv6.15.20//NONSGML v1.0//EN
CALSCALE:GREGORIAN
METHOD:PUBLISH
X-ORIGINAL-URL:https://howellsgunshop.com
X-WR-CALDESC:Events for Howell&#039;s Gun Shop
REFRESH-INTERVAL;VALUE=DURATION:PT1H
X-Robots-Tag:noindex
X-PUBLISHED-TTL:PT1H
BEGIN:VTIMEZONE
TZID:America/New_York
BEGIN:DAYLIGHT
TZOFFSETFROM:-0500
TZOFFSETTO:-0400
TZNAME:EDT
DTSTART:20240310T070000
END:DAYLIGHT
BEGIN:STANDARD
TZOFFSETFROM:-0400
TZOFFSETTO:-0500
TZNAME:EST
DTSTART:20241103T060000
END:STANDARD
BEGIN:DAYLIGHT
TZOFFSETFROM:-0500
TZOFFSETTO:-0400
TZNAME:EDT
DTSTART:20250309T070000
END:DAYLIGHT
BEGIN:STANDARD
TZOFFSETFROM:-0400
TZOFFSETTO:-0500
TZNAME:EST
DTSTART:20251102T060000
END:STANDARD
BEGIN:DAYLIGHT
TZOFFSETFROM:-0500
TZOFFSETTO:-0400
TZNAME:EDT
DTSTART:20260308T070000
END:DAYLIGHT
BEGIN:STANDARD
TZOFFSETFROM:-0400
TZOFFSETTO:-0500
TZNAME:EST
DTSTART:20261101T060000
END:STANDARD
END:VTIMEZONE
BEGIN:VEVENT
DTSTART;TZID=America/New_York:20250906T100000
DTEND;TZID=America/New_York:20250906T120000
DTSTAMP:20260423T180725
CREATED:20241023T185110Z
LAST-MODIFIED:20241023T185110Z
UID:18008-1757152800-1757160000@howellsgunshop.com
SUMMARY:A Girl & A Gun - Brunch & Bullets
DESCRIPTION:Brunch & Bullets\nIf you can’t get away in the evenings\, join us for a potluck\, some optional morning independent range time\, and a classroom presentation on a hot-topic in firearms training and self defense lifestyle! All skill levels welcome.\nPrerequisite: None! Come as you are. AG&AG events provide an ideal place to learn for women of all skill levels. \nEVENT FEE: $10 payable in STORE on TEAM APP! \nRANGE FEE: Optional independent range time is subject to Howell’s standard range rates. \nRSVP: ENSURE YOU HAVE A SPOT by signing up on the TEAM APP! \nNOT AN A GIRL & A GUN MEMBER? JOIN US! \n  \nHOWELL’S GUN SHOP WELCOMES A Girl & A Gun Women’s Shooting League!\nA Girl & A Gun Women’s Shooting League (AG & AG) is a shooting club established by women shooters for women shooters. AG & AG events are intended to be fun\, social gatherings where women can come together for support\, encouragement\, ask questions in a safe and nonjudgmental environment\, improve on their marksmanship\, and bond together in the shooting community. \nJoin today! When you join A Girl & A Gun Women’s Shooting League\, you receive valuable member perks and benefits. You may also have a caring and qualified Facilitator\, who may provide local training opportunities and fun social activities. If not\, you are cordially invited to all of our national and regional events. When you’re a member of one chapter\, you’re a member of all chapters and part of an international sisterhood. We look forward to seeing you at the range! \nLEARN MORE & JOIN US!
URL:https://howellsgunshop.com/event/a-girl-and-a-gun-brunch-and-bullets/2025-09-06/
LOCATION:Howell’s Gun Shop\, 81 West Gray Road\, Gray\, ME\, 04039\, United States
CATEGORIES:A Girl & A Gun,All Events,Ladies Only,Women Only
ATTACH;FMTTYPE=image/png:https://howellsgunshop.com/wp-content/uploads/2024/10/AGAG-SOME-Chapter-Brunch.png
END:VEVENT
BEGIN:VEVENT
DTSTART;TZID=America/New_York:20250308T100000
DTEND;TZID=America/New_York:20250308T120000
DTSTAMP:20260423T180725
CREATED:20241023T185110Z
LAST-MODIFIED:20250531T020630Z
UID:16168-1741428000-1741435200@howellsgunshop.com
SUMMARY:A Girl & A Gun - Brunch & Bullets
DESCRIPTION:Brunch & Bullets\nIf you can’t get away in the evenings\, join us for a potluck\, some optional morning independent range time\, and a classroom presentation on a hot-topic in firearms training and self defense lifestyle! All skill levels welcome.\nPrerequisite: None! Come as you are. AG&AG events provide an ideal place to learn for women of all skill levels. \nEVENT FEE: $10 payable in STORE on TEAM APP! \nRANGE FEE: Optional independent range time is subject to Howell’s standard range rates. \nRSVP: ENSURE YOU HAVE A SPOT by signing up on the TEAM APP! \nNOT AN A GIRL & A GUN MEMBER? JOIN US! \n  \nHOWELL’S GUN SHOP WELCOMES A Girl & A Gun Women’s Shooting League!\nA Girl & A Gun Women’s Shooting League (AG & AG) is a shooting club established by women shooters for women shooters. AG & AG events are intended to be fun\, social gatherings where women can come together for support\, encouragement\, ask questions in a safe and nonjudgmental environment\, improve on their marksmanship\, and bond together in the shooting community. \nJoin today! When you join A Girl & A Gun Women’s Shooting League\, you receive valuable member perks and benefits. You may also have a caring and qualified Facilitator\, who may provide local training opportunities and fun social activities. If not\, you are cordially invited to all of our national and regional events. When you’re a member of one chapter\, you’re a member of all chapters and part of an international sisterhood. We look forward to seeing you at the range! \nLEARN MORE & JOIN US!
URL:https://howellsgunshop.com/event/a-girl-and-a-gun-brunch-and-bullets/2025-03-08/
LOCATION:Howell’s Gun Shop\, 81 West Gray Road\, Gray\, ME\, 04039\, United States
CATEGORIES:A Girl & A Gun,All Events,Ladies Only,Women Only
ATTACH;FMTTYPE=image/png:https://howellsgunshop.com/wp-content/uploads/2024/10/AGAG-SOME-Chapter-Brunch.png
END:VEVENT
END:VCALENDAR