BEGIN:VCALENDAR
VERSION:2.0
PRODID:-//Howell&#039;s Gun Shop - ECPv6.15.20//NONSGML v1.0//EN
CALSCALE:GREGORIAN
METHOD:PUBLISH
X-WR-CALNAME:Howell&#039;s Gun Shop
X-ORIGINAL-URL:https://howellsgunshop.com
X-WR-CALDESC:Events for Howell&#039;s Gun Shop
REFRESH-INTERVAL;VALUE=DURATION:PT1H
X-Robots-Tag:noindex
X-PUBLISHED-TTL:PT1H
BEGIN:VTIMEZONE
TZID:America/New_York
BEGIN:DAYLIGHT
TZOFFSETFROM:-0500
TZOFFSETTO:-0400
TZNAME:EDT
DTSTART:20250309T070000
END:DAYLIGHT
BEGIN:STANDARD
TZOFFSETFROM:-0400
TZOFFSETTO:-0500
TZNAME:EST
DTSTART:20251102T060000
END:STANDARD
BEGIN:DAYLIGHT
TZOFFSETFROM:-0500
TZOFFSETTO:-0400
TZNAME:EDT
DTSTART:20260308T070000
END:DAYLIGHT
BEGIN:STANDARD
TZOFFSETFROM:-0400
TZOFFSETTO:-0500
TZNAME:EST
DTSTART:20261101T060000
END:STANDARD
BEGIN:DAYLIGHT
TZOFFSETFROM:-0500
TZOFFSETTO:-0400
TZNAME:EDT
DTSTART:20270314T070000
END:DAYLIGHT
BEGIN:STANDARD
TZOFFSETFROM:-0400
TZOFFSETTO:-0500
TZNAME:EST
DTSTART:20271107T060000
END:STANDARD
END:VTIMEZONE
BEGIN:VEVENT
DTSTART;TZID=America/New_York:20261016T090000
DTEND;TZID=America/New_York:20261016T170000
DTSTAMP:20260423T124748
CREATED:20251101T094935Z
LAST-MODIFIED:20251101T095017Z
UID:19136-1792141200-1792170000@howellsgunshop.com
SUMMARY:10/16/26 - Advanced Pistol Skills with Tatiana Whitlock
DESCRIPTION:CLICK HERE TO ENROLL\n  \nADVANCED PISTOL SKILLS \nThis course is for the shooter who already owns the basics; solid marksmanship\, dependable reloads\, routine malfunction clearing\, and a practiced holster draw. If you’re comfortable on the line and hungry for next-level challenges\, this class will make your pistol skills indestructible. Through some of Tatiana’s signature drill sets like the Compass Drill and building into the Tempest\, you’ll train to solve problems faster\, shooting from either hand. Make your gun an extension of a decision you’ve already made\, not the obstacle between you and it. \n  \nWHAT YOU’LL LEARN\n Ambidextrous Performance – Shoot\, reload\, and clear malfunctions with either hand.\n One-Handed Fight Skills – Manage reloads\, malfunctions\, and target engagement effectively when only one hand is available.\n Progressive Drill Sets (Assessment → Compass → Tempest) – Move through structured progressions that escalate stress\, speed\, and complexity.\n Dry Fire to Live Fire Integration — Use focused dry-fire practice to ingrain mechanics\, then validate under live fire with expert coaching. \nAdvanced Pistol Skills is not a beginner’s course – it’s designed for shooters who are already comfortable with handgun fundamentals\, and should you choose\, holster skills. This hands-on\, high-impact course is designed for experienced semi-auto shooters ready to elevate resilience\, versatility\, and confidence with their pistols. Expect precise coaching\, demanding drills\, and measurable improvement you can take to the range\, and any situation. \nEQUIPMENT\n●Working semi-automatic handgun (preferably centerfire) \n● 300 rounds factory FMJ (bring more if you want extra live-fire repetitions) \n● Minimum of two (2) magazines; 3+ magazines strongly recommended \n● PPE: Eye & ear protection\, personal med kit \n● IWB/OWB holster (see note below) & magazine pouch(s) \n● Sturdy gun belt \n● Cleaning kit & lubricant \n● High-collared shirt\, cover/concealment garment (bring multiple options)\, base layers or compression garments recommended for comfort when working from concealment holsters \n● Closed-toe shoes required; brimmed ball cap recommended but not required \nNOTE: For safety during live fire\, bra holsters\, soft side-collapsible holsters\, cross-draw\, Serpa\, ankle\, off-body\, and behind-the-back holsters are NOT allowed. \n“I’ve been shooting for years\, but Advanced Pistol Skills took me to the next level. The drills were tough but eye-opening\, and Tatiana’s coaching was spot-on. By the end of the day\, I was confidently handling the gun with either hand and fixing problems on the fly.” — James L. \n  \nREGISTRATION POLICIES & TERMS\nRANGE FEE: $30 payable to Howell’s Gun Shop for any participant that is NOT already a Howell’s member.\nNO VIDEO POLICY! To protect the privacy and learning experience of your fellow students we have adopted a strict NO VIDEO policy during class.\nTERMS: By completing enrollment in this event you confirm that you have read and agree Tatiana Whitlocks Terms of Sale & Event Policies.\nNOTE: This is a hosted course\, registrations are made directly with the guest instructor. Howell’s store credits\, discounts\, or membership perks do not apply. 
URL:https://howellsgunshop.com/event/10-16-26-advanced-pistol-skills-with-tatiana-whitlock/
LOCATION:Howell’s Gun Shop\, 81 West Gray Road\, Gray\, ME\, 04039\, United States
CATEGORIES:Advanced Pistol Skills,All Events
ATTACH;FMTTYPE=image/png:https://howellsgunshop.com/wp-content/uploads/2025/11/101626-APS-ME.png
ORGANIZER;CN="Tatiana Whitlock - Training in Context":MAILTO:training@tatianawhitlock.com
END:VEVENT
END:VCALENDAR