BEGIN:VCALENDAR
VERSION:2.0
PRODID:-//Howell&#039;s Gun Shop - ECPv6.15.20//NONSGML v1.0//EN
CALSCALE:GREGORIAN
METHOD:PUBLISH
X-WR-CALNAME:Howell&#039;s Gun Shop
X-ORIGINAL-URL:https://howellsgunshop.com
X-WR-CALDESC:Events for Howell&#039;s Gun Shop
REFRESH-INTERVAL;VALUE=DURATION:PT1H
X-Robots-Tag:noindex
X-PUBLISHED-TTL:PT1H
BEGIN:VTIMEZONE
TZID:America/New_York
BEGIN:DAYLIGHT
TZOFFSETFROM:-0500
TZOFFSETTO:-0400
TZNAME:EDT
DTSTART:20220313T070000
END:DAYLIGHT
BEGIN:STANDARD
TZOFFSETFROM:-0400
TZOFFSETTO:-0500
TZNAME:EST
DTSTART:20221106T060000
END:STANDARD
BEGIN:DAYLIGHT
TZOFFSETFROM:-0500
TZOFFSETTO:-0400
TZNAME:EDT
DTSTART:20230312T070000
END:DAYLIGHT
BEGIN:STANDARD
TZOFFSETFROM:-0400
TZOFFSETTO:-0500
TZNAME:EST
DTSTART:20231105T060000
END:STANDARD
BEGIN:DAYLIGHT
TZOFFSETFROM:-0500
TZOFFSETTO:-0400
TZNAME:EDT
DTSTART:20240310T070000
END:DAYLIGHT
BEGIN:STANDARD
TZOFFSETFROM:-0400
TZOFFSETTO:-0500
TZNAME:EST
DTSTART:20241103T060000
END:STANDARD
END:VTIMEZONE
BEGIN:VEVENT
DTSTART;TZID=America/New_York:20230503T090000
DTEND;TZID=America/New_York:20230503T170000
DTSTAMP:20260425T182249
CREATED:20221115T141739Z
LAST-MODIFIED:20230330T171802Z
UID:10247-1683104400-1683133200@howellsgunshop.com
SUMMARY:5/3/23 - Handgun Essentials
DESCRIPTION:Handgun Essentials\nDuration Of 8 Hours\nCourse Fee $250\nMembership: Discounts Apply!\nStep 1: New Shooter\nStep 2: Handgun Essentials\nStep 3: Beyond Basics\nStep 4: Defensive Handgun with Tatiana Whitlock \nEstablish essential handgun skills necessary to become a safe semiautomatic handgun owner and marksman. This class thoroughly covers handgun safety awareness\, the basics of handgun mechanics\, safe handling techniques\, and the fundamentals of stance\, grip\, sight picture and alignment. Round out your skill set with malfunction clearing and ammunition management (reloading) techniques with a heavy emphasis on marksmanship and accuracy. By the end of this class\, you will have the knowledge to safely and confidently enjoy shooting your handgun! \n*Please note that this is NOT a revolver class. This course is focused on semiautomatic handguns only. Should you wish you explore revolvers please consider signing up for a private lesson.  \nREQUIRED EQUIPMENT \n\nWorking semiautomatic handgun (preferably a centerfire gun)\nMinimum of two (2) magazines\nAmmunition – 150 rounds\nEye & ear protection\nAttire: Long pants\, high collared shirt or t-shirt\, closed toe shoes\, ball caps recommended.\n\nEVENT REGISTRATION TERMS & CONDITIONS\nCourse Transfer: With 72-hour advance notice of the event date we will issue a unique re-registration code for course transfers.\nCancellation Refund: Refunds for 50% balance of event fee\, if no transfer is possible\, are issued in the form of store gift cards only but ONLY if we are notified of the cancelation up to 72 hours in advance of the event date.\nNo-Call/No-Show: Participants who do not show to the event without prior 72-hour notice forfeit their total registration fees.\nSame Day Cancelations: Same day cancelations are non-refundable as spots in classes are quick to fill and we will be unable to resell that spot in the event or give an individual on a waitlist adequate time to purchase that spot.
URL:https://howellsgunshop.com/event/5-10-23-handgun-essentials/
LOCATION:Howell’s Gun Shop\, 81 West Gray Road\, Gray\, ME\, 04039\, United States
CATEGORIES:All Events,Handgun Essentials
ATTACH;FMTTYPE=image/jpeg:https://howellsgunshop.com/wp-content/uploads/2022/05/Howells_HandgunEssentials.jpg
END:VEVENT
BEGIN:VEVENT
DTSTART;TZID=America/New_York:20230509T090000
DTEND;TZID=America/New_York:20230509T120000
DTSTAMP:20260425T182249
CREATED:20230330T171351Z
LAST-MODIFIED:20230330T172033Z
UID:11467-1683622800-1683633600@howellsgunshop.com
SUMMARY:5/9/23 - New Shooter (AM Class)
DESCRIPTION:New Shooter\nDuration Of 3 Hours\nCourse Fee $150\nMembership: Discounts Apply!\nStep 1: New Shooter\nStep 2: Handgun Essentials\nStep 3: Beyond Basics\nStep 4: Defensive Handgun with Tatiana Whitlock \nHowell’s New Shooters class is designed to provide a hands-on introduction to the safe handling and proper range of use of handguns. This 3-hour class is a great first step for new shooters looking to become safe and responsible gun owners. \nThe goal of this class is to provide essential gun safety skills\, range etiquette\, terminology\, and basic shooting skills to ensure you have a safe and enjoyable experience at the range. Taught by Howell’s certified and friendly instructor team\, this is the class we wish we had the first time we went shooting! \nREQUIRED EQUIPMENT: \n\nHandguns provided for use in class\nAmmunition provided\nEye and ear protection\, available for purchase on-site\nAttire: Long pants\, high collared shirt or t-shirt\, closed-toe shoes\, ball caps recommended.\n*If you would like to bring and shoot your own firearm & 50 rounds of factory ball ammo at the end of the program.\n\nEVENT REGISTRATION TERMS & CONDITIONS\nCourse Transfer: With 72-hour advance notice of the event date we will issue a unique re-registration code for course transfers.\nCancellation Refund: Refunds for 50% balance of event fee\, if no transfer is possible\, are issued in the form of store gift cards only but ONLY if we are notified of the cancelation up to 72 hours in advance of the event date.\nNo-Call/No-Show: Participants who do not show to the event without prior 72-hour notice forfeit their total registration fees.\nSame Day Cancelations: Same day cancelations are non-refundable as spots in classes are quick to fill and we will be unable to resell that spot in the event or give an individual on a waitlist adequate time to purchase that spot.
URL:https://howellsgunshop.com/event/5-9-23-new-shooter-am-class/
LOCATION:Howell’s Gun Shop\, 81 West Gray Road\, Gray\, ME\, 04039\, United States
CATEGORIES:All Events,New Shooter
ATTACH;FMTTYPE=image/jpeg:https://howellsgunshop.com/wp-content/uploads/2022/05/Howells_NewShooter.jpg
END:VEVENT
BEGIN:VEVENT
DTSTART;TZID=America/New_York:20230509T130000
DTEND;TZID=America/New_York:20230509T160000
DTSTAMP:20260425T182249
CREATED:20221121T152703Z
LAST-MODIFIED:20221121T152730Z
UID:10396-1683637200-1683648000@howellsgunshop.com
SUMMARY:5/9/23 - New Shooter
DESCRIPTION:Duration Of 3 Hours\nCourse Fee $100\nMembership: Discounts Apply!\nStep 1: New Shooter\nStep 2: Handgun Essentials\nStep 3: Beyond Basics\nStep 4: Defensive Handgun with Tatiana Whitlock \nHowell’s New Shooters class is designed to provide a hands-on introduction to the safe handling and proper range of use of handguns. This 3-hour class is a great first step for new shooters looking to become safe and responsible gun owners. \nThe goal of this class is to provide essential gun safety skills\, range etiquette\, terminology\, and basic shooting skills to ensure you have a safe and enjoyable experience at the range. Taught by Howell’s certified and friendly instructor team\, this is the class we wish we had the first time we went shooting! \nREQUIRED EQUIPMENT: \n\nHandguns provided for use in class\nAmmunition provided\nEye and ear protection\, available for purchase on-site\nAttire: Long pants\, high collared shirt or t-shirt\, closed-toe shoes\, ball caps recommended.\n*If you would like to bring and shoot your own firearm & 50 rounds of factory ball ammo at the end of the program.\n\nEVENT REGISTRATION TERMS & CONDITIONS\nCourse Transfer: With 72-hour advance notice of the event date we will issue a unique re-registration code for course transfers.\nCancellation Refund: Refunds for 50% balance of event fee\, if no transfer is possible\, are issued in the form of store gift cards only but ONLY if we are notified of the cancelation up to 72 hours in advance of the event date.\nNo-Call/No-Show: Participants who do not show to the event without prior 72-hour notice forfeit their total registration fees.\nSame Day Cancelations: Same day cancelations are non-refundable as spots in classes are quick to fill and we will be unable to resell that spot in the event or give an individual on a waitlist adequate time to purchase that spot.
URL:https://howellsgunshop.com/event/5-9-23-new-shooter/
LOCATION:Howell’s Gun Shop\, 81 West Gray Road\, Gray\, ME\, 04039\, United States
CATEGORIES:All Events,New Shooter
ATTACH;FMTTYPE=image/jpeg:https://howellsgunshop.com/wp-content/uploads/2022/05/Howells_NewShooter.jpg
END:VEVENT
BEGIN:VEVENT
DTSTART;TZID=America/New_York:20230512T090000
DTEND;TZID=America/New_York:20230512T170000
DTSTAMP:20260425T182249
CREATED:20221116T115320Z
LAST-MODIFIED:20221116T115320Z
UID:10304-1683882000-1683910800@howellsgunshop.com
SUMMARY:CARRY WITH CONFIDENCE
DESCRIPTION:CARRY WITH CONFIDENCE with Tatiana Whitlock\nCLICK HERE TO REGISTER\nEXPERIENCE LEVEL: This is NOT a basic pistol course. Students must have comprehensive grasp of range etiquette and basic gun handling and safety skills. Prior formal training on holster skills is strongly recommended.\nCourse:  8 hours\nTuition: $200\nRange Fee: $35 (Active Howell’s Members do not pay range fee) \nCarry with Confidence is 8-Hour class gives you the knowledge\, techniques\, and tips to carry concealed both comfortably and confidently. Topics covered include gear selection\, holster placement\, attire\, lifestyle logistics\, and male vs. female carry challenges. Answer the big questions about comfort and lifestyle to find the set-up that works best for you. The AFTERNOON SESSION is a fun progression of information and drills to build real-world situational awareness\, information processing\, and stress management for all facets of a deadly force encounter. Fine-tune safe and efficient technique to draw & engage from concealment as well as what to do before\, during and after a deadly force event. Learn the essentials to carry with confidence! \nEQUIPMENT \n\nWorking handgun (preferably a centerfire gun)\n200 rounds of factory FMB ball ammunition\nMinimum of two (2) magazines\, 3 magazines are recommended\nEye & ear protection\nOWB Holster\nMagazine pouch(s)\nSturdy gun belt\nMed Kit (If you do not yet own one please consider investing!)\nPlease pack your lunch\, adequate snacks and hydration (both water AND electrolytes).\n\nEQUIPMENT NOTE: For safety reasons bra holsters\, soft side collapsible holsters\, cross draw\, Serpa\, ankle\, off-body and behind-the-back holsters are NOT allowed during the live-fire portion of course. \n\n\n\n\nATTIRE: Please consider bringing a few cover garment options to “Test drive” in class. Also recommended is some sort of base layer or compression garment for those more modest minded who don’t want to reveal more of themselves through the draw stroke from concealmemnt. Range appropriate attire: long pants\, closed-toe shoes\, high collared shirt. Brimmed ball caps recommended but not required. \nREGISTRATION POLICIES & TERMS\nNO VIDEO POLICY! To protect the privacy and learning experience of your fellow students we have adopted a strict NO VIDEO policy during class. \n\n\n\n\nThis is a HOSTED CLASS. Registrations are completed through Tatianawhitlock.com. By completing enrollment in this event you confirm that you have read and agree to Terms of Sale & Event Policies.
URL:https://howellsgunshop.com/event/carry-with-confidence/
LOCATION:Howell’s Gun Shop\, 81 West Gray Road\, Gray\, ME\, 04039\, United States
CATEGORIES:All Events,FEATURED INSTRUCTORS
ATTACH;FMTTYPE=image/png:https://howellsgunshop.com/wp-content/uploads/2022/11/Screen-Shot-2022-11-16-at-6.52.39-AM.png
ORGANIZER;CN="Tatiana Whitlock - Training in Context":MAILTO:training@tatianawhitlock.com
END:VEVENT
BEGIN:VEVENT
DTSTART;TZID=America/New_York:20230516T090000
DTEND;TZID=America/New_York:20230516T120000
DTSTAMP:20260425T182249
CREATED:20221121T162008Z
LAST-MODIFIED:20230330T172138Z
UID:10448-1684227600-1684238400@howellsgunshop.com
SUMMARY:5/16/23 - Maine Concealed Carry
DESCRIPTION:MAINE CONCEALED CARRY\nDuration Of 3 Hours\nCourse Fee $150\n\nMembership: Discounts Apply!\nPrerequisite: This is NOT a basic pistol or holster skills course. Participants are encouraged to first take a private lesson or a new shooter course if they have not shot a gun before or if they are returning to shooting from a long hiatus. \nCOURSE DESCRIPTION\nThis is a 3-hour class covers the various rules to carry a concealed firearm in the State of Maine. A certificate from the successful completion of this class is applicable to use in the Maine Concealed Carry Application process. Topics will include Range Rules\, Safe Handling Rules\, Safe Storage & Transportation\, Personal Responsibility and Liability\, Firearm Selection Criteria\, Modifications/Accessories\, Carry Gear vs Range Gear\, Ammunition Selection\, mindset\,  use of force\, the disparity of force\, castle doctrine\, stand your ground\, talking to the police\, and continuing education. \nParticipants are expected to know how to operate a semiautomatic handgun\, or a revolver if supplying their own gun\, for the shooting qualification. To successfully pass this class participants must be able to demonstrate basic handgun skills including loading and making ready\, following range commands through two 5-round courses of fire (for a total of 10 rounds)\, and safely clear and bench their gun. Participants must be able to demonstrate the four rules of gun safety at all times through the entire course of fire. If you feel these are not a skill sets you are able to demonstrate at this time we encourage you to first take a Private Lesson or enroll in a New Shooter course. \nREQUIRED EQUIPMENT \n\nEye & ear protection\nClosed-toe shoes\nHigh collared shirt\nBrimmed ball caps recommended\nNotebook & Pen\nAll firearms and ammunition for the live fire qualification are provided by Howell’s.\n*If you would like to bring your own firearm you are welcome to do so. You are required to bring 10 rounds of factory FMJ ball ammunition\, in your handgun caliber of choice\, to shoot the final live fire qualification.\n\nPASS or CLASS: A participant that completes the classroom session and can safely demonstrate gun safety and safely shoot the qualification with a total of 10 rounds on target will PASS this class and a certificate of completion will be issued. In the event that a participant completes the classroom session but does not meet the safety or basic gun handling skills requirements\, the participant will receive a CLASS recommendation and the certificate will be deferred until training is completed to successfully reshoot and pass the qual. It is up to the participant that receives a CLASS recommendation to book either a private lesson or enroll in a New Shooter program of their choice in order to have an opportunity to receive the necessary training to successfully reshoot the qual. After successfully performing the qual Howells will then issue the Maine Concealed Carry certificate of completion. \nEVENT REGISTRATION TERMS & CONDITIONS\nCourse Transfer: With 72-hour advance notice of the event date we will issue a unique re-registration code for course transfers.\nCancellation Refund: Refunds for 50% balance of event fee\, if no transfer is possible\, are issued in the form of store gift cards only but ONLY if we are notified of the cancelation up to 72 hours in advance of the event date.\nNo-Call/No-Show: Participants who do not show to the event without prior 72-hour notice forfeit their total registration fees.\nSame Day Cancelations: Same day cancelations are non-refundable as spots in classes are quick to fill and we will be unable to resell that spot in the event or give an individual on a waitlist adequate time to purchase that spot.
URL:https://howellsgunshop.com/event/5-16-23-maine-concealed-carry/
LOCATION:Howell’s Gun Shop\, 81 West Gray Road\, Gray\, ME\, 04039\, United States
CATEGORIES:All Events,Maine Concealed Carry
ATTACH;FMTTYPE=image/png:https://howellsgunshop.com/wp-content/uploads/2022/05/image-5.png
END:VEVENT
BEGIN:VEVENT
DTSTART;TZID=America/New_York:20230523T130000
DTEND;TZID=America/New_York:20230523T160000
DTSTAMP:20260425T182249
CREATED:20221121T152959Z
LAST-MODIFIED:20230330T172244Z
UID:10399-1684846800-1684857600@howellsgunshop.com
SUMMARY:5/23/23 - New Shooter
DESCRIPTION:Duration Of 3 Hours\nCourse Fee $150\nMembership: Discounts Apply!\nStep 1: New Shooter\nStep 2: Handgun Essentials\nStep 3: Beyond Basics\nStep 4: Defensive Handgun with Tatiana Whitlock \nHowell’s New Shooters class is designed to provide a hands-on introduction to the safe handling and proper range of use of handguns. This 3-hour class is a great first step for new shooters looking to become safe and responsible gun owners. \nThe goal of this class is to provide essential gun safety skills\, range etiquette\, terminology\, and basic shooting skills to ensure you have a safe and enjoyable experience at the range. Taught by Howell’s certified and friendly instructor team\, this is the class we wish we had the first time we went shooting! \nREQUIRED EQUIPMENT: \n\nHandguns provided for use in class\nAmmunition provided\nEye and ear protection\, available for purchase on-site\nAttire: Long pants\, high collared shirt or t-shirt\, closed-toe shoes\, ball caps recommended.\n*If you would like to bring and shoot your own firearm & 50 rounds of factory ball ammo at the end of the program.\n\nEVENT REGISTRATION TERMS & CONDITIONS\nCourse Transfer: With 72-hour advance notice of the event date we will issue a unique re-registration code for course transfers.\nCancellation Refund: Refunds for 50% balance of event fee\, if no transfer is possible\, are issued in the form of store gift cards only but ONLY if we are notified of the cancelation up to 72 hours in advance of the event date.\nNo-Call/No-Show: Participants who do not show to the event without prior 72-hour notice forfeit their total registration fees.\nSame Day Cancelations: Same day cancelations are non-refundable as spots in classes are quick to fill and we will be unable to resell that spot in the event or give an individual on a waitlist adequate time to purchase that spot.
URL:https://howellsgunshop.com/event/5-23-23-new-shooter/
LOCATION:Howell’s Gun Shop\, 81 West Gray Road\, Gray\, ME\, 04039\, United States
CATEGORIES:All Events,New Shooter
ATTACH;FMTTYPE=image/jpeg:https://howellsgunshop.com/wp-content/uploads/2022/05/Howells_NewShooter.jpg
END:VEVENT
BEGIN:VEVENT
DTSTART;TZID=America/New_York:20230524T180000
DTEND;TZID=America/New_York:20230524T190000
DTSTAMP:20260425T182249
CREATED:20221221T220004Z
LAST-MODIFIED:20221221T222001Z
UID:10985-1684951200-1684954800@howellsgunshop.com
SUMMARY:5/24/23 - Youth Safety League
DESCRIPTION:Howell’s Youth Safety League is a monthly 60 minute lesson and range time for students 10 to 18 designed to instill firearm safety\, education and marksmanship skills. This program is an opportunity for our young students to learn with others\, make friends\, build character\, and continue the tradition of shooting sports and safety practices. This league is open to all students whom have taken a private lesson at Howell’s within one calendar year where the basics of range safety and etiquette are taught on a one-on-one basis. Students must be accompanied by a participating parent/guardian over the age of 21 years old. \nMontly meetings focus on safety and a themed lesson on marksmanship and precision. Participants then transition to the range to shoot the NRA Pistol Qualification and NRA Rifle Qualification exercises and progress through the series at their own pace. Individual coaching\, safety monitors (RSO’s) are present to support each participant and their accompanying parent/guardian in the range at all times. \nRequired Equipment \n\n.22lr\, 380 or 9mm Semi Automatic handguns provided\nParticipants are welcome to bring their own .22lr\, 380 or 9mm Semi Automatic handguns to work with during class\n100 to 150 rounds of caliber appropriate FMJ Ball ammunition estimated per class\nAmmunition can be purchased at check-in if utilizing Howell’s equipment\nHowell’s equipment requires ammunition purchase from Howell’s (nothing brought in from home please.)\nEye protection for both participant and guardian (available for purchase at check-in)\nHearing protection for both participant and guardian (available for purchase at check-in)\nRange appropriate attire for both participant and parent/guardian\nClosed toe shoes for both participant and guardian\nA good attitude and an open mind 🙂\n\n\n\nHOWELL’S TERMS – CLASS CANCELLATIONS \nNo Call/No Show: All no-call/no-show participants will be non-refundable not eligible for store credit or transfer. \nLate Arrival: Arriving more than 15 minutes after class start time is considered no-call/no-show. \nStudent Cancelation: Refunds for 100% balance of event fee\, if no transfer is possible\, are issued ONLY if we are notified of the cancellation more than 48 hours in advance of the event date. Notifications received within 48 hours of the event date are eligible for 50% refund or 50% tuition value applied towards an upcoming course within one calendar year. \nHowell’s Cancelation: Should Howell’s need to cancel a class students will be contacted via email\, phone and/or text with as much notice as possible. All students will be provided an option to transfer into an upcoming event of their choosing or receive a full refund. \nStudent Transfer: One transfer is permitted per original transaction\, per customer\, within the terms outlined above\, and must be conducted within a calendar year of the original booking date. \nGuest Instructors: There are no refunds or transfers on guest instructor classes including Defensive Handgun through Howell’s Gun Shop. No Exceptions. When a student enrolls for a hosted class\, the student accepts the terms of the company (instructor) they are registering through. Please read their terms and conditions before enrolling and direct any questions regarding cancelations to them directly. \nTo Change or Cancel YourReservation: All inquiries must be made via phone 207-657-4323 and/or email training@howellsgunshop.com. Please be prepared to provide your name\, email address and order number. \nWEBSITE DISCLAIMER \nAll items on this website are subject to change without notice. This includes item availability\, one-of-a-kind items\, and pricing.
URL:https://howellsgunshop.com/event/5-25-23-youth-safety-league/
LOCATION:Howell’s Gun Shop\, 81 West Gray Road\, Gray\, ME\, 04039\, United States
CATEGORIES:All Events,Youth Safety League
ATTACH;FMTTYPE=image/jpeg:https://howellsgunshop.com/wp-content/uploads/2022/03/Howells-Youth-Safety-League.jpg
END:VEVENT
BEGIN:VEVENT
DTSTART;TZID=America/New_York:20230530T090000
DTEND;TZID=America/New_York:20230530T120000
DTSTAMP:20260425T182249
CREATED:20221121T162136Z
LAST-MODIFIED:20230330T172431Z
UID:10451-1685437200-1685448000@howellsgunshop.com
SUMMARY:5/30/23 - Maine Concealed Carry
DESCRIPTION:MAINE CONCEALED CARRY\nDuration Of 3 Hours\nCourse Fee $150\n\nMembership: Discounts Apply!\nPrerequisite: This is NOT a basic pistol or holster skills course. Participants are encouraged to first take a private lesson or a new shooter course if they have not shot a gun before or if they are returning to shooting from a long hiatus. \nCOURSE DESCRIPTION\nThis is a 3-hour class covers the various rules to carry a concealed firearm in the State of Maine. A certificate from the successful completion of this class is applicable to use in the Maine Concealed Carry Application process. Topics will include Range Rules\, Safe Handling Rules\, Safe Storage & Transportation\, Personal Responsibility and Liability\, Firearm Selection Criteria\, Modifications/Accessories\, Carry Gear vs Range Gear\, Ammunition Selection\, mindset\,  use of force\, the disparity of force\, castle doctrine\, stand your ground\, talking to the police\, and continuing education. \nParticipants are expected to know how to operate a semiautomatic handgun\, or a revolver if supplying their own gun\, for the shooting qualification. To successfully pass this class participants must be able to demonstrate basic handgun skills including loading and making ready\, following range commands through two 5-round courses of fire (for a total of 10 rounds)\, and safely clear and bench their gun. Participants must be able to demonstrate the four rules of gun safety at all times through the entire course of fire. If you feel these are not a skill sets you are able to demonstrate at this time we encourage you to first take a Private Lesson or enroll in a New Shooter course. \nREQUIRED EQUIPMENT \n\nEye & ear protection\nClosed-toe shoes\nHigh collared shirt\nBrimmed ball caps recommended\nNotebook & Pen\nAll firearms and ammunition for the live fire qualification are provided by Howell’s.\n*If you would like to bring your own firearm you are welcome to do so. You are required to bring 10 rounds of factory FMJ ball ammunition\, in your handgun caliber of choice\, to shoot the final live fire qualification.\n\nPASS or CLASS: A participant that completes the classroom session and can safely demonstrate gun safety and safely shoot the qualification with a total of 10 rounds on target will PASS this class and a certificate of completion will be issued. In the event that a participant completes the classroom session but does not meet the safety or basic gun handling skills requirements\, the participant will receive a CLASS recommendation and the certificate will be deferred until training is completed to successfully reshoot and pass the qual. It is up to the participant that receives a CLASS recommendation to book either a private lesson or enroll in a New Shooter program of their choice in order to have an opportunity to receive the necessary training to successfully reshoot the qual. After successfully performing the qual Howells will then issue the Maine Concealed Carry certificate of completion. \nEVENT REGISTRATION TERMS & CONDITIONS\nCourse Transfer: With 72-hour advance notice of the event date we will issue a unique re-registration code for course transfers.\nCancellation Refund: Refunds for 50% balance of event fee\, if no transfer is possible\, are issued in the form of store gift cards only but ONLY if we are notified of the cancelation up to 72 hours in advance of the event date.\nNo-Call/No-Show: Participants who do not show to the event without prior 72-hour notice forfeit their total registration fees.\nSame Day Cancelations: Same day cancelations are non-refundable as spots in classes are quick to fill and we will be unable to resell that spot in the event or give an individual on a waitlist adequate time to purchase that spot.
URL:https://howellsgunshop.com/event/5-30-23-maine-concealed-carry/
LOCATION:Howell’s Gun Shop\, 81 West Gray Road\, Gray\, ME\, 04039\, United States
CATEGORIES:All Events,Maine Concealed Carry
ATTACH;FMTTYPE=image/png:https://howellsgunshop.com/wp-content/uploads/2022/05/image-5.png
END:VEVENT
BEGIN:VEVENT
DTSTART;TZID=America/New_York:20230531T090000
DTEND;TZID=America/New_York:20230531T170000
DTSTAMP:20260425T182249
CREATED:20221121T170438Z
LAST-MODIFIED:20230525T005542Z
UID:10497-1685523600-1685552400@howellsgunshop.com
SUMMARY:5/31/23 - Beyond Basics
DESCRIPTION:Beyond Basics\nDuration Of 8 Hours\nCourse Fee $250\nMembership: Discounts Apply!\nStep 1: New Shooter\nStep 2: Handgun Essentials\nStep 3: Beyond Basics\nStep 4: Defensive Handgun with Tatiana Whitlock \n\n\n\n\n\n\nAn ideal class for newer shooters looking to learn critical holster skills or a refresher for more experienced shooters\, competitors or those pursuing concealed carry. This class thoroughly covers safe and efficient holster skills\, moving and shooting\, shooting while moving and an introduction to low light shooting. The emphasis of this program is to move bench shooters to open range work from a holster and working with tertiary gear (extra magazines) worn on-body. A fun and dynamic day of shooting designed to take you to the next level! \nREQUIRED EQUIPMENT \n\nWorking handgun (preferably a centerfire gun)\nMinimum of two (2) magazines\nKydex or rigid leather holster worn outside the waistband (OWB) strong side hip\nMagazine pouch(s)\nSturdy gun belt is required for this class\nAmmunition – 200 rounds\nEye & ear protection\nAttire: Long pants\, high collared shirt or t-shirt\, closed toe shoes\, ball caps recommended\n\n\n\n\n\n\n\n\n\n\n\nEVENT REGISTRATION TERMS & CONDITIONS\nCourse Transfer: With 72-hour advance notice of event date we will issue a unique re-registration code for course transfers.\nCancellation Refund: Refunds for 50% balance of event fee\, if no transfer is possible\, are issued in the form of store gift cards only but ONLY if we are notified of the cancelation up to 72 hours in advance of the event date.\nNo-Call/No-Show: Participants who do not show to the event without prior 72-hour notice forfeit their total registration fees.\nSame Day Cancelations: Same day cancelations are non-refundable as spots in classes are quick to fill and we will be unable to resell that spot in the event or give an individual on a wait list adequate time to purchase that spot.
URL:https://howellsgunshop.com/event/5-31-23-beyond-basics/
LOCATION:Howell’s Gun Shop\, 81 West Gray Road\, Gray\, ME\, 04039\, United States
CATEGORIES:All Events,Beyond Basics
ATTACH;FMTTYPE=image/jpeg:https://howellsgunshop.com/wp-content/uploads/2019/12/Howells_BeyondBasics.jpg
END:VEVENT
END:VCALENDAR