BEGIN:VCALENDAR
VERSION:2.0
PRODID:-//Howell&#039;s Gun Shop - ECPv6.15.20//NONSGML v1.0//EN
CALSCALE:GREGORIAN
METHOD:PUBLISH
X-ORIGINAL-URL:https://howellsgunshop.com
X-WR-CALDESC:Events for Howell&#039;s Gun Shop
REFRESH-INTERVAL;VALUE=DURATION:PT1H
X-Robots-Tag:noindex
X-PUBLISHED-TTL:PT1H
BEGIN:VTIMEZONE
TZID:America/New_York
BEGIN:DAYLIGHT
TZOFFSETFROM:-0500
TZOFFSETTO:-0400
TZNAME:EDT
DTSTART:20240310T070000
END:DAYLIGHT
BEGIN:STANDARD
TZOFFSETFROM:-0400
TZOFFSETTO:-0500
TZNAME:EST
DTSTART:20241103T060000
END:STANDARD
BEGIN:DAYLIGHT
TZOFFSETFROM:-0500
TZOFFSETTO:-0400
TZNAME:EDT
DTSTART:20250309T070000
END:DAYLIGHT
BEGIN:STANDARD
TZOFFSETFROM:-0400
TZOFFSETTO:-0500
TZNAME:EST
DTSTART:20251102T060000
END:STANDARD
BEGIN:DAYLIGHT
TZOFFSETFROM:-0500
TZOFFSETTO:-0400
TZNAME:EDT
DTSTART:20260308T070000
END:DAYLIGHT
BEGIN:STANDARD
TZOFFSETFROM:-0400
TZOFFSETTO:-0500
TZNAME:EST
DTSTART:20261101T060000
END:STANDARD
END:VTIMEZONE
BEGIN:VEVENT
DTSTART;TZID=America/New_York:20251202T090000
DTEND;TZID=America/New_York:20251202T120000
DTSTAMP:20260423T154458
CREATED:20250412T165725Z
LAST-MODIFIED:20251202T020152Z
UID:17673-1764666000-1764676800@howellsgunshop.com
SUMMARY:Canceled - Ladies Only - New Shooter
DESCRIPTION:A NEW SHOOTER CLASS FOR WOMEN – TAUGHT BY WOMEN!\n\nWelcome to the World of Safe Shooting! \nAre you ready to take your first step toward becoming a confident\, responsible gun owner? Our New Shooters class at Howell’s is designed just for you! We know how intimidating it can feel at first\, but don’t worry—you’ll be guided every step of the way by our friendly and certified instructors. \nIn this hands-on\, 3-hour class\, you’ll learn everything you need to know to safely handle and shoot a semi-automatic handgun. We’ll cover essential safety skills\, range etiquette\, and the basic techniques to ensure you feel comfortable and in control. \nThis course is your chance to gain the knowledge and confidence to enjoy shooting safely\, all in a supportive and welcoming environment. It’s the class we wish we had when we first started! \nJoin us\, and let’s make your first range experience safe\, fun\, and empowering! \nREQUIRED EQUIPMENT: \n\nHandguns provided for use in class\nAmmunition provided\nEye and ear protection\, available for purchase on-site\nAttire: Long pants\, high collared shirt or t-shirt\, closed-toe shoes\, ball caps recommended.\n*If you would like to bring and shoot your firearm & 50 rounds of factory ball ammo at the end of the program – time permitting.\n\n  \nEVENT REGISTRATION TERMS & CONDITIONS\nCourse Transfer: With 72-hour advance notice of the event date\, we will issue a unique re-registration code for course transfers.\nCancellation Refund: Refunds for 50% of the balance of the event fee\, if no transfer is possible\, are issued in-store gift cards only\, but ONLY if we are notified of the cancelation up to 72 hours before the event date.\nNo-Call/No-Show: Participants who do not attend the event without prior 72-hour notice forfeit their total registration fees.\nSame-Day Cancelations: Same-day cancelations are non-refundable as spots in classes are quick to fill\, and we will be unable to resell that spot in the event or give an individual on a waitlist adequate time to purchase that spot.
URL:https://howellsgunshop.com/event/12-2-25-ladies-only-new-shooter/
LOCATION:Howell’s Gun Shop\, 81 West Gray Road\, Gray\, ME\, 04039\, United States
CATEGORIES:All Events,Ladies New Shooter
ATTACH;FMTTYPE=image/png:https://howellsgunshop.com/wp-content/uploads/2022/11/Howells-HA-2.png
END:VEVENT
BEGIN:VEVENT
DTSTART;TZID=America/New_York:20251202T173000
DTEND;TZID=America/New_York:20251202T190000
DTSTAMP:20260423T154458
CREATED:20241023T160301Z
LAST-MODIFIED:20251106T210710Z
UID:18006-1764696600-1764702000@howellsgunshop.com
SUMMARY:A Girl & A Gun - Chapter Clinic
DESCRIPTION:A GIRL & A GUN Chapter Training Clinic – All skill levels welcome! \nTIME: 5:30pm – 7:00pm \nEVENT FEE: $10 payable in STORE on TEAM APP! \nRANGE FEE: Payable to Howells at check-in. Howell’s Members shoot for FREE. AGAG Members shoot for $15. \nRSVP: ENSURE YOU HAVE A SPOT by signing up on the TEAM APP! \nNOT AN A GIRL & A GUN MEMBER? JOIN US! \n\nPrerequisite: None! Come as you are. AG&AG events provide an ideal place to learn for women of all skill levels. \nHOWELL’S GUN SHOP WELCOMES A Girl & A Gun Women’s Shooting League!\nA Girl & A Gun Women’s Shooting League (AG & AG) is a shooting club established by women shooters for women shooters. AG & AG events are intended to be fun\, social gatherings where women can come together for support\, encouragement\, ask questions in a safe and nonjudgmental environment\, improve on their marksmanship\, and bond together in the shooting community. \nJoin today! When you join A Girl & A Gun Women’s Shooting League\, you receive valuable member perks and benefits. You may also have a caring and qualified Facilitator\, who may provide local training opportunities and fun social activities. If not\, you are cordially invited to all of our national and regional events. When you’re a member of one chapter\, you’re a member of all chapters and part of an international sisterhood. We look forward to seeing you at the range! \nLEARN MORE & JOIN US!
URL:https://howellsgunshop.com/event/a-girl-a-gun-chapter-clinic/2025-12-02/
LOCATION:Howell’s Gun Shop\, 81 West Gray Road\, Gray\, ME\, 04039\, United States
CATEGORIES:A Girl & A Gun,All Events,Ladies Only,Women Only
ATTACH;FMTTYPE=image/jpeg:https://howellsgunshop.com/wp-content/uploads/2019/12/Howells_AGAG.jpg
END:VEVENT
BEGIN:VEVENT
DTSTART;TZID=America/New_York:20251203T090000
DTEND;TZID=America/New_York:20251203T123000
DTSTAMP:20260423T154458
CREATED:20250412T174616Z
LAST-MODIFIED:20251020T162859Z
UID:17710-1764752400-1764765000@howellsgunshop.com
SUMMARY:12/3/25 - Maine Concealed Carry
DESCRIPTION:Maine Concealed Carry Permit Course: Your Path to Responsible\, Confident Carry \nReady to take the next step in your firearm journey? Our 3-hour Concealed Carry Permit course is designed for intermediate shooters who are serious about carrying a concealed firearm responsibly in the state of Maine. This class provides all the essential knowledge and a certificate needed for your Maine Concealed Carry Application. \nYou’ll dive deep into key topics\, including: \n\nMaine’s concealed carry laws and legal responsibilities\nSafe storage\, transportation\, and handling of your firearm\nThe right firearm\, ammunition\, and gear for concealed carry\nLegal concepts like the use of force\, castle doctrine\, and stand your ground\nInteracting with law enforcement\nAnd more\, including mindset\, personal responsibility\, and continuing education\n\nThis course goes beyond the basics\, empowering you to carry with confidence and understand the serious responsibilities that come with concealed carry. \nREQUIRED EQUIPMENT \n\nEye & ear protection\nClosed-toe shoes\nHigh collared shirt\nBrimmed ball caps recommended\nNotebook & Pen\nAll firearms and ammunition for the live fire qualification are provided by Howell’s.\n*If you would like to bring your own firearm you are welcome to do so. You are required to bring 10 rounds of factory FMJ ball ammunition\, in your handgun caliber of choice\, to shoot the final live fire qualification.\n\nPASS or CLASS: What You Need to Know \nTo pass this class\, participants must complete the classroom session and demonstrate basic range\, gun handling and shooting safety skills in our live-fire qualification. Those who pass will receive a certificate of completion. If a participant finishes the classroom session but does not meet the safety or basic gun handling requirements\, they will receive a CLASS recommendation instead of a certificate. The certificate will be deferred until the participant completes additional training\, such as a private lesson or New Shooter program\, and successfully retakes the qualification. Once the qualification is passed\, Howells will issue the Maine Concealed Carry certificate. \nWhat to Expect: Participants must already be familiar with operating a semi-automatic handgun or revolver for the qualification test. You’ll demonstrate key skills such as safe loading\, following range commands\, and completing two 5-round courses of fire. Safety is our top priority—proficiency in gun safety and handling is required at all times during the course. \nNot sure you’re ready? We recommend brushing up with a Private Lesson or our New Shooter course to ensure you’re prepared for this next level. \n  \nEVENT REGISTRATION TERMS & CONDITIONS\nCourse Transfer: With 72-hour advance notice of the event date we will issue a unique re-registration code for course transfers.\nCancellation Refund: Refunds for 50% balance of event fee\, if no transfer is possible\, are issued in the form of store gift cards only but ONLY if we are notified of the cancelation up to 72 hours in advance of the event date.\nNo-Call/No-Show: Participants who do not show to the event without prior 72-hour notice forfeit their total registration fees.\nSame Day Cancelations: Same day cancelations are non-refundable as spots in classes are quick to fill and we will be unable to resell that spot in the event or give an individual on a waitlist adequate time to purchase that spot.
URL:https://howellsgunshop.com/event/12-3-25-maine-concealed-carry/
LOCATION:Howell’s Gun Shop\, 81 West Gray Road\, Gray\, ME\, 04039\, United States
CATEGORIES:All Events,Maine Concealed Carry
ATTACH;FMTTYPE=image/png:https://howellsgunshop.com/wp-content/uploads/2022/05/image-5.png
END:VEVENT
BEGIN:VEVENT
DTSTART;TZID=America/New_York:20251209T090000
DTEND;TZID=America/New_York:20251209T160000
DTSTAMP:20260423T154458
CREATED:20250401T171932Z
LAST-MODIFIED:20250401T171932Z
UID:17504-1765270800-1765296000@howellsgunshop.com
SUMMARY:12/9/25 – Handgun Essentials
DESCRIPTION:Become Confident and Safe with Your Handgun! \nReady to start your journey as a responsible and skilled handgun owner? Our Handgun Essentials course is perfect for new shooters who want to build a strong foundation in safety\, accuracy\, and technique. \nWe highly recommend taking our Step 1: New Shooter course first to ensure you’re ready to dive into this next level of training. In this class\, you’ll master the core principles of handgun mechanics\, safe handling\, and marksmanship. Learn how to properly grip your firearm\, align your sights\, and adopt a solid stance for consistent accuracy. \nBut that’s not all—we’ll also guide you through real-world skills like malfunction clearing and efficient reloading techniques\, so you’re prepared for anything at the range. By the end\, you’ll have the confidence and control to enjoy shooting with precision and safety. \nJoin us and take the first step toward becoming a proficient marksman! \n*Please note that this is NOT a revolver class. This course is focused on semiautomatic handguns only. Should you wish you explore revolvers please consider signing up for a private lesson.  \nREQUIRED EQUIPMENT \n\nPlease plan to pack a lunch/snacks and beverages\nWorking semiautomatic handgun (preferably a centerfire gun)\nMinimum of two (2) magazines\nAmmunition – 150 rounds\nEye & ear protection\nAttire: Long pants\, high collared shirt or t-shirt\, closed toe shoes\, ball caps recommended.\n*Firearms may be rented from our collection and area viable on a first-come-first serve basis. If you would like to rent a firearm to participate in this class please plan on arriving early and request a rental at the check-in counter. Our staff will assist in outfitting you with the right gear for a great day on the range!\n\nEVENT REGISTRATION TERMS & CONDITIONS\nCourse Transfer: With 72-hour advance notice of the event date we will issue a unique re-registration code for course transfers.\nCancellation Refund: Refunds for 50% balance of event fee\, if no transfer is possible\, are issued in the form of store gift cards only but ONLY if we are notified of the cancelation up to 72 hours in advance of the event date.\nNo-Call/No-Show: Participants who do not show to the event without prior 72-hour notice forfeit their total registration fees.\nSame Day Cancelations: Same day cancelations are non-refundable as spots in classes are quick to fill and we will be unable to resell that spot in the event or give an individual on a waitlist adequate time to purchase that spot.
URL:https://howellsgunshop.com/event/12-9-25-handgun-essentials/
LOCATION:Howell’s Gun Shop\, 81 West Gray Road\, Gray\, ME\, 04039\, United States
CATEGORIES:All Events,Handgun Essentials
ATTACH;FMTTYPE=image/jpeg:https://howellsgunshop.com/wp-content/uploads/2022/05/Howells_HandgunEssentials.jpg
END:VEVENT
BEGIN:VEVENT
DTSTART;TZID=America/New_York:20251212T090000
DTEND;TZID=America/New_York:20251212T170000
DTSTAMP:20260423T154458
CREATED:20250412T180858Z
LAST-MODIFIED:20251208T180311Z
UID:17721-1765530000-1765558800@howellsgunshop.com
SUMMARY:CANCELED - Beyond Basics
DESCRIPTION:Whether you’re a newer shooter eager to master holster skills or an experienced shooter seeking a refresher\, this class is perfect for taking your abilities to the next level! You’ll learn safe and efficient holster techniques\, practice shooting while moving\, and get an introduction to low light shooting—all while working from an open range environment. With a focus on transitioning from bench shooting to on-the-move drills and managing extra magazines\, this fun and dynamic course is designed to boost your confidence and skills for competition\, home defense or concealed carry! \n\n\n\n\n\n\nREQUIRED EQUIPMENT \n\nWorking handgun (preferably a centerfire gun)\nMinimum of two (2) magazines\nKydex or rigid leather holster worn outside the waistband (OWB) strong side hip\nMagazine pouch(s)\nSturdy gun belt is required for this class\nAmmunition – 200 rounds\nEye & ear protection\nAttire: Long pants\, high collared shirt or t-shirt\, closed toe shoes\, ball caps recommended\n\n\n\n\n\n\n\n\n\n\n\nEVENT REGISTRATION TERMS & CONDITIONS\nCourse Transfer: With 72-hour advance notice of event date we will issue a unique re-registration code for course transfers.\nCancellation Refund: Refunds for 50% balance of event fee\, if no transfer is possible\, are issued in the form of store gift cards only but ONLY if we are notified of the cancelation up to 72 hours in advance of the event date.\nNo-Call/No-Show: Participants who do not show to the event without prior 72-hour notice forfeit their total registration fees.\nSame Day Cancelations: Same day cancelations are non-refundable as spots in classes are quick to fill and we will be unable to resell that spot in the event or give an individual on a wait list adequate time to purchase that spot.
URL:https://howellsgunshop.com/event/12-12-25-beyond-basics/
LOCATION:Howell’s Gun Shop\, 81 West Gray Road\, Gray\, ME\, 04039\, United States
CATEGORIES:All Events,Beyond Basics
ATTACH;FMTTYPE=image/png:https://howellsgunshop.com/wp-content/uploads/2025/11/Howells-BeyondBasics.png
END:VEVENT
BEGIN:VEVENT
DTSTART;TZID=America/New_York:20251213T090000
DTEND;TZID=America/New_York:20251213T120000
DTSTAMP:20260423T154458
CREATED:20250401T173352Z
LAST-MODIFIED:20251125T191756Z
UID:17519-1765616400-1765627200@howellsgunshop.com
SUMMARY:12/13/25 – Less-Lethal Self-Defense
DESCRIPTION:WHY GO HANDS ON WHEN YOU CAN LEARN TO PROTECT YOURSELF AT A SAFE DISTANCE?\nBe Smart – Be Ready – Be Safe. SABRE’s Civilian Safety Awareness Program one-day class can help you learn how identify threatening behaviors and be better prepared to escape dangerous situations safely.\nCSAP STUDENTS WILL BE EDUCATED ON THE FOLLOWING:\n\nHow to discourage dangerous threats\nWays to identify and avoid potentially dangerous situations\nProtection at a safe distance\nHow to use our products effectively and responsibly\nPersonal safety skills for smart living\nINCLUDES – Personal safety starter kit!\n\nAnyone can benefit from taking a CSAP class – whether you’re a runner\, commuter\, student\, someone who travels for work\, retiree\, homemaker – this class is for you!
URL:https://howellsgunshop.com/event/12-13-25-sabre-pepper-spray-civilian-safety-awareness-program/
LOCATION:Howell’s Gun Shop\, 81 West Gray Road\, Gray\, ME\, 04039\, United States
CATEGORIES:All Events,Less Lethal Self Defense,SABRE Pepper Spray,Self Defense
ATTACH;FMTTYPE=image/png:https://howellsgunshop.com/wp-content/uploads/2025/10/Less-LethalSelfDefense.png
END:VEVENT
BEGIN:VEVENT
DTSTART;TZID=America/New_York:20251216T090000
DTEND;TZID=America/New_York:20251216T120000
DTSTAMP:20260423T154458
CREATED:20250412T165945Z
LAST-MODIFIED:20250412T165945Z
UID:17676-1765875600-1765886400@howellsgunshop.com
SUMMARY:12/16/25 - Ladies Only - New Shooter
DESCRIPTION:A NEW SHOOTER CLASS FOR WOMEN – TAUGHT BY WOMEN!\n\nWelcome to the World of Safe Shooting! \nAre you ready to take your first step toward becoming a confident\, responsible gun owner? Our New Shooters class at Howell’s is designed just for you! We know how intimidating it can feel at first\, but don’t worry—you’ll be guided every step of the way by our friendly and certified instructors. \nIn this hands-on\, 3-hour class\, you’ll learn everything you need to know to safely handle and shoot a semi-automatic handgun. We’ll cover essential safety skills\, range etiquette\, and the basic techniques to ensure you feel comfortable and in control. \nThis course is your chance to gain the knowledge and confidence to enjoy shooting safely\, all in a supportive and welcoming environment. It’s the class we wish we had when we first started! \nJoin us\, and let’s make your first range experience safe\, fun\, and empowering! \nREQUIRED EQUIPMENT: \n\nHandguns provided for use in class\nAmmunition provided\nEye and ear protection\, available for purchase on-site\nAttire: Long pants\, high collared shirt or t-shirt\, closed-toe shoes\, ball caps recommended.\n*If you would like to bring and shoot your firearm & 50 rounds of factory ball ammo at the end of the program – time permitting.\n\n  \nEVENT REGISTRATION TERMS & CONDITIONS\nCourse Transfer: With 72-hour advance notice of the event date\, we will issue a unique re-registration code for course transfers.\nCancellation Refund: Refunds for 50% of the balance of the event fee\, if no transfer is possible\, are issued in-store gift cards only\, but ONLY if we are notified of the cancelation up to 72 hours before the event date.\nNo-Call/No-Show: Participants who do not attend the event without prior 72-hour notice forfeit their total registration fees.\nSame-Day Cancelations: Same-day cancelations are non-refundable as spots in classes are quick to fill\, and we will be unable to resell that spot in the event or give an individual on a waitlist adequate time to purchase that spot.
URL:https://howellsgunshop.com/event/12-16-25-ladies-only-new-shooter/
LOCATION:Howell’s Gun Shop\, 81 West Gray Road\, Gray\, ME\, 04039\, United States
CATEGORIES:All Events,Ladies New Shooter
ATTACH;FMTTYPE=image/png:https://howellsgunshop.com/wp-content/uploads/2022/11/Howells-HA-2.png
END:VEVENT
BEGIN:VEVENT
DTSTART;TZID=America/New_York:20251216T173000
DTEND;TZID=America/New_York:20251216T190000
DTSTAMP:20260423T154458
CREATED:20241023T160301Z
LAST-MODIFIED:20251106T210710Z
UID:18015-1765906200-1765911600@howellsgunshop.com
SUMMARY:A Girl & A Gun - Chapter Clinic
DESCRIPTION:A GIRL & A GUN Chapter Training Clinic – All skill levels welcome! \nTIME: 5:30pm – 7:00pm \nEVENT FEE: $10 payable in STORE on TEAM APP! \nRANGE FEE: Payable to Howells at check-in. Howell’s Members shoot for FREE. AGAG Members shoot for $15. \nRSVP: ENSURE YOU HAVE A SPOT by signing up on the TEAM APP! \nNOT AN A GIRL & A GUN MEMBER? JOIN US! \n\nPrerequisite: None! Come as you are. AG&AG events provide an ideal place to learn for women of all skill levels. \nHOWELL’S GUN SHOP WELCOMES A Girl & A Gun Women’s Shooting League!\nA Girl & A Gun Women’s Shooting League (AG & AG) is a shooting club established by women shooters for women shooters. AG & AG events are intended to be fun\, social gatherings where women can come together for support\, encouragement\, ask questions in a safe and nonjudgmental environment\, improve on their marksmanship\, and bond together in the shooting community. \nJoin today! When you join A Girl & A Gun Women’s Shooting League\, you receive valuable member perks and benefits. You may also have a caring and qualified Facilitator\, who may provide local training opportunities and fun social activities. If not\, you are cordially invited to all of our national and regional events. When you’re a member of one chapter\, you’re a member of all chapters and part of an international sisterhood. We look forward to seeing you at the range! \nLEARN MORE & JOIN US!
URL:https://howellsgunshop.com/event/a-girl-a-gun-chapter-clinic/2025-12-16/
LOCATION:Howell’s Gun Shop\, 81 West Gray Road\, Gray\, ME\, 04039\, United States
CATEGORIES:A Girl & A Gun,All Events,Ladies Only,Women Only
ATTACH;FMTTYPE=image/jpeg:https://howellsgunshop.com/wp-content/uploads/2019/12/Howells_AGAG.jpg
END:VEVENT
BEGIN:VEVENT
DTSTART;TZID=America/New_York:20251217T090000
DTEND;TZID=America/New_York:20251217T123000
DTSTAMP:20260423T154458
CREATED:20250412T174757Z
LAST-MODIFIED:20250412T174757Z
UID:17713-1765962000-1765974600@howellsgunshop.com
SUMMARY:12/17/25 - Maine Concealed Carry
DESCRIPTION:Maine Concealed Carry Permit Course: Your Path to Responsible\, Confident Carry \nReady to take the next step in your firearm journey? Our 3-hour Concealed Carry Permit course is designed for intermediate shooters who are serious about carrying a concealed firearm responsibly in the state of Maine. This class provides all the essential knowledge and a certificate needed for your Maine Concealed Carry Application. \nYou’ll dive deep into key topics\, including: \n\nMaine’s concealed carry laws and legal responsibilities\nSafe storage\, transportation\, and handling of your firearm\nThe right firearm\, ammunition\, and gear for concealed carry\nLegal concepts like the use of force\, castle doctrine\, and stand your ground\nInteracting with law enforcement\nAnd more\, including mindset\, personal responsibility\, and continuing education\n\nThis course goes beyond the basics\, empowering you to carry with confidence and understand the serious responsibilities that come with concealed carry. \nREQUIRED EQUIPMENT \n\nEye & ear protection\nClosed-toe shoes\nHigh collared shirt\nBrimmed ball caps recommended\nNotebook & Pen\nAll firearms and ammunition for the live fire qualification are provided by Howell’s.\n*If you would like to bring your own firearm you are welcome to do so. You are required to bring 10 rounds of factory FMJ ball ammunition\, in your handgun caliber of choice\, to shoot the final live fire qualification.\n\nPASS or CLASS: What You Need to Know \nTo pass this class\, participants must complete the classroom session and demonstrate basic range\, gun handling and shooting safety skills in our live-fire qualification. Those who pass will receive a certificate of completion. If a participant finishes the classroom session but does not meet the safety or basic gun handling requirements\, they will receive a CLASS recommendation instead of a certificate. The certificate will be deferred until the participant completes additional training\, such as a private lesson or New Shooter program\, and successfully retakes the qualification. Once the qualification is passed\, Howells will issue the Maine Concealed Carry certificate. \nWhat to Expect: Participants must already be familiar with operating a semi-automatic handgun or revolver for the qualification test. You’ll demonstrate key skills such as safe loading\, following range commands\, and completing two 5-round courses of fire. Safety is our top priority—proficiency in gun safety and handling is required at all times during the course. \nNot sure you’re ready? We recommend brushing up with a Private Lesson or our New Shooter course to ensure you’re prepared for this next level. \n  \nEVENT REGISTRATION TERMS & CONDITIONS\nCourse Transfer: With 72-hour advance notice of the event date we will issue a unique re-registration code for course transfers.\nCancellation Refund: Refunds for 50% balance of event fee\, if no transfer is possible\, are issued in the form of store gift cards only but ONLY if we are notified of the cancelation up to 72 hours in advance of the event date.\nNo-Call/No-Show: Participants who do not show to the event without prior 72-hour notice forfeit their total registration fees.\nSame Day Cancelations: Same day cancelations are non-refundable as spots in classes are quick to fill and we will be unable to resell that spot in the event or give an individual on a waitlist adequate time to purchase that spot.
URL:https://howellsgunshop.com/event/12-17-25-maine-concealed-carry/
LOCATION:Howell’s Gun Shop\, 81 West Gray Road\, Gray\, ME\, 04039\, United States
CATEGORIES:All Events,Maine Concealed Carry
ATTACH;FMTTYPE=image/png:https://howellsgunshop.com/wp-content/uploads/2022/05/image-5.png
END:VEVENT
END:VCALENDAR