BEGIN:VCALENDAR
VERSION:2.0
PRODID:-//Howell&#039;s Gun Shop - ECPv6.15.20//NONSGML v1.0//EN
CALSCALE:GREGORIAN
METHOD:PUBLISH
X-ORIGINAL-URL:https://howellsgunshop.com
X-WR-CALDESC:Events for Howell&#039;s Gun Shop
REFRESH-INTERVAL;VALUE=DURATION:PT1H
X-Robots-Tag:noindex
X-PUBLISHED-TTL:PT1H
BEGIN:VTIMEZONE
TZID:America/New_York
BEGIN:DAYLIGHT
TZOFFSETFROM:-0500
TZOFFSETTO:-0400
TZNAME:EDT
DTSTART:20250309T070000
END:DAYLIGHT
BEGIN:STANDARD
TZOFFSETFROM:-0400
TZOFFSETTO:-0500
TZNAME:EST
DTSTART:20251102T060000
END:STANDARD
BEGIN:DAYLIGHT
TZOFFSETFROM:-0500
TZOFFSETTO:-0400
TZNAME:EDT
DTSTART:20260308T070000
END:DAYLIGHT
BEGIN:STANDARD
TZOFFSETFROM:-0400
TZOFFSETTO:-0500
TZNAME:EST
DTSTART:20261101T060000
END:STANDARD
BEGIN:DAYLIGHT
TZOFFSETFROM:-0500
TZOFFSETTO:-0400
TZNAME:EDT
DTSTART:20270314T070000
END:DAYLIGHT
BEGIN:STANDARD
TZOFFSETFROM:-0400
TZOFFSETTO:-0500
TZNAME:EST
DTSTART:20271107T060000
END:STANDARD
END:VTIMEZONE
BEGIN:VEVENT
DTSTART;TZID=America/New_York:20261001T140000
DTEND;TZID=America/New_York:20261001T173000
DTSTAMP:20260423T185251
CREATED:20251208T174821Z
LAST-MODIFIED:20260106T173503Z
UID:19433-1790863200-1790875800@howellsgunshop.com
SUMMARY:Howell's Gunslinger Match - 2026
DESCRIPTION:Howell’s Gun Shop is pleased to present the Howell’s Gunslinger Match!  \nHowell’s pistol match is designed to be safe\, fun and challenging! Stages change weekly and can include: safe movement with barricades\, strong and support hand shooting\, steel plates\, low light\, moving targets\, bowling pin shoots\, accuracy exercises\, speed exercises and more! Put your skills to the test! \nHowell’s Gunslinger Match is open to the not-so-beginner shooter who can safely handle and shoot their handgun. While we don’t recommend this event as your very first shooting experience we do encourage shooters of all skill levels to come and experience this friendly competition. \nFEE: $15\nEVENTS HELD TWICE MONTHLY! Thursdays\, 2:00pm – 5:30pm \n\nWalk-ins welcome! This is NOT a pre-registration event. Roster of shooters is based on a first come first serve basis.\nOur matches are designed to take roughly 5-10 minutes for each shooter. Each participant shoots the match twice in a row\, their top score out of the two is entered into the competitor pool.\n\nEQUIPMENT: \n\nEye & Hearing Protection\nRange appropriate attire\nCenterfire pistol\n50 Rounds of factory FMJ ball ammo\nMinimum of 3 magazines (To save time for shooting arrive with 3 mags preloaded with 8 rounds each.)\nGun belt\, Mag Pouches\, Strong side outside the waistband (OWB) holster. (For safety reasons bra holsters\, soft side collapsible holsters\, cross draw\, serpa\, ankle\, off body and behind-the-back posters are NOT allowed during live-fire portion of course. Contact us with questions.)\nA good attitude!\n\nSAFETY:  \n\nAll participants must sign in on the group event waiver.\nProfessional behavior is expected at all times.\nWe run a COLD range. This means – all guns are unloaded and cased until it is your designated time to load and make ready per the RSO’s direction.\nSafety rules and stage protocol will be briefed prior to the match and strictly enforced.\nAll shooting is conducted under the supervision of Howell’s certified Range Safety Officers and staff.\n\nRULES & ETIQUETTE: \n\nOrder of waiver sign in represents order of shooters.\nEach shooter will shoot match twice per event.\nParticipants are expected to help tape or reset targets between shooters.\nThere is NO filming of other shooters without their expressed permission.\n\nSCORING: \n\nHowell’s prefers to keep our scoring simple: Any shot that breaks the line is considered a hit and scored according to the target in use.\nHowell’s RSO in charge has the final say on the scoring.\nTie breakers are a very real possibility and a bullseye shoot off will determine the winner.\nAll scores will be logged.
URL:https://howellsgunshop.com/event/howells-gunslinger-match-2026/2026-10-01/
LOCATION:Howell’s Gun Shop\, 81 West Gray Road\, Gray\, ME\, 04039\, United States
CATEGORIES:All Events,Gunslinger
ATTACH;FMTTYPE=image/png:https://howellsgunshop.com/wp-content/uploads/2025/12/GUNSLINGER.png
END:VEVENT
BEGIN:VEVENT
DTSTART;TZID=America/New_York:20261006T090000
DTEND;TZID=America/New_York:20261006T160000
DTSTAMP:20260423T185251
CREATED:20260421T175048Z
LAST-MODIFIED:20260421T175048Z
UID:20282-1791277200-1791302400@howellsgunshop.com
SUMMARY:10/6/26 - Handgun Essentials
DESCRIPTION:Become Confident and Safe with Your Handgun! \nReady to start your journey as a responsible and skilled handgun owner? Our Handgun Essentials course is perfect for new shooters who want to build a strong foundation in safety\, accuracy\, and technique. \nWe highly recommend taking our Step 1: New Shooter course first to ensure you’re ready to dive into this next level of training. In this class\, you’ll master the core principles of handgun mechanics\, safe handling\, and marksmanship. Learn how to properly grip your firearm\, align your sights\, and adopt a solid stance for consistent accuracy. \nBut that’s not all—we’ll also guide you through real-world skills like malfunction clearing and efficient reloading techniques\, so you’re prepared for anything at the range. By the end\, you’ll have the confidence and control to enjoy shooting with precision and safety. \nJoin us and take the first step toward becoming a proficient marksman! \n*Please note that this is NOT a revolver class. This course is focused on semiautomatic handguns only. Should you wish you explore revolvers please consider signing up for a private lesson.  \nREQUIRED EQUIPMENT \n\nPlease plan to pack a lunch/snacks and beverages\nWorking semiautomatic handgun (preferably a centerfire gun)\nMinimum of two (2) magazines\nAmmunition – 150 rounds\nEye & ear protection\nAttire: Long pants\, high collared shirt or t-shirt\, closed toe shoes\, ball caps recommended.\n*Firearms may be rented from our collection and area viable on a first-come-first serve basis. If you would like to rent a firearm to participate in this class please plan on arriving early and request a rental at the check-in counter. Our staff will assist in outfitting you with the right gear for a great day on the range!\n\nEVENT REGISTRATION TERMS & CONDITIONS\nCourse Transfer: With 72-hour advance notice of the event date we will issue a unique re-registration code for course transfers.\nCancellation Refund: Refunds for 50% balance of event fee\, if no transfer is possible\, are issued in the form of store gift cards only but ONLY if we are notified of the cancelation up to 72 hours in advance of the event date.\nNo-Call/No-Show: Participants who do not show to the event without prior 72-hour notice forfeit their total registration fees.\nSame Day Cancelations: Same day cancelations are non-refundable as spots in classes are quick to fill and we will be unable to resell that spot in the event or give an individual on a waitlist adequate time to purchase that spot.
URL:https://howellsgunshop.com/event/10-6-26-handgun-essentials/
LOCATION:Howell’s Gun Shop\, 81 West Gray Road\, Gray\, ME\, 04039\, United States
CATEGORIES:All Events,Handgun Essentials
ATTACH;FMTTYPE=image/png:https://howellsgunshop.com/wp-content/uploads/2025/11/Howells-Handgun-Essentials.png
END:VEVENT
BEGIN:VEVENT
DTSTART;TZID=America/New_York:20261010T090000
DTEND;TZID=America/New_York:20261010T120000
DTSTAMP:20260423T185251
CREATED:20260421T181402Z
LAST-MODIFIED:20260421T181427Z
UID:20294-1791622800-1791633600@howellsgunshop.com
SUMMARY:10/10/26 - Stop The Bleed® & USCCA Treating Gunshot Wounds
DESCRIPTION:Be the help until help arrives. Our Blended Stop the Bleed® & USCCA Treating Gunshot Wounds class gives you the confidence and skill to take immediate\, life-saving action when seconds count. This hands-on course blends proven trauma care techniques with practical\, scenario-based training. You will learn everything from applying tourniquets and wound packing to managing shock—so you’re prepared to protect yourself\, your loved ones\, or fellow range-goers in any emergency. \nThe number 1 cause of preventable death after injury is bleeding. That’s why we want to train you how to STOP THE BLEED®. This class blends techniques from Stop the Bleed with USCCA treating gunshot wounds. Class will include classroom presentation as well as hands on practice for assessing and treating all types of bleeding including gunshot wounds. \nWhy Learn?\n\nA bleeding injury can happen anywhere. We’ve all seen it happen too often—on the news or in everyday life. Life-threatening bleeding can happen in people injured in serious accidents or disasters. Instead of being a witness\, you can become an immediate responder because you know how to STOP THE BLEED®. \nWhat You’ll Gain from the Course\n\nThe person next to a bleeding victim may very well be the one who’s most likely to save him or her from bleeding to death. By learning how to STOP THE BLEED®\, you’ll gain the ability to recognize life-threatening bleeding and act quickly and effectively to control bleeding once you learn three quick techniques. Take the STOP THE BLEED® training course and become empowered to make a life or death difference when a bleeding emergency happens.
URL:https://howellsgunshop.com/event/10-10-26-stop-the-bleed-uscca-treating-gunshot-wounds/
LOCATION:Howell’s Gun Shop\, 81 West Gray Road\, Gray\, ME\, 04039\, United States
CATEGORIES:All Events,Stop the Bleed
ATTACH;FMTTYPE=image/png:https://howellsgunshop.com/wp-content/uploads/2025/10/Howells-StoptheBleedUSCCA-1.png
END:VEVENT
BEGIN:VEVENT
DTSTART;TZID=America/New_York:20261010T130000
DTEND;TZID=America/New_York:20261010T160000
DTSTAMP:20260423T185251
CREATED:20260421T183958Z
LAST-MODIFIED:20260422T160828Z
UID:20322-1791637200-1791648000@howellsgunshop.com
SUMMARY:10/10/26 - USCCA Protecting Your House of Worship
DESCRIPTION:This 3-Hour mini-class focuses specifically on lessons which can help to better protect your House of Worship by learning how to identify a mass shooter\, create an emergency operations plan and how to treat traumatic injuries that may occur. \nThe lesson covers specific considerations related to Houses of Worship\, how to evaluate the current level of security at a House of Worship\, and offers practical exercises which can be done with students to practice the lessons being taught. \nTopics Covered: \n\nLearn how to identify a person who may be planning a mass shooting\nDetermine the steps to create an emergency operations plan\nSpecial safety and knowledge considerations for Houses of Worship\nBetter evaluate the current House of Worship security\, determine safe rooms and improvised weapons\, and how to treat the wounded after the attack\n\nBring water\, note-taking materials\, and your questions! \n  \n\nEVENT REGISTRATION TERMS & CONDITIONS\nCourse Transfer: With 72-hour advance notice of the event date we will issue a unique re-registration code for course transfers.\nCancellation Refund: Refunds for 50% balance of event fee\, if no transfer is possible\, are issued in the form of store gift cards only but ONLY if we are notified of the cancelation up to 72 hours in advance of the event date.\nNo-Call/No-Show: Participants who do not show to the event without prior 72-hour notice forfeit their total registration fees.\nSame Day Cancelations: Same day cancelations are non-refundable as spots in classes are quick to fill and we will be unable to resell that spot in the event or give an individual on a waitlist adequate time to purchase that spot.
URL:https://howellsgunshop.com/event/10-10-26-uscca-protecting-your-house-of-worship/
LOCATION:Howell’s Gun Shop\, 81 West Gray Road\, Gray\, ME\, 04039\, United States
CATEGORIES:All Events,USCCA Protecting Your House of Worship
ATTACH;FMTTYPE=image/png:https://howellsgunshop.com/wp-content/uploads/2026/04/Howells-ProtectingYourHouseOfWorship.png
END:VEVENT
BEGIN:VEVENT
DTSTART;TZID=America/New_York:20261013T173000
DTEND;TZID=America/New_York:20261013T190000
DTSTAMP:20260423T185251
CREATED:20241023T160301Z
LAST-MODIFIED:20251106T210712Z
UID:18742-1791912600-1791918000@howellsgunshop.com
SUMMARY:A Girl & A Gun - Chapter Clinic
DESCRIPTION:A GIRL & A GUN Chapter Training Clinic – All skill levels welcome! \nTIME: 5:30pm – 7:00pm \nEVENT FEE: $10 payable in STORE on TEAM APP! \nRANGE FEE: Payable to Howells at check-in. Howell’s Members shoot for FREE. AGAG Members shoot for $15. \nRSVP: ENSURE YOU HAVE A SPOT by signing up on the TEAM APP! \nNOT AN A GIRL & A GUN MEMBER? JOIN US! \n\nPrerequisite: None! Come as you are. AG&AG events provide an ideal place to learn for women of all skill levels. \nHOWELL’S GUN SHOP WELCOMES A Girl & A Gun Women’s Shooting League!\nA Girl & A Gun Women’s Shooting League (AG & AG) is a shooting club established by women shooters for women shooters. AG & AG events are intended to be fun\, social gatherings where women can come together for support\, encouragement\, ask questions in a safe and nonjudgmental environment\, improve on their marksmanship\, and bond together in the shooting community. \nJoin today! When you join A Girl & A Gun Women’s Shooting League\, you receive valuable member perks and benefits. You may also have a caring and qualified Facilitator\, who may provide local training opportunities and fun social activities. If not\, you are cordially invited to all of our national and regional events. When you’re a member of one chapter\, you’re a member of all chapters and part of an international sisterhood. We look forward to seeing you at the range! \nLEARN MORE & JOIN US!
URL:https://howellsgunshop.com/event/a-girl-a-gun-chapter-clinic/2026-10-13/
LOCATION:Howell’s Gun Shop\, 81 West Gray Road\, Gray\, ME\, 04039\, United States
CATEGORIES:A Girl & A Gun,All Events,Ladies Only,Women Only
ATTACH;FMTTYPE=image/jpeg:https://howellsgunshop.com/wp-content/uploads/2019/12/Howells_AGAG.jpg
END:VEVENT
BEGIN:VEVENT
DTSTART;TZID=America/New_York:20261015T140000
DTEND;TZID=America/New_York:20261015T173000
DTSTAMP:20260423T185251
CREATED:20251208T174821Z
LAST-MODIFIED:20260106T173503Z
UID:19434-1792072800-1792085400@howellsgunshop.com
SUMMARY:Howell's Gunslinger Match - 2026
DESCRIPTION:Howell’s Gun Shop is pleased to present the Howell’s Gunslinger Match!  \nHowell’s pistol match is designed to be safe\, fun and challenging! Stages change weekly and can include: safe movement with barricades\, strong and support hand shooting\, steel plates\, low light\, moving targets\, bowling pin shoots\, accuracy exercises\, speed exercises and more! Put your skills to the test! \nHowell’s Gunslinger Match is open to the not-so-beginner shooter who can safely handle and shoot their handgun. While we don’t recommend this event as your very first shooting experience we do encourage shooters of all skill levels to come and experience this friendly competition. \nFEE: $15\nEVENTS HELD TWICE MONTHLY! Thursdays\, 2:00pm – 5:30pm \n\nWalk-ins welcome! This is NOT a pre-registration event. Roster of shooters is based on a first come first serve basis.\nOur matches are designed to take roughly 5-10 minutes for each shooter. Each participant shoots the match twice in a row\, their top score out of the two is entered into the competitor pool.\n\nEQUIPMENT: \n\nEye & Hearing Protection\nRange appropriate attire\nCenterfire pistol\n50 Rounds of factory FMJ ball ammo\nMinimum of 3 magazines (To save time for shooting arrive with 3 mags preloaded with 8 rounds each.)\nGun belt\, Mag Pouches\, Strong side outside the waistband (OWB) holster. (For safety reasons bra holsters\, soft side collapsible holsters\, cross draw\, serpa\, ankle\, off body and behind-the-back posters are NOT allowed during live-fire portion of course. Contact us with questions.)\nA good attitude!\n\nSAFETY:  \n\nAll participants must sign in on the group event waiver.\nProfessional behavior is expected at all times.\nWe run a COLD range. This means – all guns are unloaded and cased until it is your designated time to load and make ready per the RSO’s direction.\nSafety rules and stage protocol will be briefed prior to the match and strictly enforced.\nAll shooting is conducted under the supervision of Howell’s certified Range Safety Officers and staff.\n\nRULES & ETIQUETTE: \n\nOrder of waiver sign in represents order of shooters.\nEach shooter will shoot match twice per event.\nParticipants are expected to help tape or reset targets between shooters.\nThere is NO filming of other shooters without their expressed permission.\n\nSCORING: \n\nHowell’s prefers to keep our scoring simple: Any shot that breaks the line is considered a hit and scored according to the target in use.\nHowell’s RSO in charge has the final say on the scoring.\nTie breakers are a very real possibility and a bullseye shoot off will determine the winner.\nAll scores will be logged.
URL:https://howellsgunshop.com/event/howells-gunslinger-match-2026/2026-10-15/
LOCATION:Howell’s Gun Shop\, 81 West Gray Road\, Gray\, ME\, 04039\, United States
CATEGORIES:All Events,Gunslinger
ATTACH;FMTTYPE=image/png:https://howellsgunshop.com/wp-content/uploads/2025/12/GUNSLINGER.png
END:VEVENT
BEGIN:VEVENT
DTSTART;TZID=America/New_York:20261016T090000
DTEND;TZID=America/New_York:20261016T170000
DTSTAMP:20260423T185251
CREATED:20251101T094935Z
LAST-MODIFIED:20251101T095017Z
UID:19136-1792141200-1792170000@howellsgunshop.com
SUMMARY:10/16/26 - Advanced Pistol Skills with Tatiana Whitlock
DESCRIPTION:CLICK HERE TO ENROLL\n  \nADVANCED PISTOL SKILLS \nThis course is for the shooter who already owns the basics; solid marksmanship\, dependable reloads\, routine malfunction clearing\, and a practiced holster draw. If you’re comfortable on the line and hungry for next-level challenges\, this class will make your pistol skills indestructible. Through some of Tatiana’s signature drill sets like the Compass Drill and building into the Tempest\, you’ll train to solve problems faster\, shooting from either hand. Make your gun an extension of a decision you’ve already made\, not the obstacle between you and it. \n  \nWHAT YOU’LL LEARN\n Ambidextrous Performance – Shoot\, reload\, and clear malfunctions with either hand.\n One-Handed Fight Skills – Manage reloads\, malfunctions\, and target engagement effectively when only one hand is available.\n Progressive Drill Sets (Assessment → Compass → Tempest) – Move through structured progressions that escalate stress\, speed\, and complexity.\n Dry Fire to Live Fire Integration — Use focused dry-fire practice to ingrain mechanics\, then validate under live fire with expert coaching. \nAdvanced Pistol Skills is not a beginner’s course – it’s designed for shooters who are already comfortable with handgun fundamentals\, and should you choose\, holster skills. This hands-on\, high-impact course is designed for experienced semi-auto shooters ready to elevate resilience\, versatility\, and confidence with their pistols. Expect precise coaching\, demanding drills\, and measurable improvement you can take to the range\, and any situation. \nEQUIPMENT\n●Working semi-automatic handgun (preferably centerfire) \n● 300 rounds factory FMJ (bring more if you want extra live-fire repetitions) \n● Minimum of two (2) magazines; 3+ magazines strongly recommended \n● PPE: Eye & ear protection\, personal med kit \n● IWB/OWB holster (see note below) & magazine pouch(s) \n● Sturdy gun belt \n● Cleaning kit & lubricant \n● High-collared shirt\, cover/concealment garment (bring multiple options)\, base layers or compression garments recommended for comfort when working from concealment holsters \n● Closed-toe shoes required; brimmed ball cap recommended but not required \nNOTE: For safety during live fire\, bra holsters\, soft side-collapsible holsters\, cross-draw\, Serpa\, ankle\, off-body\, and behind-the-back holsters are NOT allowed. \n“I’ve been shooting for years\, but Advanced Pistol Skills took me to the next level. The drills were tough but eye-opening\, and Tatiana’s coaching was spot-on. By the end of the day\, I was confidently handling the gun with either hand and fixing problems on the fly.” — James L. \n  \nREGISTRATION POLICIES & TERMS\nRANGE FEE: $30 payable to Howell’s Gun Shop for any participant that is NOT already a Howell’s member.\nNO VIDEO POLICY! To protect the privacy and learning experience of your fellow students we have adopted a strict NO VIDEO policy during class.\nTERMS: By completing enrollment in this event you confirm that you have read and agree Tatiana Whitlocks Terms of Sale & Event Policies.\nNOTE: This is a hosted course\, registrations are made directly with the guest instructor. Howell’s store credits\, discounts\, or membership perks do not apply. 
URL:https://howellsgunshop.com/event/10-16-26-advanced-pistol-skills-with-tatiana-whitlock/
LOCATION:Howell’s Gun Shop\, 81 West Gray Road\, Gray\, ME\, 04039\, United States
CATEGORIES:Advanced Pistol Skills,All Events
ATTACH;FMTTYPE=image/png:https://howellsgunshop.com/wp-content/uploads/2025/11/101626-APS-ME.png
ORGANIZER;CN="Tatiana Whitlock - Training in Context":MAILTO:training@tatianawhitlock.com
END:VEVENT
BEGIN:VEVENT
DTSTART;TZID=America/New_York:20261027T173000
DTEND;TZID=America/New_York:20261027T190000
DTSTAMP:20260423T185251
CREATED:20241023T160301Z
LAST-MODIFIED:20251106T210712Z
UID:18743-1793122200-1793127600@howellsgunshop.com
SUMMARY:A Girl & A Gun - Chapter Clinic
DESCRIPTION:A GIRL & A GUN Chapter Training Clinic – All skill levels welcome! \nTIME: 5:30pm – 7:00pm \nEVENT FEE: $10 payable in STORE on TEAM APP! \nRANGE FEE: Payable to Howells at check-in. Howell’s Members shoot for FREE. AGAG Members shoot for $15. \nRSVP: ENSURE YOU HAVE A SPOT by signing up on the TEAM APP! \nNOT AN A GIRL & A GUN MEMBER? JOIN US! \n\nPrerequisite: None! Come as you are. AG&AG events provide an ideal place to learn for women of all skill levels. \nHOWELL’S GUN SHOP WELCOMES A Girl & A Gun Women’s Shooting League!\nA Girl & A Gun Women’s Shooting League (AG & AG) is a shooting club established by women shooters for women shooters. AG & AG events are intended to be fun\, social gatherings where women can come together for support\, encouragement\, ask questions in a safe and nonjudgmental environment\, improve on their marksmanship\, and bond together in the shooting community. \nJoin today! When you join A Girl & A Gun Women’s Shooting League\, you receive valuable member perks and benefits. You may also have a caring and qualified Facilitator\, who may provide local training opportunities and fun social activities. If not\, you are cordially invited to all of our national and regional events. When you’re a member of one chapter\, you’re a member of all chapters and part of an international sisterhood. We look forward to seeing you at the range! \nLEARN MORE & JOIN US!
URL:https://howellsgunshop.com/event/a-girl-a-gun-chapter-clinic/2026-10-27/
LOCATION:Howell’s Gun Shop\, 81 West Gray Road\, Gray\, ME\, 04039\, United States
CATEGORIES:A Girl & A Gun,All Events,Ladies Only,Women Only
ATTACH;FMTTYPE=image/jpeg:https://howellsgunshop.com/wp-content/uploads/2019/12/Howells_AGAG.jpg
END:VEVENT
BEGIN:VEVENT
DTSTART;TZID=America/New_York:20261029T140000
DTEND;TZID=America/New_York:20261029T173000
DTSTAMP:20260423T185251
CREATED:20251208T174821Z
LAST-MODIFIED:20260106T173504Z
UID:19435-1793282400-1793295000@howellsgunshop.com
SUMMARY:Howell's Gunslinger Match - 2026
DESCRIPTION:Howell’s Gun Shop is pleased to present the Howell’s Gunslinger Match!  \nHowell’s pistol match is designed to be safe\, fun and challenging! Stages change weekly and can include: safe movement with barricades\, strong and support hand shooting\, steel plates\, low light\, moving targets\, bowling pin shoots\, accuracy exercises\, speed exercises and more! Put your skills to the test! \nHowell’s Gunslinger Match is open to the not-so-beginner shooter who can safely handle and shoot their handgun. While we don’t recommend this event as your very first shooting experience we do encourage shooters of all skill levels to come and experience this friendly competition. \nFEE: $15\nEVENTS HELD TWICE MONTHLY! Thursdays\, 2:00pm – 5:30pm \n\nWalk-ins welcome! This is NOT a pre-registration event. Roster of shooters is based on a first come first serve basis.\nOur matches are designed to take roughly 5-10 minutes for each shooter. Each participant shoots the match twice in a row\, their top score out of the two is entered into the competitor pool.\n\nEQUIPMENT: \n\nEye & Hearing Protection\nRange appropriate attire\nCenterfire pistol\n50 Rounds of factory FMJ ball ammo\nMinimum of 3 magazines (To save time for shooting arrive with 3 mags preloaded with 8 rounds each.)\nGun belt\, Mag Pouches\, Strong side outside the waistband (OWB) holster. (For safety reasons bra holsters\, soft side collapsible holsters\, cross draw\, serpa\, ankle\, off body and behind-the-back posters are NOT allowed during live-fire portion of course. Contact us with questions.)\nA good attitude!\n\nSAFETY:  \n\nAll participants must sign in on the group event waiver.\nProfessional behavior is expected at all times.\nWe run a COLD range. This means – all guns are unloaded and cased until it is your designated time to load and make ready per the RSO’s direction.\nSafety rules and stage protocol will be briefed prior to the match and strictly enforced.\nAll shooting is conducted under the supervision of Howell’s certified Range Safety Officers and staff.\n\nRULES & ETIQUETTE: \n\nOrder of waiver sign in represents order of shooters.\nEach shooter will shoot match twice per event.\nParticipants are expected to help tape or reset targets between shooters.\nThere is NO filming of other shooters without their expressed permission.\n\nSCORING: \n\nHowell’s prefers to keep our scoring simple: Any shot that breaks the line is considered a hit and scored according to the target in use.\nHowell’s RSO in charge has the final say on the scoring.\nTie breakers are a very real possibility and a bullseye shoot off will determine the winner.\nAll scores will be logged.
URL:https://howellsgunshop.com/event/howells-gunslinger-match-2026/2026-10-29/
LOCATION:Howell’s Gun Shop\, 81 West Gray Road\, Gray\, ME\, 04039\, United States
CATEGORIES:All Events,Gunslinger
ATTACH;FMTTYPE=image/png:https://howellsgunshop.com/wp-content/uploads/2025/12/GUNSLINGER.png
END:VEVENT
END:VCALENDAR