BEGIN:VCALENDAR
VERSION:2.0
PRODID:-//Howell&#039;s Gun Shop - ECPv6.15.20//NONSGML v1.0//EN
CALSCALE:GREGORIAN
METHOD:PUBLISH
X-WR-CALNAME:Howell&#039;s Gun Shop
X-ORIGINAL-URL:https://howellsgunshop.com
X-WR-CALDESC:Events for Howell&#039;s Gun Shop
REFRESH-INTERVAL;VALUE=DURATION:PT1H
X-Robots-Tag:noindex
X-PUBLISHED-TTL:PT1H
BEGIN:VTIMEZONE
TZID:America/New_York
BEGIN:DAYLIGHT
TZOFFSETFROM:-0500
TZOFFSETTO:-0400
TZNAME:EDT
DTSTART:20220313T070000
END:DAYLIGHT
BEGIN:STANDARD
TZOFFSETFROM:-0400
TZOFFSETTO:-0500
TZNAME:EST
DTSTART:20221106T060000
END:STANDARD
BEGIN:DAYLIGHT
TZOFFSETFROM:-0500
TZOFFSETTO:-0400
TZNAME:EDT
DTSTART:20230312T070000
END:DAYLIGHT
BEGIN:STANDARD
TZOFFSETFROM:-0400
TZOFFSETTO:-0500
TZNAME:EST
DTSTART:20231105T060000
END:STANDARD
BEGIN:DAYLIGHT
TZOFFSETFROM:-0500
TZOFFSETTO:-0400
TZNAME:EDT
DTSTART:20240310T070000
END:DAYLIGHT
BEGIN:STANDARD
TZOFFSETFROM:-0400
TZOFFSETTO:-0500
TZNAME:EST
DTSTART:20241103T060000
END:STANDARD
BEGIN:DAYLIGHT
TZOFFSETFROM:-0500
TZOFFSETTO:-0400
TZNAME:EDT
DTSTART:20250309T070000
END:DAYLIGHT
BEGIN:STANDARD
TZOFFSETFROM:-0400
TZOFFSETTO:-0500
TZNAME:EST
DTSTART:20251102T060000
END:STANDARD
BEGIN:DAYLIGHT
TZOFFSETFROM:-0500
TZOFFSETTO:-0400
TZNAME:EDT
DTSTART:20260308T070000
END:DAYLIGHT
BEGIN:STANDARD
TZOFFSETFROM:-0400
TZOFFSETTO:-0500
TZNAME:EST
DTSTART:20261101T060000
END:STANDARD
BEGIN:DAYLIGHT
TZOFFSETFROM:-0500
TZOFFSETTO:-0400
TZNAME:EDT
DTSTART:20270314T070000
END:DAYLIGHT
BEGIN:STANDARD
TZOFFSETFROM:-0400
TZOFFSETTO:-0500
TZNAME:EST
DTSTART:20271107T060000
END:STANDARD
END:VTIMEZONE
BEGIN:VEVENT
DTSTART;TZID=America/New_York:20260408T140000
DTEND;TZID=America/New_York:20260408T170000
DTSTAMP:20260423T124718
CREATED:20260214T195716Z
LAST-MODIFIED:20260214T195952Z
UID:19970-1775656800-1775667600@howellsgunshop.com
SUMMARY:4/8/26 - AR15 New Shooter
DESCRIPTION:Duration Of 3 Hours\nCourse Fee $150 \nHowell’s AR15 New Shooters class provides a hands-on introduction to the safe handling and proper range of use of AR15 rifles. This 3-hour class is a significant first step for new shooters looking to become safe and responsible gun owners. This class aims to provide essential gun safety skills\, range etiquette\, terminology\, and basic shooting skills to ensure you have a safe and enjoyable experience at the range. Taught by Howell’s certified and friendly instructor team\, this is the class we wish we had the first time we went shooting! \nREQUIRED EQUIPMENT: \n\nAR15 rifle chambered in .223/5.56/300BLK or 9mm PCC\n100 rounds of caliber appropriate ammunition\nEye and ear protection\, available for purchase on-site\nAttire: Long pants\, high collared shirt or t-shirt\, closed-toe shoes\, ball caps recommended.\n\nEVENT REGISTRATION TERMS & CONDITIONS\nCourse Transfer: With 72-hour advance notice of the event date\, we will issue a unique re-registration code for course transfers.\nCancellation Refund: Refunds for 50% of the balance of the event fee\, if no transfer is possible\, are issued in-store gift cards only\, but ONLY if we are notified of the cancelation up to 72 hours before the event date.\nNo-Call/No-Show: Participants who do not attend the event without prior 72-hour notice forfeit their total registration fees.\nSame-Day Cancelations: Same-day cancelations are non-refundable as spots in classes are quick to fill\, and we will be unable to resell that spot in the event or give an individual on a waitlist adequate time to purchase that spot.
URL:https://howellsgunshop.com/event/4-8-26-ar15-new-shooter/
LOCATION:Howell’s Gun Shop\, 81 West Gray Road\, Gray\, ME\, 04039\, United States
CATEGORIES:All Events,AR15,AR15 New Shooter
ATTACH;FMTTYPE=image/jpeg:https://howellsgunshop.com/wp-content/uploads/2021/05/Howells-AR15.jpg
END:VEVENT
BEGIN:VEVENT
DTSTART;TZID=America/New_York:20240508T090000
DTEND;TZID=America/New_York:20240508T120000
DTSTAMP:20260423T124718
CREATED:20231115T031100Z
LAST-MODIFIED:20231213T221848Z
UID:13737-1715158800-1715169600@howellsgunshop.com
SUMMARY:5/8/24 - AR15 New Shooter
DESCRIPTION:Duration Of 3 Hours\nCourse Fee $150 \nHowell’s AR15 New Shooters class provides a hands-on introduction to the safe handling and proper range of use of AR15 rifles. This 3-hour class is a significant first step for new shooters looking to become safe and responsible gun owners. This class aims to provide essential gun safety skills\, range etiquette\, terminology\, and basic shooting skills to ensure you have a safe and enjoyable experience at the range. Taught by Howell’s certified and friendly instructor team\, this is the class we wish we had the first time we went shooting! \nREQUIRED EQUIPMENT: \n\nAR15 rifle chambered in .223/5.56/300BLK or 9mm PCC\n100 rounds of caliber appropriate ammunition\nEye and ear protection\, available for purchase on-site\nAttire: Long pants\, high collared shirt or t-shirt\, closed-toe shoes\, ball caps recommended.\n\nEVENT REGISTRATION TERMS & CONDITIONS\nCourse Transfer: With 72-hour advance notice of the event date\, we will issue a unique re-registration code for course transfers.\nCancellation Refund: Refunds for 50% of the balance of the event fee\, if no transfer is possible\, are issued in-store gift cards only\, but ONLY if we are notified of the cancelation up to 72 hours before the event date.\nNo-Call/No-Show: Participants who do not attend the event without prior 72-hour notice forfeit their total registration fees.\nSame-Day Cancelations: Same-day cancelations are non-refundable as spots in classes are quick to fill\, and we will be unable to resell that spot in the event or give an individual on a waitlist adequate time to purchase that spot.
URL:https://howellsgunshop.com/event/5-8-24-ar15-new-shooter/
LOCATION:Howell’s Gun Shop\, 81 West Gray Road\, Gray\, ME\, 04039\, United States
CATEGORIES:All Events,AR15 New Shooter
ATTACH;FMTTYPE=image/jpeg:https://howellsgunshop.com/wp-content/uploads/2021/05/Howells-AR15.jpg
END:VEVENT
BEGIN:VEVENT
DTSTART;TZID=America/New_York:20240313T090000
DTEND;TZID=America/New_York:20240313T120000
DTSTAMP:20260423T124718
CREATED:20231115T030909Z
LAST-MODIFIED:20240311T204033Z
UID:13735-1710320400-1710331200@howellsgunshop.com
SUMMARY:CANCELED - AR15 New Shooter
DESCRIPTION:Duration Of 3 Hours\nCourse Fee $150 \nHowell’s AR15 New Shooters class provides a hands-on introduction to the safe handling and proper range of use of AR15 rifles. This 3-hour class is a significant first step for new shooters looking to become safe and responsible gun owners. This class aims to provide essential gun safety skills\, range etiquette\, terminology\, and basic shooting skills to ensure you have a safe and enjoyable experience at the range. Taught by Howell’s certified and friendly instructor team\, this is the class we wish we had the first time we went shooting! \nREQUIRED EQUIPMENT: \n\nAR15 rifle chambered in .223/5.56/300BLK or 9mm PCC\n100 rounds of caliber appropriate ammunition\nEye and ear protection\, available for purchase on-site\nAttire: Long pants\, high collared shirt or t-shirt\, closed-toe shoes\, ball caps recommended.\n\nEVENT REGISTRATION TERMS & CONDITIONS\nCourse Transfer: With 72-hour advance notice of the event date\, we will issue a unique re-registration code for course transfers.\nCancellation Refund: Refunds for 50% of the balance of the event fee\, if no transfer is possible\, are issued in-store gift cards only\, but ONLY if we are notified of the cancelation up to 72 hours before the event date.\nNo-Call/No-Show: Participants who do not attend the event without prior 72-hour notice forfeit their total registration fees.\nSame-Day Cancelations: Same-day cancelations are non-refundable as spots in classes are quick to fill\, and we will be unable to resell that spot in the event or give an individual on a waitlist adequate time to purchase that spot.
URL:https://howellsgunshop.com/event/3-13-24-ar15-new-shooter/
LOCATION:Howell’s Gun Shop\, 81 West Gray Road\, Gray\, ME\, 04039\, United States
CATEGORIES:All Events,AR15 New Shooter
ATTACH;FMTTYPE=image/jpeg:https://howellsgunshop.com/wp-content/uploads/2021/05/Howells-AR15.jpg
END:VEVENT
BEGIN:VEVENT
DTSTART;TZID=America/New_York:20240131T090000
DTEND;TZID=America/New_York:20240131T120000
DTSTAMP:20260423T124718
CREATED:20231115T030716Z
LAST-MODIFIED:20231213T221904Z
UID:13732-1706691600-1706702400@howellsgunshop.com
SUMMARY:1/31/24 - AR15 New Shooter
DESCRIPTION:Duration Of 3 Hours\nCourse Fee $150 \nHowell’s AR15 New Shooters class provides a hands-on introduction to the safe handling and proper range of use of AR15 rifles. This 3-hour class is a significant first step for new shooters looking to become safe and responsible gun owners. This class aims to provide essential gun safety skills\, range etiquette\, terminology\, and basic shooting skills to ensure you have a safe and enjoyable experience at the range. Taught by Howell’s certified and friendly instructor team\, this is the class we wish we had the first time we went shooting! \nREQUIRED EQUIPMENT: \n\nAR15 rifle chambered in .223/5.56/300BLK or 9mm PCC\n100 rounds of caliber appropriate ammunition\nEye and ear protection\, available for purchase on-site\nAttire: Long pants\, high collared shirt or t-shirt\, closed-toe shoes\, ball caps recommended.\n\nEVENT REGISTRATION TERMS & CONDITIONS\nCourse Transfer: With 72-hour advance notice of the event date\, we will issue a unique re-registration code for course transfers.\nCancellation Refund: Refunds for 50% of the balance of the event fee\, if no transfer is possible\, are issued in-store gift cards only\, but ONLY if we are notified of the cancelation up to 72 hours before the event date.\nNo-Call/No-Show: Participants who do not attend the event without prior 72-hour notice forfeit their total registration fees.\nSame-Day Cancelations: Same-day cancelations are non-refundable as spots in classes are quick to fill\, and we will be unable to resell that spot in the event or give an individual on a waitlist adequate time to purchase that spot.
URL:https://howellsgunshop.com/event/1-31-24-ar15-new-shooter/
LOCATION:Howell’s Gun Shop\, 81 West Gray Road\, Gray\, ME\, 04039\, United States
CATEGORIES:All Events,AR15 New Shooter
ATTACH;FMTTYPE=image/jpeg:https://howellsgunshop.com/wp-content/uploads/2021/05/Howells-AR15.jpg
END:VEVENT
BEGIN:VEVENT
DTSTART;TZID=America/New_York:20231114T090000
DTEND;TZID=America/New_York:20231114T120000
DTSTAMP:20260423T124718
CREATED:20231115T031441Z
LAST-MODIFIED:20231213T221840Z
UID:13740-1699952400-1699963200@howellsgunshop.com
SUMMARY:9/11/24 - AR15 New Shooter
DESCRIPTION:Duration Of 3 Hours\nCourse Fee $150 \nHowell’s AR15 New Shooters class provides a hands-on introduction to the safe handling and proper range of use of AR15 rifles. This 3-hour class is a significant first step for new shooters looking to become safe and responsible gun owners. This class aims to provide essential gun safety skills\, range etiquette\, terminology\, and basic shooting skills to ensure you have a safe and enjoyable experience at the range. Taught by Howell’s certified and friendly instructor team\, this is the class we wish we had the first time we went shooting! \nREQUIRED EQUIPMENT: \n\nAR15 rifle chambered in .223/5.56/300BLK or 9mm PCC\n100 rounds of caliber appropriate ammunition\nEye and ear protection\, available for purchase on-site\nAttire: Long pants\, high collared shirt or t-shirt\, closed-toe shoes\, ball caps recommended.\n\nEVENT REGISTRATION TERMS & CONDITIONS\nCourse Transfer: With 72-hour advance notice of the event date\, we will issue a unique re-registration code for course transfers.\nCancellation Refund: Refunds for 50% of the balance of the event fee\, if no transfer is possible\, are issued in-store gift cards only\, but ONLY if we are notified of the cancelation up to 72 hours before the event date.\nNo-Call/No-Show: Participants who do not attend the event without prior 72-hour notice forfeit their total registration fees.\nSame-Day Cancelations: Same-day cancelations are non-refundable as spots in classes are quick to fill\, and we will be unable to resell that spot in the event or give an individual on a waitlist adequate time to purchase that spot.
URL:https://howellsgunshop.com/event/9-11-24-ar15-new-shooter/
LOCATION:Howell’s Gun Shop\, 81 West Gray Road\, Gray\, ME\, 04039\, United States
CATEGORIES:All Events,AR15 New Shooter
ATTACH;FMTTYPE=image/jpeg:https://howellsgunshop.com/wp-content/uploads/2021/05/Howells-AR15.jpg
END:VEVENT
END:VCALENDAR