BEGIN:VCALENDAR
VERSION:2.0
PRODID:-//Howell&#039;s Gun Shop - ECPv6.15.20//NONSGML v1.0//EN
CALSCALE:GREGORIAN
METHOD:PUBLISH
X-WR-CALNAME:Howell&#039;s Gun Shop
X-ORIGINAL-URL:https://howellsgunshop.com
X-WR-CALDESC:Events for Howell&#039;s Gun Shop
REFRESH-INTERVAL;VALUE=DURATION:PT1H
X-Robots-Tag:noindex
X-PUBLISHED-TTL:PT1H
BEGIN:VTIMEZONE
TZID:America/New_York
BEGIN:DAYLIGHT
TZOFFSETFROM:-0500
TZOFFSETTO:-0400
TZNAME:EDT
DTSTART:20230312T070000
END:DAYLIGHT
BEGIN:STANDARD
TZOFFSETFROM:-0400
TZOFFSETTO:-0500
TZNAME:EST
DTSTART:20231105T060000
END:STANDARD
BEGIN:DAYLIGHT
TZOFFSETFROM:-0500
TZOFFSETTO:-0400
TZNAME:EDT
DTSTART:20240310T070000
END:DAYLIGHT
BEGIN:STANDARD
TZOFFSETFROM:-0400
TZOFFSETTO:-0500
TZNAME:EST
DTSTART:20241103T060000
END:STANDARD
BEGIN:DAYLIGHT
TZOFFSETFROM:-0500
TZOFFSETTO:-0400
TZNAME:EDT
DTSTART:20250309T070000
END:DAYLIGHT
BEGIN:STANDARD
TZOFFSETFROM:-0400
TZOFFSETTO:-0500
TZNAME:EST
DTSTART:20251102T060000
END:STANDARD
BEGIN:DAYLIGHT
TZOFFSETFROM:-0500
TZOFFSETTO:-0400
TZNAME:EDT
DTSTART:20260308T070000
END:DAYLIGHT
BEGIN:STANDARD
TZOFFSETFROM:-0400
TZOFFSETTO:-0500
TZNAME:EST
DTSTART:20261101T060000
END:STANDARD
END:VTIMEZONE
BEGIN:VEVENT
DTSTART;TZID=America/New_York:20250302T090000
DTEND;TZID=America/New_York:20250302T150000
DTSTAMP:20260423T175949
CREATED:20241009T170813Z
LAST-MODIFIED:20250206T202729Z
UID:15984-1740906000-1740927600@howellsgunshop.com
SUMMARY:CANCELED - Maine Archery Association - Indoor SOY
DESCRIPTION:Howell’s is pleased to host Maine Archery Association Indoor Shooter of the Year!\nThe Maine Archery Association is an organization dedicated to promoting all forms of archery – recreational\, tournament\, and hunting in the State of Maine. We are a chartered state organization of the National Field Archery Association. Annually we host NFAA sectional tournaments and State Championships for both indoor target and outdoor field. We also hold NFAA “Shooter of the Year” tournaments every Sunday from October through March of each year with different venues throughout the state hosting each week. We welcome archers of all levels from beginner to professional to join our organization and help grow the sport of archery in Maine. \nFor more information on MAA\, MAA membership and to view the 2024/2025 complete schedule of events click here.
URL:https://howellsgunshop.com/event/3-2-25-maine-archery-association-indoor-soy/
LOCATION:Howell’s Gun Shop\, 81 West Gray Road\, Gray\, ME\, 04039\, United States
CATEGORIES:All Events,Archery
ATTACH;FMTTYPE=image/png:https://howellsgunshop.com/wp-content/uploads/2024/10/Screenshot-2024-10-09-at-1.01.05 PM.png
END:VEVENT
BEGIN:VEVENT
DTSTART;TZID=America/New_York:20250202T090000
DTEND;TZID=America/New_York:20250202T150000
DTSTAMP:20260423T175949
CREATED:20241009T170714Z
LAST-MODIFIED:20241009T170714Z
UID:15982-1738486800-1738508400@howellsgunshop.com
SUMMARY:2/2/25 - Maine Archery Association - Indoor SOY
DESCRIPTION:Howell’s is pleased to host Maine Archery Association Indoor Shooter of the Year!\nThe Maine Archery Association is an organization dedicated to promoting all forms of archery – recreational\, tournament\, and hunting in the State of Maine. We are a chartered state organization of the National Field Archery Association. Annually we host NFAA sectional tournaments and State Championships for both indoor target and outdoor field. We also hold NFAA “Shooter of the Year” tournaments every Sunday from October through March of each year with different venues throughout the state hosting each week. We welcome archers of all levels from beginner to professional to join our organization and help grow the sport of archery in Maine. \nFor more information on MAA\, MAA membership and to view the 2024/2025 complete schedule of events click here.
URL:https://howellsgunshop.com/event/2-2-25-maine-archery-association-indoor-soy/
LOCATION:Howell’s Gun Shop\, 81 West Gray Road\, Gray\, ME\, 04039\, United States
CATEGORIES:All Events,Archery
ATTACH;FMTTYPE=image/png:https://howellsgunshop.com/wp-content/uploads/2024/10/Screenshot-2024-10-09-at-1.01.05 PM.png
END:VEVENT
BEGIN:VEVENT
DTSTART;TZID=America/New_York:20241229T090000
DTEND;TZID=America/New_York:20241229T150000
DTSTAMP:20260423T175949
CREATED:20241009T170524Z
LAST-MODIFIED:20241009T170524Z
UID:15979-1735462800-1735484400@howellsgunshop.com
SUMMARY:12/29/24 - Maine Archery Association - Indoor SOY
DESCRIPTION:Howell’s is pleased to host Maine Archery Association Indoor Shooter of the Year!\nThe Maine Archery Association is an organization dedicated to promoting all forms of archery – recreational\, tournament\, and hunting in the State of Maine. We are a chartered state organization of the National Field Archery Association. Annually we host NFAA sectional tournaments and State Championships for both indoor target and outdoor field. We also hold NFAA “Shooter of the Year” tournaments every Sunday from October through March of each year with different venues throughout the state hosting each week. We welcome archers of all levels from beginner to professional to join our organization and help grow the sport of archery in Maine. \nFor more information on MAA\, MAA membership and to view the 2024/2025 complete schedule of events click here.
URL:https://howellsgunshop.com/event/12-29-24-maine-archery-association-indoor-soy/
LOCATION:Howell’s Gun Shop\, 81 West Gray Road\, Gray\, ME\, 04039\, United States
CATEGORIES:All Events,Archery
ATTACH;FMTTYPE=image/png:https://howellsgunshop.com/wp-content/uploads/2024/10/Screenshot-2024-10-09-at-1.01.05 PM.png
END:VEVENT
END:VCALENDAR