BEGIN:VCALENDAR
VERSION:2.0
PRODID:-//Howell&#039;s Gun Shop - ECPv6.15.20//NONSGML v1.0//EN
CALSCALE:GREGORIAN
METHOD:PUBLISH
X-ORIGINAL-URL:https://howellsgunshop.com
X-WR-CALDESC:Events for Howell&#039;s Gun Shop
REFRESH-INTERVAL;VALUE=DURATION:PT1H
X-Robots-Tag:noindex
X-PUBLISHED-TTL:PT1H
BEGIN:VTIMEZONE
TZID:America/New_York
BEGIN:DAYLIGHT
TZOFFSETFROM:-0500
TZOFFSETTO:-0400
TZNAME:EDT
DTSTART:20230312T070000
END:DAYLIGHT
BEGIN:STANDARD
TZOFFSETFROM:-0400
TZOFFSETTO:-0500
TZNAME:EST
DTSTART:20231105T060000
END:STANDARD
BEGIN:DAYLIGHT
TZOFFSETFROM:-0500
TZOFFSETTO:-0400
TZNAME:EDT
DTSTART:20240310T070000
END:DAYLIGHT
BEGIN:STANDARD
TZOFFSETFROM:-0400
TZOFFSETTO:-0500
TZNAME:EST
DTSTART:20241103T060000
END:STANDARD
BEGIN:DAYLIGHT
TZOFFSETFROM:-0500
TZOFFSETTO:-0400
TZNAME:EDT
DTSTART:20250309T070000
END:DAYLIGHT
BEGIN:STANDARD
TZOFFSETFROM:-0400
TZOFFSETTO:-0500
TZNAME:EST
DTSTART:20251102T060000
END:STANDARD
END:VTIMEZONE
BEGIN:VEVENT
DTSTART;TZID=America/New_York:20240508T130000
DTEND;TZID=America/New_York:20240508T160000
DTSTAMP:20260423T191707
CREATED:20240218T021341Z
LAST-MODIFIED:20240508T132235Z
UID:14670-1715173200-1715184000@howellsgunshop.com
SUMMARY:RESCHEDULED - Concealed Carry Basics
DESCRIPTION:Concealed Carry Basics\nDuration Of 3 Hours\nCourse Fee $150\n\nMembership: Discounts Apply!\nPrerequisite: This is NOT a basic pistol course. Participants are encouraged to first take a private lesson or a new shooter course if they have not shot a gun before or if they are returning to shooting from a long hiatus. \nCOURSE DESCRIPTION\nThis 3-hour program covers the necessary safety skills and best practices to carry concealed. Topics covered include: how and where to carry on body\, dressing for successful concealment\, drawing from concealment\, home safe dry-fire and range safe live-fire practice drills and more. Join us for a crash course intended to answer the frequently asked questions of new concealed carriers. An ideal course for those brand new to concealment as well as for those who are struggling to gain confidence in their daily carry routine. We look forward to working with you towards being confident and comfortable carrying a concealed handgun! \nREQUIRED EQUIPMENT \n\nEye & ear protection\nClosed-toe shoes\nConcealed Carry handgun of choice\nTwo magazines (minimum)\n50 rounds of FMJ Ammunition\nGun belt\nIWB or OWB Holster to fit your firearm for the purposes of wearing concealed. (NOTE: Only hard sided plastic holsters allowed in this class. Questions? Contact us in advance.)\nOne magazine pouch\nHigh collared shirt\nOne or two “cover garments”\nBrimmed ball caps recommended\nNotebook & Pen\n\nEVENT REGISTRATION TERMS & CONDITIONS\nCourse Transfer: With 72-hour advance notice of the event date we will issue a unique re-registration code for course transfers.\nCancellation Refund: Refunds for 50% balance of event fee\, if no transfer is possible\, are issued in the form of store gift cards only but ONLY if we are notified of the cancelation up to 72 hours in advance of the event date.\nNo-Call/No-Show: Participants who do not show to the event without prior 72-hour notice forfeit their total registration fees.\nSame Day Cancelations: Same day cancelations are non-refundable as spots in classes are quick to fill and we will be unable to resell that spot in the event or give an individual on a waitlist adequate time to purchase that spot.
URL:https://howellsgunshop.com/event/5-8-24-concealed-carry-basics/
LOCATION:Howell’s Gun Shop\, 81 West Gray Road\, Gray\, ME\, 04039\, United States
CATEGORIES:All Events,Concealed Carry Basics
ATTACH;FMTTYPE=image/png:https://howellsgunshop.com/wp-content/uploads/2023/12/Howells-CCB.png
END:VEVENT
BEGIN:VEVENT
DTSTART;TZID=America/New_York:20240312T130000
DTEND;TZID=America/New_York:20240312T160000
DTSTAMP:20260423T191707
CREATED:20240217T212917Z
LAST-MODIFIED:20240311T203932Z
UID:14667-1710248400-1710259200@howellsgunshop.com
SUMMARY:CANCELED - Concealed Carry Basics
DESCRIPTION:Concealed Carry Basics\nDuration Of 3 Hours\nCourse Fee $150\n\nMembership: Discounts Apply!\nPrerequisite: This is NOT a basic pistol course. Participants are encouraged to first take a private lesson or a new shooter course if they have not shot a gun before or if they are returning to shooting from a long hiatus. \nCOURSE DESCRIPTION\nThis 3-hour program covers the necessary safety skills and best practices to carry concealed. Topics covered include: how and where to carry on body\, dressing for successful concealment\, drawing from concealment\, home safe dry-fire and range safe live-fire practice drills and more. Join us for a crash course intended to answer the frequently asked questions of new concealed carriers. An ideal course for those brand new to concealment as well as for those who are struggling to gain confidence in their daily carry routine. We look forward to working with you towards being confident and comfortable carrying a concealed handgun! \nREQUIRED EQUIPMENT \n\nEye & ear protection\nClosed-toe shoes\nConcealed Carry handgun of choice\nTwo magazines (minimum)\n50 rounds of FMJ Ammunition\nGun belt\nIWB or OWB Holster to fit your firearm for the purposes of wearing concealed. (NOTE: Only hard sided plastic holsters allowed in this class. Questions? Contact us in advance.)\nOne magazine pouch\nHigh collared shirt\nOne or two “cover garments”\nBrimmed ball caps recommended\nNotebook & Pen\n\nEVENT REGISTRATION TERMS & CONDITIONS\nCourse Transfer: With 72-hour advance notice of the event date we will issue a unique re-registration code for course transfers.\nCancellation Refund: Refunds for 50% balance of event fee\, if no transfer is possible\, are issued in the form of store gift cards only but ONLY if we are notified of the cancelation up to 72 hours in advance of the event date.\nNo-Call/No-Show: Participants who do not show to the event without prior 72-hour notice forfeit their total registration fees.\nSame Day Cancelations: Same day cancelations are non-refundable as spots in classes are quick to fill and we will be unable to resell that spot in the event or give an individual on a waitlist adequate time to purchase that spot.
URL:https://howellsgunshop.com/event/3-12-24-concealed-carry-basics/
LOCATION:ME
CATEGORIES:All Events,Concealed Carry Basics
ATTACH;FMTTYPE=image/png:https://howellsgunshop.com/wp-content/uploads/2023/12/Howells-CCB.png
END:VEVENT
BEGIN:VEVENT
DTSTART;TZID=America/New_York:20240111T090000
DTEND;TZID=America/New_York:20240111T120000
DTSTAMP:20260423T191707
CREATED:20231203T172146Z
LAST-MODIFIED:20240107T162437Z
UID:13937-1704963600-1704974400@howellsgunshop.com
SUMMARY:CANCELED - Concealed Carry Basics
DESCRIPTION:Concealed Carry Basics\nDuration Of 3 Hours\nCourse Fee $150\n\nMembership: Discounts Apply!\nPrerequisite: This is NOT a basic pistol course. Participants are encouraged to first take a private lesson or a new shooter course if they have not shot a gun before or if they are returning to shooting from a long hiatus. \nCOURSE DESCRIPTION\nThis 3-hour program covers the necessary safety skills and best practices to carry concealed. Topics covered include: how and where to carry on body\, dressing for successful concealment\, drawing from concealment\, home safe dry-fire and range safe live-fire practice drills and more. Join us for a crash course intended to answer the frequently asked questions of new concealed carriers. An ideal course for those brand new to concealment as well as for those who are struggling to gain confidence in their daily carry routine. We look forward to working with you towards being confident and comfortable carrying a concealed handgun! \nREQUIRED EQUIPMENT \n\nEye & ear protection\nClosed-toe shoes\nConcealed Carry handgun of choice\nTwo magazines (minimum)\n50 rounds of FMJ Ammunition\nGun belt\nIWB or OWB Holster to fit your firearm for the purposes of wearing concealed. (NOTE: Only hard sided plastic holsters allowed in this class. Questions? Contact us in advance.)\nOne magazine pouch\nHigh collared shirt\nOne or two “cover garments”\nBrimmed ball caps recommended\nNotebook & Pen\n\nEVENT REGISTRATION TERMS & CONDITIONS\nCourse Transfer: With 72-hour advance notice of the event date we will issue a unique re-registration code for course transfers.\nCancellation Refund: Refunds for 50% balance of event fee\, if no transfer is possible\, are issued in the form of store gift cards only but ONLY if we are notified of the cancelation up to 72 hours in advance of the event date.\nNo-Call/No-Show: Participants who do not show to the event without prior 72-hour notice forfeit their total registration fees.\nSame Day Cancelations: Same day cancelations are non-refundable as spots in classes are quick to fill and we will be unable to resell that spot in the event or give an individual on a waitlist adequate time to purchase that spot.
URL:https://howellsgunshop.com/event/1-11-23-concealed-carry-basics/
LOCATION:ME
CATEGORIES:All Events,Concealed Carry Basics
ATTACH;FMTTYPE=image/png:https://howellsgunshop.com/wp-content/uploads/2023/12/Howells-CCB.png
END:VEVENT
END:VCALENDAR