BEGIN:VCALENDAR
VERSION:2.0
PRODID:-//Howell&#039;s Gun Shop - ECPv6.15.20//NONSGML v1.0//EN
CALSCALE:GREGORIAN
METHOD:PUBLISH
X-ORIGINAL-URL:https://howellsgunshop.com
X-WR-CALDESC:Events for Howell&#039;s Gun Shop
REFRESH-INTERVAL;VALUE=DURATION:PT1H
X-Robots-Tag:noindex
X-PUBLISHED-TTL:PT1H
BEGIN:VTIMEZONE
TZID:America/New_York
BEGIN:DAYLIGHT
TZOFFSETFROM:-0500
TZOFFSETTO:-0400
TZNAME:EDT
DTSTART:20240310T070000
END:DAYLIGHT
BEGIN:STANDARD
TZOFFSETFROM:-0400
TZOFFSETTO:-0500
TZNAME:EST
DTSTART:20241103T060000
END:STANDARD
BEGIN:DAYLIGHT
TZOFFSETFROM:-0500
TZOFFSETTO:-0400
TZNAME:EDT
DTSTART:20250309T070000
END:DAYLIGHT
BEGIN:STANDARD
TZOFFSETFROM:-0400
TZOFFSETTO:-0500
TZNAME:EST
DTSTART:20251102T060000
END:STANDARD
BEGIN:DAYLIGHT
TZOFFSETFROM:-0500
TZOFFSETTO:-0400
TZNAME:EDT
DTSTART:20260308T070000
END:DAYLIGHT
BEGIN:STANDARD
TZOFFSETFROM:-0400
TZOFFSETTO:-0500
TZNAME:EST
DTSTART:20261101T060000
END:STANDARD
END:VTIMEZONE
BEGIN:VEVENT
DTSTART;TZID=America/New_York:20251024T090000
DTEND;TZID=America/New_York:20251024T170000
DTSTAMP:20260423T173447
CREATED:20250412T160714Z
LAST-MODIFIED:20251008T125119Z
UID:17632-1761296400-1761325200@howellsgunshop.com
SUMMARY:CANCELED - Concealed Carry Essentials
DESCRIPTION:This 8-hour course is designed for the armed citizen who wants to carry with confidence\, and perform under pressure. Whether you’re new to everyday carry or refining your foundation\, this class focuses on executing critical defensive skills from concealment\, in motion\, and under real-world conditions. You’ll build efficiency drawing from concealment\, managing malfunctions and reloads with on-body gear\, and working through layered clothing to simulate four-season carry. From summer T-shirts to winter jackets\, you’ll learn to fight through the friction of real life. \nNote: This is not a beginner class. Participants must arrive ready to safely handle\, draw\, and run their firearm from a holster. \nYou’ll Learn How To: \n\n\nDraw safely and consistently from concealment \n\n\nClear malfunctions and perform reloads with body-worn gear \n\n\nManage multiple cover garments and layers \n\n\nMove with purpose while drawing and shooting \n\n\nMake fast\, informed decisions under stress \n\n\nAdditional Focus Areas: \n\n\nOn-body holster and mag placement \n\n\nClose-quarters shooting and one-handed manipulation \n\n\nVerbal commands\, situational awareness\, and post-engagement actions \n\n\nGear Requirements: \n\n\nDefensive handgun (good working condition) \n\n\n200 -250 rounds of ammo \n\n\nConcealment holster (AIWB or strong-side only) No Serpa-style push-button\, leather or soft sided or collapsable holsters allowed. \n\n\nAt least 2 spare magazines and on-body mag pouches \n\n\nThree cover garments: lightweight\, mid-weight\, and heavy/jacket \n\n\nEye/ear protection \n\n\nSturdy belt \n\n\nAppropriate range attire \n\n\nNotepad and pen for notes and gear feedback \n\n\n  \nEVENT REGISTRATION TERMS & CONDITIONS\nCourse Transfer: With 72-hour advance notice of the event date we will issue a unique re-registration code for course transfers.\nCancellation Refund: Refunds for 50% balance of event fee\, if no transfer is possible\, are issued in the form of store gift cards only but ONLY if we are notified of the cancelation up to 72 hours in advance of the event date.\nNo-Call/No-Show: Participants who do not show to the event without prior 72-hour notice forfeit their total registration fees.\nSame Day Cancelations: Same day cancelations are non-refundable as spots in classes are quick to fill and we will be unable to resell that spot in the event or give an individual on a waitlist adequate time to purchase that spot.
URL:https://howellsgunshop.com/event/10-24-25-concealed-carry-essentials/
LOCATION:Howell’s Gun Shop\, 81 West Gray Road\, Gray\, ME\, 04039\, United States
CATEGORIES:All Events,Concealed Carry Essentials
ATTACH;FMTTYPE=image/png:https://howellsgunshop.com/wp-content/uploads/2025/04/HowellsConcealedCarryEssentials.png
END:VEVENT
BEGIN:VEVENT
DTSTART;TZID=America/New_York:20250905T090000
DTEND;TZID=America/New_York:20250905T170000
DTSTAMP:20260423T173447
CREATED:20250412T160454Z
LAST-MODIFIED:20250902T163853Z
UID:17629-1757062800-1757091600@howellsgunshop.com
SUMMARY:CANCELED - Concealed Carry Essentials
DESCRIPTION:This 8-hour course is designed for the armed citizen who wants to carry with confidence\, and perform under pressure. Whether you’re new to everyday carry or refining your foundation\, this class focuses on executing critical defensive skills from concealment\, in motion\, and under real-world conditions. You’ll build efficiency drawing from concealment\, managing malfunctions and reloads with on-body gear\, and working through layered clothing to simulate four-season carry. From summer T-shirts to winter jackets\, you’ll learn to fight through the friction of real life. \nNote: This is not a beginner class. Participants must arrive ready to safely handle\, draw\, and run their firearm from a holster. \nYou’ll Learn How To: \n\n\nDraw safely and consistently from concealment \n\n\nClear malfunctions and perform reloads with body-worn gear \n\n\nManage multiple cover garments and layers \n\n\nMove with purpose while drawing and shooting \n\n\nMake fast\, informed decisions under stress \n\n\nAdditional Focus Areas: \n\n\nOn-body holster and mag placement \n\n\nClose-quarters shooting and one-handed manipulation \n\n\nVerbal commands\, situational awareness\, and post-engagement actions \n\n\nGear Requirements: \n\n\nDefensive handgun (good working condition) \n\n\n200 -250 rounds of ammo \n\n\nConcealment holster (AIWB or strong-side only) No Serpa-style push-button\, leather or soft sided or collapsable holsters allowed. \n\n\nAt least 2 spare magazines and on-body mag pouches \n\n\nThree cover garments: lightweight\, mid-weight\, and heavy/jacket \n\n\nEye/ear protection \n\n\nSturdy belt \n\n\nAppropriate range attire \n\n\nNotepad and pen for notes and gear feedback \n\n\n  \nEVENT REGISTRATION TERMS & CONDITIONS\nCourse Transfer: With 72-hour advance notice of the event date we will issue a unique re-registration code for course transfers.\nCancellation Refund: Refunds for 50% balance of event fee\, if no transfer is possible\, are issued in the form of store gift cards only but ONLY if we are notified of the cancelation up to 72 hours in advance of the event date.\nNo-Call/No-Show: Participants who do not show to the event without prior 72-hour notice forfeit their total registration fees.\nSame Day Cancelations: Same day cancelations are non-refundable as spots in classes are quick to fill and we will be unable to resell that spot in the event or give an individual on a waitlist adequate time to purchase that spot.
URL:https://howellsgunshop.com/event/9-5-25-concealed-carry-essentials/
LOCATION:Howell’s Gun Shop\, 81 West Gray Road\, Gray\, ME\, 04039\, United States
CATEGORIES:All Events,Concealed Carry Essentials
ATTACH;FMTTYPE=image/png:https://howellsgunshop.com/wp-content/uploads/2025/04/HowellsConcealedCarryEssentials.png
END:VEVENT
BEGIN:VEVENT
DTSTART;TZID=America/New_York:20250606T090000
DTEND;TZID=America/New_York:20250606T170000
DTSTAMP:20260423T173447
CREATED:20250412T160054Z
LAST-MODIFIED:20250528T130521Z
UID:17626-1749200400-1749229200@howellsgunshop.com
SUMMARY:6/6/25 - CANCELED - Concealed Carry Essentials
DESCRIPTION:This 8-hour course is designed for the armed citizen who wants to carry with confidence\, and perform under pressure. Whether you’re new to everyday carry or refining your foundation\, this class focuses on executing critical defensive skills from concealment\, in motion\, and under real-world conditions. You’ll build efficiency drawing from concealment\, managing malfunctions and reloads with on-body gear\, and working through layered clothing to simulate four-season carry. From summer T-shirts to winter jackets\, you’ll learn to fight through the friction of real life. \nNote: This is not a beginner class. Participants must arrive ready to safely handle\, draw\, and run their firearm from a holster. \nYou’ll Learn How To: \n\n\nDraw safely and consistently from concealment \n\n\nClear malfunctions and perform reloads with body-worn gear \n\n\nManage multiple cover garments and layers \n\n\nMove with purpose while drawing and shooting \n\n\nMake fast\, informed decisions under stress \n\n\nAdditional Focus Areas: \n\n\nOn-body holster and mag placement \n\n\nClose-quarters shooting and one-handed manipulation \n\n\nVerbal commands\, situational awareness\, and post-engagement actions \n\n\nGear Requirements: \n\n\nDefensive handgun (good working condition) \n\n\n200 -250 rounds of ammo \n\n\nConcealment holster (AIWB or strong-side only) No Serpa-style push-button\, leather or soft sided or collapsable holsters allowed. \n\n\nAt least 2 spare magazines and on-body mag pouches \n\n\nThree cover garments: lightweight\, mid-weight\, and heavy/jacket \n\n\nEye/ear protection \n\n\nSturdy belt \n\n\nAppropriate range attire \n\n\nNotepad and pen for notes and gear feedback \n\n\n  \nEVENT REGISTRATION TERMS & CONDITIONS\nCourse Transfer: With 72-hour advance notice of the event date we will issue a unique re-registration code for course transfers.\nCancellation Refund: Refunds for 50% balance of event fee\, if no transfer is possible\, are issued in the form of store gift cards only but ONLY if we are notified of the cancelation up to 72 hours in advance of the event date.\nNo-Call/No-Show: Participants who do not show to the event without prior 72-hour notice forfeit their total registration fees.\nSame Day Cancelations: Same day cancelations are non-refundable as spots in classes are quick to fill and we will be unable to resell that spot in the event or give an individual on a waitlist adequate time to purchase that spot.
URL:https://howellsgunshop.com/event/6-6-25-concealed-carry-essentials/
LOCATION:Howell’s Gun Shop\, 81 West Gray Road\, Gray\, ME\, 04039\, United States
CATEGORIES:All Events,Concealed Carry Essentials
ATTACH;FMTTYPE=image/png:https://howellsgunshop.com/wp-content/uploads/2025/04/HowellsConcealedCarryEssentials.png
END:VEVENT
END:VCALENDAR