BEGIN:VCALENDAR
VERSION:2.0
PRODID:-//Howell&#039;s Gun Shop - ECPv6.15.20//NONSGML v1.0//EN
CALSCALE:GREGORIAN
METHOD:PUBLISH
X-WR-CALNAME:Howell&#039;s Gun Shop
X-ORIGINAL-URL:https://howellsgunshop.com
X-WR-CALDESC:Events for Howell&#039;s Gun Shop
REFRESH-INTERVAL;VALUE=DURATION:PT1H
X-Robots-Tag:noindex
X-PUBLISHED-TTL:PT1H
BEGIN:VTIMEZONE
TZID:America/New_York
BEGIN:DAYLIGHT
TZOFFSETFROM:-0500
TZOFFSETTO:-0400
TZNAME:EDT
DTSTART:20250309T070000
END:DAYLIGHT
BEGIN:STANDARD
TZOFFSETFROM:-0400
TZOFFSETTO:-0500
TZNAME:EST
DTSTART:20251102T060000
END:STANDARD
BEGIN:DAYLIGHT
TZOFFSETFROM:-0500
TZOFFSETTO:-0400
TZNAME:EDT
DTSTART:20260308T070000
END:DAYLIGHT
BEGIN:STANDARD
TZOFFSETFROM:-0400
TZOFFSETTO:-0500
TZNAME:EST
DTSTART:20261101T060000
END:STANDARD
BEGIN:DAYLIGHT
TZOFFSETFROM:-0500
TZOFFSETTO:-0400
TZNAME:EDT
DTSTART:20270314T070000
END:DAYLIGHT
BEGIN:STANDARD
TZOFFSETFROM:-0400
TZOFFSETTO:-0500
TZNAME:EST
DTSTART:20271107T060000
END:STANDARD
END:VTIMEZONE
BEGIN:VEVENT
DTSTART;TZID=America/New_York:20260218T140000
DTEND;TZID=America/New_York:20260218T170000
DTSTAMP:20260423T112127
CREATED:20251029T185238Z
LAST-MODIFIED:20260115T140356Z
UID:19060-1771423200-1771434000@howellsgunshop.com
SUMMARY:2/18/26 - Concealed Carry Holster Skills
DESCRIPTION:Ready to carry with confidence? This focused 4-hour class teaches you how to position your pistol for optimal concealment and quick access\, practice smooth draws from concealment\, and drill defense-oriented marksmanship fundamentals. Finish strong with proven safe re-holstering techniques and real-world coaching so you leave comfortable\, competent\, and ready. \nTHIS IS NOT A NEW SHOOTER COURSE!\nParticipants must be proficient in their pistol skills: firearm safety\, handling skills\, basic manipulations\, malfunctions and reloads). No prior holster skills are needed. \n  \nREQUIRED EQUIPMENT \n\nWorking semiautomatic handgun (preferably a centerfire gun)\nMinimum of two (2) magazines\nAmmunition – 150 rounds\nEye & ear protection\nConcealment holster: Inside the Waistband (IWB) or Outside the Waistband (OWB) Holster\n*For safety reasons bra holsters\, soft side collapsible holsters\, cross draw\, Serpa\, ankle\, off-body and behind-the-back holsters are NOT allowed.\nAt least one magazine pouch\nSturdy gun belt\nPants with belt loops\nConcealment Apparel: At least one cover garment option (example: sweatshirt\, sweater\, button down) Base layer recommended for modest-minded shooters. Closed toe shoes.\n\nEVENT REGISTRATION TERMS & CONDITIONS\nCourse Transfer: With 72-hour advance notice of the event date we will issue a unique re-registration code for course transfers.\nCancellation Refund: Refunds for 50% balance of event fee\, if no transfer is possible\, are issued in the form of store gift cards only but ONLY if we are notified of the cancelation up to 72 hours in advance of the event date.\nNo-Call/No-Show: Participants who do not show to the event without prior 72-hour notice forfeit their total registration fees.\nSame Day Cancelations: Same day cancelations are non-refundable as spots in classes are quick to fill and we will be unable to resell that spot in the event or give an individual on a waitlist adequate time to purchase that spot.
URL:https://howellsgunshop.com/event/2-18-26-concealed-carry-holster-skills/
LOCATION:Howell’s Gun Shop\, 81 West Gray Road\, Gray\, ME\, 04039\, United States
CATEGORIES:All Events,Concealed Carry Holster Skills
ATTACH;FMTTYPE=image/png:https://howellsgunshop.com/wp-content/uploads/2025/10/Howells-ConcealedCarryHolsterSkills.png
END:VEVENT
END:VCALENDAR