BEGIN:VCALENDAR
VERSION:2.0
PRODID:-//Howell&#039;s Gun Shop - ECPv6.15.20//NONSGML v1.0//EN
CALSCALE:GREGORIAN
METHOD:PUBLISH
X-ORIGINAL-URL:https://howellsgunshop.com
X-WR-CALDESC:Events for Howell&#039;s Gun Shop
REFRESH-INTERVAL;VALUE=DURATION:PT1H
X-Robots-Tag:noindex
X-PUBLISHED-TTL:PT1H
BEGIN:VTIMEZONE
TZID:America/New_York
BEGIN:DAYLIGHT
TZOFFSETFROM:-0500
TZOFFSETTO:-0400
TZNAME:EDT
DTSTART:20250309T070000
END:DAYLIGHT
BEGIN:STANDARD
TZOFFSETFROM:-0400
TZOFFSETTO:-0500
TZNAME:EST
DTSTART:20251102T060000
END:STANDARD
BEGIN:DAYLIGHT
TZOFFSETFROM:-0500
TZOFFSETTO:-0400
TZNAME:EDT
DTSTART:20260308T070000
END:DAYLIGHT
BEGIN:STANDARD
TZOFFSETFROM:-0400
TZOFFSETTO:-0500
TZNAME:EST
DTSTART:20261101T060000
END:STANDARD
BEGIN:DAYLIGHT
TZOFFSETFROM:-0500
TZOFFSETTO:-0400
TZNAME:EDT
DTSTART:20270314T070000
END:DAYLIGHT
BEGIN:STANDARD
TZOFFSETFROM:-0400
TZOFFSETTO:-0500
TZNAME:EST
DTSTART:20271107T060000
END:STANDARD
END:VTIMEZONE
BEGIN:VEVENT
DTSTART;TZID=America/New_York:20260304T110000
DTEND;TZID=America/New_York:20260304T130000
DTSTAMP:20260423T123823
CREATED:20251124T155803Z
LAST-MODIFIED:20251124T160249Z
UID:19343-1772622000-1772629200@howellsgunshop.com
SUMMARY:3/4/36 - Developing A Personal & Home Protection Plan
DESCRIPTION:This Home Defense course empowers you to take proactive control of your safety through situational awareness\, smart planning\, and practical defensive skills. You’ll learn how to fortify your home\, develop a family defense strategy\, and understand the legal aspects of using force. From mindset and avoidance to defensive shooting fundamentals and post-incident actions\, this class prepares you to protect what matters most with confidence and clarity.
URL:https://howellsgunshop.com/event/3-4-36-developing-a-personal-home-protection-plan/
LOCATION:Howell’s Gun Shop\, 81 West Gray Road\, Gray\, ME\, 04039\, United States
CATEGORIES:All Events,Developing a Personal & Home Protection Plan
ATTACH;FMTTYPE=image/png:https://howellsgunshop.com/wp-content/uploads/2025/10/Howells-HomeDefensePlan.png
END:VEVENT
END:VCALENDAR