BEGIN:VCALENDAR
VERSION:2.0
PRODID:-//Howell&#039;s Gun Shop - ECPv6.15.20//NONSGML v1.0//EN
CALSCALE:GREGORIAN
METHOD:PUBLISH
X-ORIGINAL-URL:https://howellsgunshop.com
X-WR-CALDESC:Events for Howell&#039;s Gun Shop
REFRESH-INTERVAL;VALUE=DURATION:PT1H
X-Robots-Tag:noindex
X-PUBLISHED-TTL:PT1H
BEGIN:VTIMEZONE
TZID:America/New_York
BEGIN:DAYLIGHT
TZOFFSETFROM:-0500
TZOFFSETTO:-0400
TZNAME:EDT
DTSTART:20250309T070000
END:DAYLIGHT
BEGIN:STANDARD
TZOFFSETFROM:-0400
TZOFFSETTO:-0500
TZNAME:EST
DTSTART:20251102T060000
END:STANDARD
BEGIN:DAYLIGHT
TZOFFSETFROM:-0500
TZOFFSETTO:-0400
TZNAME:EDT
DTSTART:20260308T070000
END:DAYLIGHT
BEGIN:STANDARD
TZOFFSETFROM:-0400
TZOFFSETTO:-0500
TZNAME:EST
DTSTART:20261101T060000
END:STANDARD
BEGIN:DAYLIGHT
TZOFFSETFROM:-0500
TZOFFSETTO:-0400
TZNAME:EDT
DTSTART:20270314T070000
END:DAYLIGHT
BEGIN:STANDARD
TZOFFSETFROM:-0400
TZOFFSETTO:-0500
TZNAME:EST
DTSTART:20271107T060000
END:STANDARD
END:VTIMEZONE
BEGIN:VEVENT
DTSTART;TZID=America/New_York:20260430T140000
DTEND;TZID=America/New_York:20260430T173000
DTSTAMP:20260423T093117
CREATED:20251208T174821Z
LAST-MODIFIED:20260106T173459Z
UID:19421-1777557600-1777570200@howellsgunshop.com
SUMMARY:Howell's Gunslinger Match - 2026
DESCRIPTION:Howell’s Gun Shop is pleased to present the Howell’s Gunslinger Match!  \nHowell’s pistol match is designed to be safe\, fun and challenging! Stages change weekly and can include: safe movement with barricades\, strong and support hand shooting\, steel plates\, low light\, moving targets\, bowling pin shoots\, accuracy exercises\, speed exercises and more! Put your skills to the test! \nHowell’s Gunslinger Match is open to the not-so-beginner shooter who can safely handle and shoot their handgun. While we don’t recommend this event as your very first shooting experience we do encourage shooters of all skill levels to come and experience this friendly competition. \nFEE: $15\nEVENTS HELD TWICE MONTHLY! Thursdays\, 2:00pm – 5:30pm \n\nWalk-ins welcome! This is NOT a pre-registration event. Roster of shooters is based on a first come first serve basis.\nOur matches are designed to take roughly 5-10 minutes for each shooter. Each participant shoots the match twice in a row\, their top score out of the two is entered into the competitor pool.\n\nEQUIPMENT: \n\nEye & Hearing Protection\nRange appropriate attire\nCenterfire pistol\n50 Rounds of factory FMJ ball ammo\nMinimum of 3 magazines (To save time for shooting arrive with 3 mags preloaded with 8 rounds each.)\nGun belt\, Mag Pouches\, Strong side outside the waistband (OWB) holster. (For safety reasons bra holsters\, soft side collapsible holsters\, cross draw\, serpa\, ankle\, off body and behind-the-back posters are NOT allowed during live-fire portion of course. Contact us with questions.)\nA good attitude!\n\nSAFETY:  \n\nAll participants must sign in on the group event waiver.\nProfessional behavior is expected at all times.\nWe run a COLD range. This means – all guns are unloaded and cased until it is your designated time to load and make ready per the RSO’s direction.\nSafety rules and stage protocol will be briefed prior to the match and strictly enforced.\nAll shooting is conducted under the supervision of Howell’s certified Range Safety Officers and staff.\n\nRULES & ETIQUETTE: \n\nOrder of waiver sign in represents order of shooters.\nEach shooter will shoot match twice per event.\nParticipants are expected to help tape or reset targets between shooters.\nThere is NO filming of other shooters without their expressed permission.\n\nSCORING: \n\nHowell’s prefers to keep our scoring simple: Any shot that breaks the line is considered a hit and scored according to the target in use.\nHowell’s RSO in charge has the final say on the scoring.\nTie breakers are a very real possibility and a bullseye shoot off will determine the winner.\nAll scores will be logged.
URL:https://howellsgunshop.com/event/howells-gunslinger-match-2026/2026-04-30/
LOCATION:Howell’s Gun Shop\, 81 West Gray Road\, Gray\, ME\, 04039\, United States
CATEGORIES:All Events,Gunslinger
ATTACH;FMTTYPE=image/png:https://howellsgunshop.com/wp-content/uploads/2025/12/GUNSLINGER.png
END:VEVENT
END:VCALENDAR