BEGIN:VCALENDAR
VERSION:2.0
PRODID:-//Howell&#039;s Gun Shop - ECPv6.15.20//NONSGML v1.0//EN
CALSCALE:GREGORIAN
METHOD:PUBLISH
X-ORIGINAL-URL:https://howellsgunshop.com
X-WR-CALDESC:Events for Howell&#039;s Gun Shop
REFRESH-INTERVAL;VALUE=DURATION:PT1H
X-Robots-Tag:noindex
X-PUBLISHED-TTL:PT1H
BEGIN:VTIMEZONE
TZID:America/New_York
BEGIN:DAYLIGHT
TZOFFSETFROM:-0500
TZOFFSETTO:-0400
TZNAME:EDT
DTSTART:20230312T070000
END:DAYLIGHT
BEGIN:STANDARD
TZOFFSETFROM:-0400
TZOFFSETTO:-0500
TZNAME:EST
DTSTART:20231105T060000
END:STANDARD
BEGIN:DAYLIGHT
TZOFFSETFROM:-0500
TZOFFSETTO:-0400
TZNAME:EDT
DTSTART:20240310T070000
END:DAYLIGHT
BEGIN:STANDARD
TZOFFSETFROM:-0400
TZOFFSETTO:-0500
TZNAME:EST
DTSTART:20241103T060000
END:STANDARD
BEGIN:DAYLIGHT
TZOFFSETFROM:-0500
TZOFFSETTO:-0400
TZNAME:EDT
DTSTART:20250309T070000
END:DAYLIGHT
BEGIN:STANDARD
TZOFFSETFROM:-0400
TZOFFSETTO:-0500
TZNAME:EST
DTSTART:20251102T060000
END:STANDARD
END:VTIMEZONE
BEGIN:VEVENT
DTSTART;TZID=America/New_York:20240117T130000
DTEND;TZID=America/New_York:20240117T160000
DTSTAMP:20260425T100551
CREATED:20231201T233104Z
LAST-MODIFIED:20240114T184406Z
UID:13905-1705496400-1705507200@howellsgunshop.com
SUMMARY:CANCELED - Intro to Pistol Optics
DESCRIPTION:Intro to Pistol Optics\nCourse Fee $150\nDuration: 3 hrs\nMembership: Discounts Apply!\nPrerequisite: This is NOT a basic pistol or holster skills course. Participants are required to have a safe\, working knowledge of their chosen carry pistol and can demonstrate safe loading\, shooting\, unloading\, reload and malfunction skills. \nCOURSE DESCRIPTION\nAre you curious about optics mounted on pistols? Holosun\, Trijicon\, Aimpoint\, SIG SAUER and other manufacturers are producing quality pistol mounted optics that can greatly increase accuracy\, target acquisition and are rapidly becoming a standard on both competition and carry pistols across the country. For aging eyes pistol mounted optics can keep some shooters shooting for a few more years than without. There is a learning curve to adapting to a new sighting system but the juice is worth the squeeze! Join us for this three-hour workshop where we work on techniques to help master the “dot”! \nREQUIRED EQUIPMENT \n\nEye & ear protection\nClosed-toe shoes\nHigh collared shirt\nNotebook & Pen\nPistol with optic pre-mounted and zeroed. *Rentals are available though options are limited. Please plan to arrive and check-in early should you plan to rent from us. \nMin of 2 magazines\n100 Rounds of ammunition\n\nEVENT REGISTRATION TERMS & CONDITIONS\nCourse Transfer: With 72-hour advance notice of the event date we will issue a unique re-registration code for course transfers.\nCancellation Refund: Refunds for 50% balance of event fee\, if no transfer is possible\, are issued in the form of store gift cards only but ONLY if we are notified of the cancelation up to 72 hours in advance of the event date.\nNo-Call/No-Show: Participants who do not show to the event without prior 72-hour notice forfeit their total registration fees.\nSame Day Cancelations: Same day cancelations are non-refundable as spots in classes are quick to fill and we will be unable to resell that spot in the event or give an individual on a waitlist adequate time to purchase that spot.
URL:https://howellsgunshop.com/event/1-17-24-intro-to-pistol-optics/
LOCATION:Howell’s Gun Shop\, 81 West Gray Road\, Gray\, ME\, 04039\, United States
CATEGORIES:All Events,Intro to Pistol Optics
ATTACH;FMTTYPE=image/jpeg:https://howellsgunshop.com/wp-content/uploads/2023/05/Howells-IntrotoPistolOptics-1.jpg
END:VEVENT
END:VCALENDAR