BEGIN:VCALENDAR
VERSION:2.0
PRODID:-//Howell&#039;s Gun Shop - ECPv6.15.20//NONSGML v1.0//EN
CALSCALE:GREGORIAN
METHOD:PUBLISH
X-ORIGINAL-URL:https://howellsgunshop.com
X-WR-CALDESC:Events for Howell&#039;s Gun Shop
REFRESH-INTERVAL;VALUE=DURATION:PT1H
X-Robots-Tag:noindex
X-PUBLISHED-TTL:PT1H
BEGIN:VTIMEZONE
TZID:America/New_York
BEGIN:DAYLIGHT
TZOFFSETFROM:-0500
TZOFFSETTO:-0400
TZNAME:EDT
DTSTART:20240310T070000
END:DAYLIGHT
BEGIN:STANDARD
TZOFFSETFROM:-0400
TZOFFSETTO:-0500
TZNAME:EST
DTSTART:20241103T060000
END:STANDARD
BEGIN:DAYLIGHT
TZOFFSETFROM:-0500
TZOFFSETTO:-0400
TZNAME:EDT
DTSTART:20250309T070000
END:DAYLIGHT
BEGIN:STANDARD
TZOFFSETFROM:-0400
TZOFFSETTO:-0500
TZNAME:EST
DTSTART:20251102T060000
END:STANDARD
BEGIN:DAYLIGHT
TZOFFSETFROM:-0500
TZOFFSETTO:-0400
TZNAME:EDT
DTSTART:20260308T070000
END:DAYLIGHT
BEGIN:STANDARD
TZOFFSETFROM:-0400
TZOFFSETTO:-0500
TZNAME:EST
DTSTART:20261101T060000
END:STANDARD
END:VTIMEZONE
BEGIN:VEVENT
DTSTART;TZID=America/New_York:20250307T090000
DTEND;TZID=America/New_York:20250307T120000
DTSTAMP:20260425T110818
CREATED:20241119T213531Z
LAST-MODIFIED:20241119T213531Z
UID:16386-1741338000-1741348800@howellsgunshop.com
SUMMARY:3/7/24 - LADIES ONLY - New Shooter First Shots
DESCRIPTION:A NEW SHOOTER CLASS FOR WOMEN – TAUGHT BY WOMEN!\n\nWelcome to the World of Safe Shooting! \nAre you ready to take your first step toward becoming a confident\, responsible gun owner? Our New Shooters class at Howell’s is designed just for you! We know how intimidating it can feel at first\, but don’t worry—you’ll be guided every step of the way by our friendly and certified instructors. \nIn this hands-on\, 3-hour class\, you’ll learn everything you need to know to safely handle and shoot a semi-automatic handgun. We’ll cover essential safety skills\, range etiquette\, and the basic techniques to ensure you feel comfortable and in control. \nThis course is your chance to gain the knowledge and confidence to enjoy shooting safely\, all in a supportive and welcoming environment. It’s the class we wish we had when we first started! \nJoin us\, and let’s make your first range experience safe\, fun\, and empowering! \nREQUIRED EQUIPMENT: \n\nHandguns provided for use in class\nAmmunition provided\nEye and ear protection\, available for purchase on-site\nAttire: Long pants\, high collared shirt or t-shirt\, closed-toe shoes\, ball caps recommended.\n*If you would like to bring and shoot your firearm & 50 rounds of factory ball ammo at the end of the program – time permitting.\n\n  \nEVENT REGISTRATION TERMS & CONDITIONS\nCourse Transfer: With 72-hour advance notice of the event date\, we will issue a unique re-registration code for course transfers.\nCancellation Refund: Refunds for 50% of the balance of the event fee\, if no transfer is possible\, are issued in-store gift cards only\, but ONLY if we are notified of the cancelation up to 72 hours before the event date.\nNo-Call/No-Show: Participants who do not attend the event without prior 72-hour notice forfeit their total registration fees.\nSame-Day Cancelations: Same-day cancelations are non-refundable as spots in classes are quick to fill\, and we will be unable to resell that spot in the event or give an individual on a waitlist adequate time to purchase that spot.
URL:https://howellsgunshop.com/event/3-7-24-ladies-only-new-shooter-first-shots/
LOCATION:Howell’s Gun Shop\, 81 West Gray Road\, Gray\, ME\, 04039\, United States
CATEGORIES:All Events,Ladies New Shooter,Ladies Only
ATTACH;FMTTYPE=image/png:https://howellsgunshop.com/wp-content/uploads/2022/11/Howells-HA-2.png
END:VEVENT
BEGIN:VEVENT
DTSTART;TZID=America/New_York:20250314T090000
DTEND;TZID=America/New_York:20250314T120000
DTSTAMP:20260425T110818
CREATED:20250209T162235Z
LAST-MODIFIED:20250211T205823Z
UID:17009-1741942800-1741953600@howellsgunshop.com
SUMMARY:3/14/25 - LADIES New Shooter
DESCRIPTION:A NEW SHOOTER CLASS FOR WOMEN – TAUGHT BY WOMEN!\n\nWelcome to the World of Safe Shooting! \nAre you ready to take your first step toward becoming a confident\, responsible gun owner? Our New Shooters class at Howell’s is designed just for you! We know how intimidating it can feel at first\, but don’t worry—you’ll be guided every step of the way by our friendly and certified instructors. \nIn this hands-on\, 3-hour class\, you’ll learn everything you need to know to safely handle and shoot a semi-automatic handgun. We’ll cover essential safety skills\, range etiquette\, and the basic techniques to ensure you feel comfortable and in control. \nThis course is your chance to gain the knowledge and confidence to enjoy shooting safely\, all in a supportive and welcoming environment. It’s the class we wish we had when we first started! \nJoin us\, and let’s make your first range experience safe\, fun\, and empowering! \nREQUIRED EQUIPMENT: \n\nHandguns provided for use in class\nAmmunition provided\nEye and ear protection\, available for purchase on-site\nAttire: Long pants\, high collared shirt or t-shirt\, closed-toe shoes\, ball caps recommended.\n*If you would like to bring and shoot your firearm & 50 rounds of factory ball ammo at the end of the program – time permitting.\n\n  \nEVENT REGISTRATION TERMS & CONDITIONS\nCourse Transfer: With 72-hour advance notice of the event date\, we will issue a unique re-registration code for course transfers.\nCancellation Refund: Refunds for 50% of the balance of the event fee\, if no transfer is possible\, are issued in-store gift cards only\, but ONLY if we are notified of the cancelation up to 72 hours before the event date.\nNo-Call/No-Show: Participants who do not attend the event without prior 72-hour notice forfeit their total registration fees.\nSame-Day Cancelations: Same-day cancelations are non-refundable as spots in classes are quick to fill\, and we will be unable to resell that spot in the event or give an individual on a waitlist adequate time to purchase that spot.
URL:https://howellsgunshop.com/event/3-14-25-ladies-new-shooter/
LOCATION:Howell’s Gun Shop\, 81 West Gray Road\, Gray\, ME\, 04039\, United States
CATEGORIES:All Events,Ladies New Shooter
ATTACH;FMTTYPE=image/png:https://howellsgunshop.com/wp-content/uploads/2022/11/Howells-HA-2.png
END:VEVENT
BEGIN:VEVENT
DTSTART;TZID=America/New_York:20250325T090000
DTEND;TZID=America/New_York:20250325T120000
DTSTAMP:20260425T110818
CREATED:20241009T014036Z
LAST-MODIFIED:20250203T022521Z
UID:15901-1742893200-1742904000@howellsgunshop.com
SUMMARY:3/25/25 - LADIES New Shooter
DESCRIPTION:A NEW SHOOTER CLASS FOR WOMEN – TAUGHT BY WOMEN!\n\nWelcome to the World of Safe Shooting! \nAre you ready to take your first step toward becoming a confident\, responsible gun owner? Our New Shooters class at Howell’s is designed just for you! We know how intimidating it can feel at first\, but don’t worry—you’ll be guided every step of the way by our friendly and certified instructors. \nIn this hands-on\, 3-hour class\, you’ll learn everything you need to know to safely handle and shoot a semi-automatic handgun. We’ll cover essential safety skills\, range etiquette\, and the basic techniques to ensure you feel comfortable and in control. \nThis course is your chance to gain the knowledge and confidence to enjoy shooting safely\, all in a supportive and welcoming environment. It’s the class we wish we had when we first started! \nJoin us\, and let’s make your first range experience safe\, fun\, and empowering! \nREQUIRED EQUIPMENT: \n\nHandguns provided for use in class\nAmmunition provided\nEye and ear protection\, available for purchase on-site\nAttire: Long pants\, high collared shirt or t-shirt\, closed-toe shoes\, ball caps recommended.\n*If you would like to bring and shoot your firearm & 50 rounds of factory ball ammo at the end of the program – time permitting.\n\n  \nEVENT REGISTRATION TERMS & CONDITIONS\nCourse Transfer: With 72-hour advance notice of the event date\, we will issue a unique re-registration code for course transfers.\nCancellation Refund: Refunds for 50% of the balance of the event fee\, if no transfer is possible\, are issued in-store gift cards only\, but ONLY if we are notified of the cancelation up to 72 hours before the event date.\nNo-Call/No-Show: Participants who do not attend the event without prior 72-hour notice forfeit their total registration fees.\nSame-Day Cancelations: Same-day cancelations are non-refundable as spots in classes are quick to fill\, and we will be unable to resell that spot in the event or give an individual on a waitlist adequate time to purchase that spot.
URL:https://howellsgunshop.com/event/3-25-25-ladies-new-shooter/
LOCATION:Howell’s Gun Shop\, 81 West Gray Road\, Gray\, ME\, 04039\, United States
CATEGORIES:All Events,Ladies New Shooter,Ladies Only
ATTACH;FMTTYPE=image/png:https://howellsgunshop.com/wp-content/uploads/2022/11/Howells-HA-2.png
END:VEVENT
BEGIN:VEVENT
DTSTART;TZID=America/New_York:20250326T133000
DTEND;TZID=America/New_York:20250326T163000
DTSTAMP:20260425T110818
CREATED:20250201T195609Z
LAST-MODIFIED:20250323T182213Z
UID:16870-1742995800-1743006600@howellsgunshop.com
SUMMARY:3/26/25 – LADIES New Shooter
DESCRIPTION:A NEW SHOOTER CLASS FOR WOMEN – TAUGHT BY WOMEN!\n\nWelcome to the World of Safe Shooting! \nAre you ready to take your first step toward becoming a confident\, responsible gun owner? Our New Shooters class at Howell’s is designed just for you! We know how intimidating it can feel at first\, but don’t worry—you’ll be guided every step of the way by our friendly and certified instructors. \nIn this hands-on\, 3-hour class\, you’ll learn everything you need to know to safely handle and shoot a semi-automatic handgun. We’ll cover essential safety skills\, range etiquette\, and the basic techniques to ensure you feel comfortable and in control. \nThis course is your chance to gain the knowledge and confidence to enjoy shooting safely\, all in a supportive and welcoming environment. It’s the class we wish we had when we first started! \nJoin us\, and let’s make your first range experience safe\, fun\, and empowering! \nREQUIRED EQUIPMENT: \n\nHandguns provided for use in class\nAmmunition provided\nEye and ear protection\, available for purchase on-site\nAttire: Long pants\, high collared shirt or t-shirt\, closed-toe shoes\, ball caps recommended.\n*If you would like to bring and shoot your firearm & 50 rounds of factory ball ammo at the end of the program – time permitting.\n\n  \nEVENT REGISTRATION TERMS & CONDITIONS\nCourse Transfer: With 72-hour advance notice of the event date\, we will issue a unique re-registration code for course transfers.\nCancellation Refund: Refunds for 50% of the balance of the event fee\, if no transfer is possible\, are issued in-store gift cards only\, but ONLY if we are notified of the cancelation up to 72 hours before the event date.\nNo-Call/No-Show: Participants who do not attend the event without prior 72-hour notice forfeit their total registration fees.\nSame-Day Cancelations: Same-day cancelations are non-refundable as spots in classes are quick to fill\, and we will be unable to resell that spot in the event or give an individual on a waitlist adequate time to purchase that spot.
URL:https://howellsgunshop.com/event/3-26-25-ladies-new-shooter/
LOCATION:Howell’s Gun Shop\, 81 West Gray Road\, Gray\, ME\, 04039\, United States
CATEGORIES:All Events,Ladies New Shooter,Ladies Only
ATTACH;FMTTYPE=image/png:https://howellsgunshop.com/wp-content/uploads/2022/11/Howells-HA-2.png
END:VEVENT
END:VCALENDAR