BEGIN:VCALENDAR
VERSION:2.0
PRODID:-//Howell&#039;s Gun Shop - ECPv6.15.20//NONSGML v1.0//EN
CALSCALE:GREGORIAN
METHOD:PUBLISH
X-WR-CALNAME:Howell&#039;s Gun Shop
X-ORIGINAL-URL:https://howellsgunshop.com
X-WR-CALDESC:Events for Howell&#039;s Gun Shop
REFRESH-INTERVAL;VALUE=DURATION:PT1H
X-Robots-Tag:noindex
X-PUBLISHED-TTL:PT1H
BEGIN:VTIMEZONE
TZID:America/New_York
BEGIN:DAYLIGHT
TZOFFSETFROM:-0500
TZOFFSETTO:-0400
TZNAME:EDT
DTSTART:20250309T070000
END:DAYLIGHT
BEGIN:STANDARD
TZOFFSETFROM:-0400
TZOFFSETTO:-0500
TZNAME:EST
DTSTART:20251102T060000
END:STANDARD
BEGIN:DAYLIGHT
TZOFFSETFROM:-0500
TZOFFSETTO:-0400
TZNAME:EDT
DTSTART:20260308T070000
END:DAYLIGHT
BEGIN:STANDARD
TZOFFSETFROM:-0400
TZOFFSETTO:-0500
TZNAME:EST
DTSTART:20261101T060000
END:STANDARD
BEGIN:DAYLIGHT
TZOFFSETFROM:-0500
TZOFFSETTO:-0400
TZNAME:EDT
DTSTART:20270314T070000
END:DAYLIGHT
BEGIN:STANDARD
TZOFFSETFROM:-0400
TZOFFSETTO:-0500
TZNAME:EST
DTSTART:20271107T060000
END:STANDARD
END:VTIMEZONE
BEGIN:VEVENT
DTSTART;TZID=America/New_York:20260512T090000
DTEND;TZID=America/New_York:20260512T130000
DTSTAMP:20260423T142728
CREATED:20251023T031834Z
LAST-MODIFIED:20251027T023416Z
UID:18859-1778576400-1778590800@howellsgunshop.com
SUMMARY:5/12/26 - Ladies New Shooter Pistol
DESCRIPTION:LADIES NEW SHOOTER – PISTOL \nTake Your First Shot with Confidence! Are you ready to step into the world of handguns but don’t know where to start? This class is designed just for you. In just 4 hours\, you’ll gain the knowledge\, hands-on skills\, and confidence to safely handle and fire a pistol. No prior experience required. \nHere’s what makes this course different: All-inclusive: Firearms and ammunition are provided. Just bring your eye and ear protection. Beginner-friendly: Our experienced\, supportive instructors walk you step-by-step through grip\, stance\, sight alignment\, and trigger control. Hands-on training: Practice what you learn with live-fire drills in a safe\, no-pressure environment. Confidence-building: Leave class not just with new skills\, but with the confidence to handle a firearm safely and responsibly. Expert guidance: Every class is taught by A Girl & A Gun certified instructors and staff\, women among the nation’s most highly credentialed and professionally trained firearms educators. \nWhether your goal is personal protection\, recreational shooting\, or simply trying something new\, this course is your perfect first step. Spaces are limited\, so reserve your spot today and take the first step toward becoming a safe\, confident\, and empowered shooter! \n\nREQUIRED EQUIPMENT:  \n\nEye Protection & Hearing Protection\nNotepad and pen strongly recommended\n\nRECOMMENDED ATTIRE:  \n\nClimate appropriate: High collar shirt. No low-cut/V-neck tops!\nBallcap recommended\nClosed-toe shoes\n\n  \nEVENT REGISTRATION TERMS & CONDITIONS\nCourse Transfer: With 72-hour advance notice of the event date we will issue a unique re-registration code for course transfers.\nCancellation Refund: Refunds for 50% balance of event fee\, if no transfer is possible\, are issued in the form of store gift cards only but ONLY if we are notified of the cancelation up to 72 hours in advance of the event date.\nNo-Call/No-Show: Participants who do not show to the event without prior 72-hour notice forfeit their total registration fees.\nSame Day Cancelations: Same day cancelations are non-refundable as spots in classes are quick to fill and we will be unable to resell that spot in the event or give an individual on a waitlist adequate time to purchase that spot.
URL:https://howellsgunshop.com/event/5-12-26-ladies-new-shooter-pistol/
LOCATION:Howell’s Gun Shop\, 81 West Gray Road\, Gray\, ME\, 04039\, United States
CATEGORIES:All Events,Ladies New Shooter,Ladies Only
ATTACH;FMTTYPE=image/png:https://howellsgunshop.com/wp-content/uploads/2025/10/Screenshot-2025-10-26-at-10.25.49-PM.png
END:VEVENT
BEGIN:VEVENT
DTSTART;TZID=America/New_York:20260512T173000
DTEND;TZID=America/New_York:20260512T190000
DTSTAMP:20260423T142728
CREATED:20241023T160301Z
LAST-MODIFIED:20251106T210711Z
UID:18731-1778607000-1778612400@howellsgunshop.com
SUMMARY:A Girl & A Gun - Chapter Clinic
DESCRIPTION:A GIRL & A GUN Chapter Training Clinic – All skill levels welcome! \nTIME: 5:30pm – 7:00pm \nEVENT FEE: $10 payable in STORE on TEAM APP! \nRANGE FEE: Payable to Howells at check-in. Howell’s Members shoot for FREE. AGAG Members shoot for $15. \nRSVP: ENSURE YOU HAVE A SPOT by signing up on the TEAM APP! \nNOT AN A GIRL & A GUN MEMBER? JOIN US! \n\nPrerequisite: None! Come as you are. AG&AG events provide an ideal place to learn for women of all skill levels. \nHOWELL’S GUN SHOP WELCOMES A Girl & A Gun Women’s Shooting League!\nA Girl & A Gun Women’s Shooting League (AG & AG) is a shooting club established by women shooters for women shooters. AG & AG events are intended to be fun\, social gatherings where women can come together for support\, encouragement\, ask questions in a safe and nonjudgmental environment\, improve on their marksmanship\, and bond together in the shooting community. \nJoin today! When you join A Girl & A Gun Women’s Shooting League\, you receive valuable member perks and benefits. You may also have a caring and qualified Facilitator\, who may provide local training opportunities and fun social activities. If not\, you are cordially invited to all of our national and regional events. When you’re a member of one chapter\, you’re a member of all chapters and part of an international sisterhood. We look forward to seeing you at the range! \nLEARN MORE & JOIN US!
URL:https://howellsgunshop.com/event/a-girl-a-gun-chapter-clinic/2026-05-12/
LOCATION:Howell’s Gun Shop\, 81 West Gray Road\, Gray\, ME\, 04039\, United States
CATEGORIES:A Girl & A Gun,All Events,Ladies Only,Women Only
ATTACH;FMTTYPE=image/jpeg:https://howellsgunshop.com/wp-content/uploads/2019/12/Howells_AGAG.jpg
END:VEVENT
BEGIN:VEVENT
DTSTART;TZID=America/New_York:20260520T090000
DTEND;TZID=America/New_York:20260520T130000
DTSTAMP:20260423T142728
CREATED:20251027T024327Z
LAST-MODIFIED:20251102T230911Z
UID:18907-1779267600-1779282000@howellsgunshop.com
SUMMARY:5/20/26 - Ladies Intro to Holster Skills
DESCRIPTION:The A Girl & A Gun’s Introduction to Holster Skills course is a 4-hour in-person class designed specifically for those who are ready to build confidence and capability while learning how to safely draw and reholster a firearm from an outside-the-waistband holster. Whether your interests lead you to competitive shooting\, structured range training\, or future skills development\, this course provides a solid foundation in holster use. \nParticipants will gain essential knowledge in firearm safety\, range procedures\, holster selection\, and basic handling techniques to ensure a successful and empowering experience. Taught by a Certified A Girl & A Gun Instructor and a supportive\, credentialed team\, this course offers expert guidance in a welcoming\, nonjudgmental environment. \nThis is the class we wish we had the first time we stepped onto the range with hands-on coaching\, thoughtful instruction\, and a community of people who are excited to learn together! \nREQUIRED EQUIPMENT: \n\nEye Protection & Hearing Protection\nA functional semi-automatic handgun in .22lr\, 380 or 9mm\nTwo magazines\nHolster: Hard Sided\, Outside the Waistband Holster (No bra holsters\,  purse carry\, IWB\, push button retention\, fabric or soft sided  holsters allowed.) \nTwo Magazine Pouches\nGun Belt\n100 rounds of factory ammunition\nNote-pad and pen strongly recommended\n\nRECOMMENDED ATTIRE: \n\nClimate appropriate: short sleeve or long sleeve shirt and ball cap\nHigh collar or neckline shirt. No low-cut/V-neck tops!\nPants with BELT LOOPS\nClosed-toe shoes\n\nEVENT REGISTRATION TERMS & CONDITIONS\nCourse Transfer: With 72-hour advance notice of the event date we will issue a unique re-registration code for course transfers.\nCancellation Refund: Refunds for 50% balance of event fee\, if no transfer is possible\, are issued in the form of store gift cards only but ONLY if we are notified of the cancelation up to 72 hours in advance of the event date.\nNo-Call/No-Show: Participants who do not show to the event without prior 72-hour notice forfeit their total registration fees.\nSame Day Cancelations: Same day cancelations are non-refundable as spots in classes are quick to fill and we will be unable to resell that spot in the event or give an individual on a waitlist adequate time to purchase that spot.
URL:https://howellsgunshop.com/event/5-20-26-ladies-intro-to-holster-skills/
LOCATION:Howell’s Gun Shop\, 81 West Gray Road\, Gray\, ME\, 04039\, United States
CATEGORIES:All Events,Holsters for Beginners,Ladies Intro to Holster Skills,Ladies Only
ATTACH;FMTTYPE=image/jpeg:https://howellsgunshop.com/wp-content/uploads/2025/10/AGAG-IntrotoHolsterSkills.jpg
END:VEVENT
BEGIN:VEVENT
DTSTART;TZID=America/New_York:20260526T090000
DTEND;TZID=America/New_York:20260526T130000
DTSTAMP:20260423T142728
CREATED:20251023T031950Z
LAST-MODIFIED:20251027T023505Z
UID:18862-1779786000-1779800400@howellsgunshop.com
SUMMARY:5/26/26 - Ladies New Shooter Pistol
DESCRIPTION:LADIES NEW SHOOTER – PISTOL \nTake Your First Shot with Confidence! Are you ready to step into the world of handguns but don’t know where to start? This class is designed just for you. In just 4 hours\, you’ll gain the knowledge\, hands-on skills\, and confidence to safely handle and fire a pistol. No prior experience required. \nHere’s what makes this course different: All-inclusive: Firearms and ammunition are provided. Just bring your eye and ear protection. Beginner-friendly: Our experienced\, supportive instructors walk you step-by-step through grip\, stance\, sight alignment\, and trigger control. Hands-on training: Practice what you learn with live-fire drills in a safe\, no-pressure environment. Confidence-building: Leave class not just with new skills\, but with the confidence to handle a firearm safely and responsibly. Expert guidance: Every class is taught by A Girl & A Gun certified instructors and staff\, women among the nation’s most highly credentialed and professionally trained firearms educators. \nWhether your goal is personal protection\, recreational shooting\, or simply trying something new\, this course is your perfect first step. Spaces are limited\, so reserve your spot today and take the first step toward becoming a safe\, confident\, and empowered shooter! \n\nREQUIRED EQUIPMENT:  \n\nEye Protection & Hearing Protection\nNotepad and pen strongly recommended\n\nRECOMMENDED ATTIRE:  \n\nClimate appropriate: High collar shirt. No low-cut/V-neck tops!\nBallcap recommended\nClosed-toe shoes\n\n  \nEVENT REGISTRATION TERMS & CONDITIONS\nCourse Transfer: With 72-hour advance notice of the event date we will issue a unique re-registration code for course transfers.\nCancellation Refund: Refunds for 50% balance of event fee\, if no transfer is possible\, are issued in the form of store gift cards only but ONLY if we are notified of the cancelation up to 72 hours in advance of the event date.\nNo-Call/No-Show: Participants who do not show to the event without prior 72-hour notice forfeit their total registration fees.\nSame Day Cancelations: Same day cancelations are non-refundable as spots in classes are quick to fill and we will be unable to resell that spot in the event or give an individual on a waitlist adequate time to purchase that spot.
URL:https://howellsgunshop.com/event/5-26-26-ladies-new-shooter-pistol/
LOCATION:Howell’s Gun Shop\, 81 West Gray Road\, Gray\, ME\, 04039\, United States
CATEGORIES:All Events,Ladies New Shooter,Ladies Only
ATTACH;FMTTYPE=image/png:https://howellsgunshop.com/wp-content/uploads/2025/10/Screenshot-2025-10-26-at-10.25.49-PM.png
END:VEVENT
BEGIN:VEVENT
DTSTART;TZID=America/New_York:20260526T173000
DTEND;TZID=America/New_York:20260526T190000
DTSTAMP:20260423T142728
CREATED:20241023T160301Z
LAST-MODIFIED:20251106T210711Z
UID:18732-1779816600-1779822000@howellsgunshop.com
SUMMARY:A Girl & A Gun - Chapter Clinic
DESCRIPTION:A GIRL & A GUN Chapter Training Clinic – All skill levels welcome! \nTIME: 5:30pm – 7:00pm \nEVENT FEE: $10 payable in STORE on TEAM APP! \nRANGE FEE: Payable to Howells at check-in. Howell’s Members shoot for FREE. AGAG Members shoot for $15. \nRSVP: ENSURE YOU HAVE A SPOT by signing up on the TEAM APP! \nNOT AN A GIRL & A GUN MEMBER? JOIN US! \n\nPrerequisite: None! Come as you are. AG&AG events provide an ideal place to learn for women of all skill levels. \nHOWELL’S GUN SHOP WELCOMES A Girl & A Gun Women’s Shooting League!\nA Girl & A Gun Women’s Shooting League (AG & AG) is a shooting club established by women shooters for women shooters. AG & AG events are intended to be fun\, social gatherings where women can come together for support\, encouragement\, ask questions in a safe and nonjudgmental environment\, improve on their marksmanship\, and bond together in the shooting community. \nJoin today! When you join A Girl & A Gun Women’s Shooting League\, you receive valuable member perks and benefits. You may also have a caring and qualified Facilitator\, who may provide local training opportunities and fun social activities. If not\, you are cordially invited to all of our national and regional events. When you’re a member of one chapter\, you’re a member of all chapters and part of an international sisterhood. We look forward to seeing you at the range! \nLEARN MORE & JOIN US!
URL:https://howellsgunshop.com/event/a-girl-a-gun-chapter-clinic/2026-05-26/
LOCATION:Howell’s Gun Shop\, 81 West Gray Road\, Gray\, ME\, 04039\, United States
CATEGORIES:A Girl & A Gun,All Events,Ladies Only,Women Only
ATTACH;FMTTYPE=image/jpeg:https://howellsgunshop.com/wp-content/uploads/2019/12/Howells_AGAG.jpg
END:VEVENT
END:VCALENDAR