BEGIN:VCALENDAR
VERSION:2.0
PRODID:-//Howell&#039;s Gun Shop - ECPv6.15.20//NONSGML v1.0//EN
CALSCALE:GREGORIAN
METHOD:PUBLISH
X-ORIGINAL-URL:https://howellsgunshop.com
X-WR-CALDESC:Events for Howell&#039;s Gun Shop
REFRESH-INTERVAL;VALUE=DURATION:PT1H
X-Robots-Tag:noindex
X-PUBLISHED-TTL:PT1H
BEGIN:VTIMEZONE
TZID:America/New_York
BEGIN:DAYLIGHT
TZOFFSETFROM:-0500
TZOFFSETTO:-0400
TZNAME:EDT
DTSTART:20240310T070000
END:DAYLIGHT
BEGIN:STANDARD
TZOFFSETFROM:-0400
TZOFFSETTO:-0500
TZNAME:EST
DTSTART:20241103T060000
END:STANDARD
BEGIN:DAYLIGHT
TZOFFSETFROM:-0500
TZOFFSETTO:-0400
TZNAME:EDT
DTSTART:20250309T070000
END:DAYLIGHT
BEGIN:STANDARD
TZOFFSETFROM:-0400
TZOFFSETTO:-0500
TZNAME:EST
DTSTART:20251102T060000
END:STANDARD
BEGIN:DAYLIGHT
TZOFFSETFROM:-0500
TZOFFSETTO:-0400
TZNAME:EDT
DTSTART:20260308T070000
END:DAYLIGHT
BEGIN:STANDARD
TZOFFSETFROM:-0400
TZOFFSETTO:-0500
TZNAME:EST
DTSTART:20261101T060000
END:STANDARD
BEGIN:DAYLIGHT
TZOFFSETFROM:-0500
TZOFFSETTO:-0400
TZNAME:EDT
DTSTART:20270314T070000
END:DAYLIGHT
BEGIN:STANDARD
TZOFFSETFROM:-0400
TZOFFSETTO:-0500
TZNAME:EST
DTSTART:20271107T060000
END:STANDARD
END:VTIMEZONE
BEGIN:VEVENT
DTSTART;TZID=America/New_York:20260421T090000
DTEND;TZID=America/New_York:20260421T120000
DTSTAMP:20260423T110806
CREATED:20260421T182143Z
LAST-MODIFIED:20260421T182143Z
UID:20300-1776762000-1776772800@howellsgunshop.com
SUMMARY:12/10/26 – Less-Lethal Self-Defense
DESCRIPTION:WHY GO HANDS ON WHEN YOU CAN LEARN TO PROTECT YOURSELF AT A SAFE DISTANCE?\nBe Smart – Be Ready – Be Safe. SABRE’s Civilian Safety Awareness Program one-day class can help you learn how identify threatening behaviors and be better prepared to escape dangerous situations safely.\nCSAP STUDENTS WILL BE EDUCATED ON THE FOLLOWING:\n\nHow to discourage dangerous threats\nWays to identify and avoid potentially dangerous situations\nProtection at a safe distance\nHow to use our products effectively and responsibly\nPersonal safety skills for smart living\nINCLUDES – Personal safety starter kit!\n\nAnyone can benefit from taking a CSAP class – whether you’re a runner\, commuter\, student\, someone who travels for work\, retiree\, homemaker – this class is for you!
URL:https://howellsgunshop.com/event/12-10-26-less-lethal-self-defense/
LOCATION:Howell’s Gun Shop\, 81 West Gray Road\, Gray\, ME\, 04039\, United States
CATEGORIES:All Events,Less Lethal Self Defense,SABRE Pepper Spray
ATTACH;FMTTYPE=image/png:https://howellsgunshop.com/wp-content/uploads/2025/10/Less-LethalSelfDefense.png
END:VEVENT
BEGIN:VEVENT
DTSTART;TZID=America/New_York:20260307T090000
DTEND;TZID=America/New_York:20260307T123000
DTSTAMP:20260423T110806
CREATED:20251124T161533Z
LAST-MODIFIED:20260209T165451Z
UID:19352-1772874000-1772886600@howellsgunshop.com
SUMMARY:3/7/26 - Less-Lethal Self-Defense
DESCRIPTION:Learn practical\, hands-on self-defense in this four-hour\, non-shooting class focused on real-world skills and building confidence. You’ll practice ways to avoid and discourage danger\, protect yourself at a safe distance\, and learn to use SABRE products safely and effectively. Class fee includes three practice canisters\, one active SABRE pepper spray with case & keyring\, a student manual\, and hands-on drills: 18+ only. \nSTUDENTS WILL BE EDUCATED ON THE FOLLOWING: \n\nHow to discourage dangerous threats\nWays to identify and avoid potentially dangerous situations\nProtection at a safe distance\nHow to use our products effectively and responsibly\nPersonal safety skills for smart living\nINCLUDES – Personal safety starter kit!\n\nEVENT REGISTRATION TERMS & CONDITIONS\nCourse Transfer: With 72-hour advance notice of the event date we will issue a unique re-registration code for course transfers.\nCancellation Refund: Refunds for 50% balance of event fee\, if no transfer is possible\, are issued in the form of store gift cards only but ONLY if we are notified of the cancelation up to 72 hours in advance of the event date.\nNo-Call/No-Show: Participants who do not show to the event without prior 72-hour notice forfeit their total registration fees.\nSame Day Cancelations: Same day cancelations are non-refundable as spots in classes are quick to fill and we will be unable to resell that spot in the event or give an individual on a waitlist adequate time to purchase that spot.
URL:https://howellsgunshop.com/event/3-7-26-less-lethal-self-defense/
LOCATION:Howell’s Gun Shop\, 81 West Gray Road\, Gray\, ME\, 04039\, United States
CATEGORIES:All Events,Less Lethal Self Defense
ATTACH;FMTTYPE=image/png:https://howellsgunshop.com/wp-content/uploads/2025/10/Less-LethalSelfDefense.png
END:VEVENT
BEGIN:VEVENT
DTSTART;TZID=America/New_York:20251213T090000
DTEND;TZID=America/New_York:20251213T120000
DTSTAMP:20260423T110806
CREATED:20250401T173352Z
LAST-MODIFIED:20251125T191756Z
UID:17519-1765616400-1765627200@howellsgunshop.com
SUMMARY:12/13/25 – Less-Lethal Self-Defense
DESCRIPTION:WHY GO HANDS ON WHEN YOU CAN LEARN TO PROTECT YOURSELF AT A SAFE DISTANCE?\nBe Smart – Be Ready – Be Safe. SABRE’s Civilian Safety Awareness Program one-day class can help you learn how identify threatening behaviors and be better prepared to escape dangerous situations safely.\nCSAP STUDENTS WILL BE EDUCATED ON THE FOLLOWING:\n\nHow to discourage dangerous threats\nWays to identify and avoid potentially dangerous situations\nProtection at a safe distance\nHow to use our products effectively and responsibly\nPersonal safety skills for smart living\nINCLUDES – Personal safety starter kit!\n\nAnyone can benefit from taking a CSAP class – whether you’re a runner\, commuter\, student\, someone who travels for work\, retiree\, homemaker – this class is for you!
URL:https://howellsgunshop.com/event/12-13-25-sabre-pepper-spray-civilian-safety-awareness-program/
LOCATION:Howell’s Gun Shop\, 81 West Gray Road\, Gray\, ME\, 04039\, United States
CATEGORIES:All Events,Less Lethal Self Defense,SABRE Pepper Spray,Self Defense
ATTACH;FMTTYPE=image/png:https://howellsgunshop.com/wp-content/uploads/2025/10/Less-LethalSelfDefense.png
END:VEVENT
END:VCALENDAR