BEGIN:VCALENDAR
VERSION:2.0
PRODID:-//Howell&#039;s Gun Shop - ECPv6.15.20//NONSGML v1.0//EN
CALSCALE:GREGORIAN
METHOD:PUBLISH
X-ORIGINAL-URL:https://howellsgunshop.com
X-WR-CALDESC:Events for Howell&#039;s Gun Shop
REFRESH-INTERVAL;VALUE=DURATION:PT1H
X-Robots-Tag:noindex
X-PUBLISHED-TTL:PT1H
BEGIN:VTIMEZONE
TZID:America/New_York
BEGIN:DAYLIGHT
TZOFFSETFROM:-0500
TZOFFSETTO:-0400
TZNAME:EDT
DTSTART:20250309T070000
END:DAYLIGHT
BEGIN:STANDARD
TZOFFSETFROM:-0400
TZOFFSETTO:-0500
TZNAME:EST
DTSTART:20251102T060000
END:STANDARD
BEGIN:DAYLIGHT
TZOFFSETFROM:-0500
TZOFFSETTO:-0400
TZNAME:EDT
DTSTART:20260308T070000
END:DAYLIGHT
BEGIN:STANDARD
TZOFFSETFROM:-0400
TZOFFSETTO:-0500
TZNAME:EST
DTSTART:20261101T060000
END:STANDARD
BEGIN:DAYLIGHT
TZOFFSETFROM:-0500
TZOFFSETTO:-0400
TZNAME:EDT
DTSTART:20270314T070000
END:DAYLIGHT
BEGIN:STANDARD
TZOFFSETFROM:-0400
TZOFFSETTO:-0500
TZNAME:EST
DTSTART:20271107T060000
END:STANDARD
END:VTIMEZONE
BEGIN:VEVENT
DTSTART;TZID=America/New_York:20260130T090000
DTEND;TZID=America/New_York:20260130T170000
DTSTAMP:20260423T110236
CREATED:20251101T101506Z
LAST-MODIFIED:20251101T101506Z
UID:19152-1769763600-1769792400@howellsgunshop.com
SUMMARY:1/30/26 - Mastering Marksmanship with Tatiana Whitlock
DESCRIPTION:CLICK TO ENROLL\n  \nMASTERING MARKSMANSHIP \nThis 8-hour intensive course is designed for shooters who want to refine their marksmanship and achieve next-level accuracy. Whether you’re looking to tighten your shot groups\, improve consistency\, or develop a more disciplined shooting process\, this class delivers focused\, results-driven training to help you hit your target with precision. \n \nWHAT YOU’LL LEARN\n✔ Fundamentals of Precision Shooting – Build a solid foundation for consistent accuracy.\n✔ Visual & Mental Focus – Train your eyes and mind to enhance shot placement and control.\n✔ Marksmanship Skill Builder Drills – Practical exercises to refine technique and eliminate errors.\n✔ One-on-One Coaching with Tatiana Whitlock – Personalized instruction to fine-tune your individual performance.\n✔ Progressive Challenges – Push your skills with fun\, engaging drills designed for all experience levels. \nThis course is perfect for shooters of all skill levels\, from those looking to build confidence in their accuracy to experienced marksmen fine-tuning their edge. Expect hands-on coaching\, structured drills\, and personalized feedback in a challenging yet supportive training environment. \nEQUIPMENT\n● Working semi-automatic handgun (preferably centerfire)\n● 300 rounds factory FMJ (bring more if you want extra live-fire repetitions)\n● Minimum of two (2) magazines; 3+ magazines strongly recommended\n● PPE: Eye & ear protection\, personal med kit\n● This class is HOLSTER OPTIONAL (see note below) for those already holster proficient.\n● Sturdy gun belt\n● Cleaning kit & lubricant\n● High-collared shirt\, cover/concealment garment (bring multiple options)\, base layers or compression garments recommended for comfort when working from concealment holsters\n● Closed-toe shoes required; brimmed ball cap recommended but not required \nNOTE: For safety during live fire\, bra holsters\, soft side-collapsible holsters\, cross-draw\, Serpa\, ankle\, off-body\, and behind-the-back holsters are NOT allowed. \n“WOW. Game changer. Tatiana builds you literally from the ground up in this class. Never before has grip been explained to me in a way that made sense. She took the time to work with everyone and each shooter’s performance was completely transformed by the end of the day. I highly recommend this class!” – Frank B. \n  \nREGISTRATION POLICIES & TERMS\nRANGE FEE: $30 payable to Howell’s Gun Shop for any participant that is NOT already a Howell’s member.\nNO VIDEO POLICY! To protect the privacy and learning experience of your fellow students we have adopted a strict NO VIDEO policy during class.\nTERMS: By completing enrollment in this event you confirm that you have read and agree Tatiana WhitlocksTerms of Sale & Event Policies.\nNOTE: This is a hosted course\, registrations are made directly with the guest instructor. Howell’s store credits\, discounts\, or membership perks do not apply. 
URL:https://howellsgunshop.com/event/1-30-26-mastering-marksmanship-with-tatiana-whitlock/
LOCATION:Howell’s Gun Shop\, 81 West Gray Road\, Gray\, ME\, 04039\, United States
CATEGORIES:All Events,Mastering Marksmanship
ATTACH;FMTTYPE=image/png:https://howellsgunshop.com/wp-content/uploads/2025/11/13026-MM-ME.png
ORGANIZER;CN="Tatiana Whitlock - Training in Context":MAILTO:training@tatianawhitlock.com
END:VEVENT
END:VCALENDAR