BEGIN:VCALENDAR
VERSION:2.0
PRODID:-//Howell&#039;s Gun Shop - ECPv6.15.20//NONSGML v1.0//EN
CALSCALE:GREGORIAN
METHOD:PUBLISH
X-ORIGINAL-URL:https://howellsgunshop.com
X-WR-CALDESC:Events for Howell&#039;s Gun Shop
REFRESH-INTERVAL;VALUE=DURATION:PT1H
X-Robots-Tag:noindex
X-PUBLISHED-TTL:PT1H
BEGIN:VTIMEZONE
TZID:America/New_York
BEGIN:DAYLIGHT
TZOFFSETFROM:-0500
TZOFFSETTO:-0400
TZNAME:EDT
DTSTART:20230312T070000
END:DAYLIGHT
BEGIN:STANDARD
TZOFFSETFROM:-0400
TZOFFSETTO:-0500
TZNAME:EST
DTSTART:20231105T060000
END:STANDARD
BEGIN:DAYLIGHT
TZOFFSETFROM:-0500
TZOFFSETTO:-0400
TZNAME:EDT
DTSTART:20240310T070000
END:DAYLIGHT
BEGIN:STANDARD
TZOFFSETFROM:-0400
TZOFFSETTO:-0500
TZNAME:EST
DTSTART:20241103T060000
END:STANDARD
BEGIN:DAYLIGHT
TZOFFSETFROM:-0500
TZOFFSETTO:-0400
TZNAME:EDT
DTSTART:20250309T070000
END:DAYLIGHT
BEGIN:STANDARD
TZOFFSETFROM:-0400
TZOFFSETTO:-0500
TZNAME:EST
DTSTART:20251102T060000
END:STANDARD
BEGIN:DAYLIGHT
TZOFFSETFROM:-0500
TZOFFSETTO:-0400
TZNAME:EDT
DTSTART:20260308T070000
END:DAYLIGHT
BEGIN:STANDARD
TZOFFSETFROM:-0400
TZOFFSETTO:-0500
TZNAME:EST
DTSTART:20261101T060000
END:STANDARD
END:VTIMEZONE
BEGIN:VEVENT
DTSTART;TZID=America/New_York:20250612T090000
DTEND;TZID=America/New_York:20250612T120000
DTSTAMP:20260423T173619
CREATED:20241009T190514Z
LAST-MODIFIED:20241009T190532Z
UID:16022-1749718800-1749729600@howellsgunshop.com
SUMMARY:6/12/25 - Pistol Marksmanship
DESCRIPTION:Whether you’re new to shooting or looking to fine-tune your marksmanship\, this dynamic three-hour workshop is designed to help you build confidence and precision with your pistol. With focused\, hands-on instruction\, you’ll master the essentials like grip\, stance\, sight alignment\, and trigger control—foundational skills for every shooter. \nAs you progress\, you’ll challenge yourself with target transitions\, engaging at various distances\, and navigating through both simple and complex courses of fire. This workshop is perfect as a follow-up to Howell’s New Shooter Program or as a skill refresher for experienced shooters looking to sharpen their abilities. Wherever you are in your journey\, this course will elevate your shooting to the next level. \nREQUIRED EQUIPMENT: \n\nSemiautomatic Handgun (preferably centerfire) *Rentals Available\n2 Magazines\n200 Rounds of Ammunition\nEye and ear protection\nRange Appropriate Attire: Long pants\, high collared shirt or t-shirt\, closed-toe shoes\, ball caps recommended.\n*Please plan to arrive early if you plan to rent from our collection as selection is limited and equipment is rented on a first-come-first-serve basis.\n\n  \nEVENT REGISTRATION TERMS & CONDITIONS\nCourse Transfer: With 72-hour advance notice of the event date\, we will issue a unique re-registration code for course transfers.\nCancellation Refund: Refunds for 50% of the balance of the event fee\, if no transfer is possible\, are issued in-store gift cards only\, but ONLY if we are notified of the cancelation up to 72 hours before the event date.\nNo-Call/No-Show: Participants who do not attend the event without prior 72-hour notice forfeit their total registration fees.\nSame-Day Cancelations: Same-day cancelations are non-refundable as spots in classes are quick to fill\, and we will be unable to resell that spot in the event or give an individual on a waitlist adequate time to purchase that spot.
URL:https://howellsgunshop.com/event/6-12-25-pistol-marksmanship/
LOCATION:Howell’s Gun Shop\, 81 West Gray Road\, Gray\, ME\, 04039\, United States
CATEGORIES:All Events,Handgun Accuracy,Handgun Marksmanship,New Shooter 2 - Marksmanship
ATTACH;FMTTYPE=image/png:https://howellsgunshop.com/wp-content/uploads/2024/10/PistolMarksmanshipWorkshop.png
END:VEVENT
BEGIN:VEVENT
DTSTART;TZID=America/New_York:20250515T090000
DTEND;TZID=America/New_York:20250515T120000
DTSTAMP:20260423T173619
CREATED:20241009T185709Z
LAST-MODIFIED:20241009T185709Z
UID:16017-1747299600-1747310400@howellsgunshop.com
SUMMARY:5/15/25 - Pistol Marksmanship
DESCRIPTION:Whether you’re new to shooting or looking to fine-tune your marksmanship\, this dynamic three-hour workshop is designed to help you build confidence and precision with your pistol. With focused\, hands-on instruction\, you’ll master the essentials like grip\, stance\, sight alignment\, and trigger control—foundational skills for every shooter. \nAs you progress\, you’ll challenge yourself with target transitions\, engaging at various distances\, and navigating through both simple and complex courses of fire. This workshop is perfect as a follow-up to Howell’s New Shooter Program or as a skill refresher for experienced shooters looking to sharpen their abilities. Wherever you are in your journey\, this course will elevate your shooting to the next level. \n  \nREQUIRED EQUIPMENT: \n\nSemiautomatic Handgun (preferably centerfire) *Rentals Available\n2 Magazines\n200 Rounds of Ammunition\nEye and ear protection\nRange Appropriate Attire: Long pants\, high collared shirt or t-shirt\, closed-toe shoes\, ball caps recommended.\n*Please plan to arrive early if you plan to rent from our collection as selection is limited and equipment is rented on a first-come-first-serve basis.\n\n  \nEVENT REGISTRATION TERMS & CONDITIONS\nCourse Transfer: With 72-hour advance notice of the event date\, we will issue a unique re-registration code for course transfers.\nCancellation Refund: Refunds for 50% of the balance of the event fee\, if no transfer is possible\, are issued in-store gift cards only\, but ONLY if we are notified of the cancelation up to 72 hours before the event date.\nNo-Call/No-Show: Participants who do not attend the event without prior 72-hour notice forfeit their total registration fees.\nSame-Day Cancelations: Same-day cancelations are non-refundable as spots in classes are quick to fill\, and we will be unable to resell that spot in the event or give an individual on a waitlist adequate time to purchase that spot.
URL:https://howellsgunshop.com/event/5-15-25-pistol-marksmanship/
LOCATION:Howell’s Gun Shop\, 81 West Gray Road\, Gray\, ME\, 04039\, United States
CATEGORIES:All Events,Handgun Accuracy,Handgun Marksmanship,New Shooter 2 - Marksmanship
ATTACH;FMTTYPE=image/png:https://howellsgunshop.com/wp-content/uploads/2024/10/PistolMarksmanshipWorkshop.png
END:VEVENT
BEGIN:VEVENT
DTSTART;TZID=America/New_York:20250417T090000
DTEND;TZID=America/New_York:20250417T120000
DTSTAMP:20260423T173619
CREATED:20241009T185542Z
LAST-MODIFIED:20241009T185542Z
UID:16014-1744880400-1744891200@howellsgunshop.com
SUMMARY:4/17/25 - Pistol Marksmanship
DESCRIPTION:Whether you’re new to shooting or looking to fine-tune your marksmanship\, this dynamic three-hour workshop is designed to help you build confidence and precision with your pistol. With focused\, hands-on instruction\, you’ll master the essentials like grip\, stance\, sight alignment\, and trigger control—foundational skills for every shooter. \nAs you progress\, you’ll challenge yourself with target transitions\, engaging at various distances\, and navigating through both simple and complex courses of fire. This workshop is perfect as a follow-up to Howell’s New Shooter Program or as a skill refresher for experienced shooters looking to sharpen their abilities. Wherever you are in your journey\, this course will elevate your shooting to the next level. \n  \nREQUIRED EQUIPMENT: \n\nSemiautomatic Handgun (preferably centerfire) *Rentals Available\n2 Magazines\n200 Rounds of Ammunition\nEye and ear protection\nRange Appropriate Attire: Long pants\, high collared shirt or t-shirt\, closed-toe shoes\, ball caps recommended.\n*Please plan to arrive early if you plan to rent from our collection as selection is limited and equipment is rented on a first-come-first-serve basis.\n\n  \nEVENT REGISTRATION TERMS & CONDITIONS\nCourse Transfer: With 72-hour advance notice of the event date\, we will issue a unique re-registration code for course transfers.\nCancellation Refund: Refunds for 50% of the balance of the event fee\, if no transfer is possible\, are issued in-store gift cards only\, but ONLY if we are notified of the cancelation up to 72 hours before the event date.\nNo-Call/No-Show: Participants who do not attend the event without prior 72-hour notice forfeit their total registration fees.\nSame-Day Cancelations: Same-day cancelations are non-refundable as spots in classes are quick to fill\, and we will be unable to resell that spot in the event or give an individual on a waitlist adequate time to purchase that spot.
URL:https://howellsgunshop.com/event/4-17-25-pistol-marksmanship/
LOCATION:Howell’s Gun Shop\, 81 West Gray Road\, Gray\, ME\, 04039\, United States
CATEGORIES:All Events,Handgun Accuracy,Handgun Marksmanship,New Shooter 2 - Marksmanship
ATTACH;FMTTYPE=image/png:https://howellsgunshop.com/wp-content/uploads/2024/10/PistolMarksmanshipWorkshop.png
END:VEVENT
BEGIN:VEVENT
DTSTART;TZID=America/New_York:20241113T090000
DTEND;TZID=America/New_York:20241113T120000
DTSTAMP:20260423T173619
CREATED:20240218T043504Z
LAST-MODIFIED:20240520T021711Z
UID:14741-1731488400-1731499200@howellsgunshop.com
SUMMARY:11/13/24 - New Shooter 2 – MARKSMANSHIP
DESCRIPTION:Duration Of 3 Hours\nCourse Fee $150\n\nThis three-hour workshop focuses on gaining proficiency in pistol marksmanship. Detailed instruction is provided on grip\, stance\, sights\, and trigger control. This course includes target transitions\, working across various pistol distances\, and simple to complex courses of fire. It is a great second class in Howell’s New Shooter Program and an ideal tune-up for returning or developing shooters.\n \n\nREQUIRED EQUIPMENT: \n\nSemiautomatic Handgun (preferably centerfire) *Rentals Available\n2 Magazines\n200 Rounds of Ammunition\nEye and ear protection\nRange Appropriate Attire: Long pants\, high collared shirt or t-shirt\, closed-toe shoes\, ball caps recommended.\n*Please plan to arrive early if you plan to rent from our collection as selection is limited and equipment is rented on a first-come-first-serve basis.\n\n\nEVENT REGISTRATION TERMS & CONDITIONS\nCourse Transfer: With 72-hour advance notice of the event date\, we will issue a unique re-registration code for course transfers.\nCancellation Refund: Refunds for 50% of the balance of the event fee\, if no transfer is possible\, are issued in-store gift cards only\, but ONLY if we are notified of the cancelation up to 72 hours before the event date.\nNo-Call/No-Show: Participants who do not attend the event without prior 72-hour notice forfeit their total registration fees.\nSame-Day Cancelations: Same-day cancelations are non-refundable as spots in classes are quick to fill\, and we will be unable to resell that spot in the event or give an individual on a waitlist adequate time to purchase that spot.
URL:https://howellsgunshop.com/event/11-13-24-new-shooter-2-marksmanship/
LOCATION:Howell’s Gun Shop\, 81 West Gray Road\, Gray\, ME\, 04039\, United States
CATEGORIES:All Events,New Shooter 2 - Marksmanship,New Shooter Program
ATTACH;FMTTYPE=image/png:https://howellsgunshop.com/wp-content/uploads/2024/02/6224-DefensiveHandgun-2.png
END:VEVENT
BEGIN:VEVENT
DTSTART;TZID=America/New_York:20241002T090000
DTEND;TZID=America/New_York:20241002T120000
DTSTAMP:20260423T173619
CREATED:20240218T043301Z
LAST-MODIFIED:20240520T020157Z
UID:14738-1727859600-1727870400@howellsgunshop.com
SUMMARY:10/2/24 - New Shooter 2 – MARKSMANSHIP
DESCRIPTION:Duration Of 3 Hours\nCourse Fee $150\n\nThis three-hour workshop focuses on gaining proficiency in pistol marksmanship. Detailed instruction is provided on grip\, stance\, sights\, and trigger control. This course includes target transitions\, working across various pistol distances\, and simple to complex courses of fire. It is a great second class in Howell’s New Shooter Program and an ideal tune-up for returning or developing shooters.\n \n\nREQUIRED EQUIPMENT: \n\nSemiautomatic Handgun (preferably centerfire) *Rentals Available\n2 Magazines\n200 Rounds of Ammunition\nEye and ear protection\nRange Appropriate Attire: Long pants\, high collared shirt or t-shirt\, closed-toe shoes\, ball caps recommended.\n*Please plan to arrive early if you plan to rent from our collection as selection is limited and equipment is rented on a first-come-first-serve basis.\n\n\nEVENT REGISTRATION TERMS & CONDITIONS\nCourse Transfer: With 72-hour advance notice of the event date\, we will issue a unique re-registration code for course transfers.\nCancellation Refund: Refunds for 50% of the balance of the event fee\, if no transfer is possible\, are issued in-store gift cards only\, but ONLY if we are notified of the cancelation up to 72 hours before the event date.\nNo-Call/No-Show: Participants who do not attend the event without prior 72-hour notice forfeit their total registration fees.\nSame-Day Cancelations: Same-day cancelations are non-refundable as spots in classes are quick to fill\, and we will be unable to resell that spot in the event or give an individual on a waitlist adequate time to purchase that spot.
URL:https://howellsgunshop.com/event/10-2-24-new-shooter-2-marksmanship/
LOCATION:Howell’s Gun Shop\, 81 West Gray Road\, Gray\, ME\, 04039\, United States
CATEGORIES:All Events,New Shooter 2 - Marksmanship,New Shooter Program
ATTACH;FMTTYPE=image/png:https://howellsgunshop.com/wp-content/uploads/2024/02/6224-DefensiveHandgun-2.png
END:VEVENT
BEGIN:VEVENT
DTSTART;TZID=America/New_York:20240807T090000
DTEND;TZID=America/New_York:20240807T120000
DTSTAMP:20260423T173619
CREATED:20240218T043056Z
LAST-MODIFIED:20240806T022147Z
UID:14735-1723021200-1723032000@howellsgunshop.com
SUMMARY:CANCELED - New Shooter 2 – MARKSMANSHIP
DESCRIPTION:Duration Of 3 Hours\nCourse Fee $150\n\nThis three-hour workshop focuses on gaining proficiency in pistol marksmanship. Detailed instruction is provided on grip\, stance\, sights\, and trigger control. This course includes target transitions\, working across various pistol distances\, and simple to complex courses of fire. It is a great second class in Howell’s New Shooter Program and an ideal tune-up for returning or developing shooters.\n \n\nREQUIRED EQUIPMENT: \n\nSemiautomatic Handgun (preferably centerfire) *Rentals Available\n2 Magazines\n200 Rounds of Ammunition\nEye and ear protection\nRange Appropriate Attire: Long pants\, high collared shirt or t-shirt\, closed-toe shoes\, ball caps recommended.\n*Please plan to arrive early if you plan to rent from our collection as selection is limited and equipment is rented on a first-come-first-serve basis.\n\n\nEVENT REGISTRATION TERMS & CONDITIONS\nCourse Transfer: With 72-hour advance notice of the event date\, we will issue a unique re-registration code for course transfers.\nCancellation Refund: Refunds for 50% of the balance of the event fee\, if no transfer is possible\, are issued in-store gift cards only\, but ONLY if we are notified of the cancelation up to 72 hours before the event date.\nNo-Call/No-Show: Participants who do not attend the event without prior 72-hour notice forfeit their total registration fees.\nSame-Day Cancelations: Same-day cancelations are non-refundable as spots in classes are quick to fill\, and we will be unable to resell that spot in the event or give an individual on a waitlist adequate time to purchase that spot.
URL:https://howellsgunshop.com/event/8-7-24-new-shooter-2-marksmanship/
LOCATION:Howell’s Gun Shop\, 81 West Gray Road\, Gray\, ME\, 04039\, United States
CATEGORIES:All Events,New Shooter 2 - Marksmanship,New Shooter Program
ATTACH;FMTTYPE=image/png:https://howellsgunshop.com/wp-content/uploads/2024/02/6224-DefensiveHandgun-2.png
END:VEVENT
BEGIN:VEVENT
DTSTART;TZID=America/New_York:20240507T130000
DTEND;TZID=America/New_York:20240507T160000
DTSTAMP:20260423T173619
CREATED:20240218T042212Z
LAST-MODIFIED:20240218T044516Z
UID:14728-1715086800-1715097600@howellsgunshop.com
SUMMARY:5/7/24 - New Shooter 2 – MARKSMANSHIP
DESCRIPTION:Duration Of 3 Hours\nCourse Fee $150\n\nThis three-hour workshop focuses on gaining proficiency in pistol marksmanship. Detailed instruction is provided on grip\, stance\, sights\, and trigger control. This course includes target transitions\, working across various pistol distances\, and simple to complex courses of fire. It is a great second class in Howell’s New Shooter Program and an ideal tune-up for returning or developing shooters.\n \n\nREQUIRED EQUIPMENT: \n\nSemiautomatic Handgun (preferably centerfire) *Rentals Available\n2 Magazines\n200 Rounds of Ammunition\nEye and ear protection\nRange Appropriate Attire: Long pants\, high collared shirt or t-shirt\, closed-toe shoes\, ball caps recommended.\n*Please plan to arrive early if you plan to rent from our collection as selection is limited and equipment is rented on a first-come-first-serve basis.\n\n\nEVENT REGISTRATION TERMS & CONDITIONS\nCourse Transfer: With 72-hour advance notice of the event date\, we will issue a unique re-registration code for course transfers.\nCancellation Refund: Refunds for 50% of the balance of the event fee\, if no transfer is possible\, are issued in-store gift cards only\, but ONLY if we are notified of the cancelation up to 72 hours before the event date.\nNo-Call/No-Show: Participants who do not attend the event without prior 72-hour notice forfeit their total registration fees.\nSame-Day Cancelations: Same-day cancelations are non-refundable as spots in classes are quick to fill\, and we will be unable to resell that spot in the event or give an individual on a waitlist adequate time to purchase that spot.
URL:https://howellsgunshop.com/event/5-7-24-new-shooter-2-marksmanship/
LOCATION:Howell’s Gun Shop\, 81 West Gray Road\, Gray\, ME\, 04039\, United States
CATEGORIES:All Events,New Shooter 2 - Marksmanship,New Shooter Program
ATTACH;FMTTYPE=image/png:https://howellsgunshop.com/wp-content/uploads/2024/02/6224-DefensiveHandgun-2.png
END:VEVENT
BEGIN:VEVENT
DTSTART;TZID=America/New_York:20240410T130000
DTEND;TZID=America/New_York:20240410T160000
DTSTAMP:20260423T173619
CREATED:20240218T042003Z
LAST-MODIFIED:20240218T044516Z
UID:14725-1712754000-1712764800@howellsgunshop.com
SUMMARY:4/10/24 - New Shooter 2 – MARKSMANSHIP
DESCRIPTION:Duration Of 3 Hours\nCourse Fee $150\n\nThis three-hour workshop focuses on gaining proficiency in pistol marksmanship. Detailed instruction is provided on grip\, stance\, sights\, and trigger control. This course includes target transitions\, working across various pistol distances\, and simple to complex courses of fire. It is a great second class in Howell’s New Shooter Program and an ideal tune-up for returning or developing shooters.\n \n\nREQUIRED EQUIPMENT: \n\nSemiautomatic Handgun (preferably centerfire) *Rentals Available\n2 Magazines\n200 Rounds of Ammunition\nEye and ear protection\nRange Appropriate Attire: Long pants\, high collared shirt or t-shirt\, closed-toe shoes\, ball caps recommended.\n*Please plan to arrive early if you plan to rent from our collection as selection is limited and equipment is rented on a first-come-first-serve basis.\n\n\nEVENT REGISTRATION TERMS & CONDITIONS\nCourse Transfer: With 72-hour advance notice of the event date\, we will issue a unique re-registration code for course transfers.\nCancellation Refund: Refunds for 50% of the balance of the event fee\, if no transfer is possible\, are issued in-store gift cards only\, but ONLY if we are notified of the cancelation up to 72 hours before the event date.\nNo-Call/No-Show: Participants who do not attend the event without prior 72-hour notice forfeit their total registration fees.\nSame-Day Cancelations: Same-day cancelations are non-refundable as spots in classes are quick to fill\, and we will be unable to resell that spot in the event or give an individual on a waitlist adequate time to purchase that spot.
URL:https://howellsgunshop.com/event/4-10-24-new-shooter-2-marksmanship/
LOCATION:Howell’s Gun Shop\, 81 West Gray Road\, Gray\, ME\, 04039\, United States
CATEGORIES:All Events,New Shooter 2 - Marksmanship,New Shooter Program
ATTACH;FMTTYPE=image/png:https://howellsgunshop.com/wp-content/uploads/2024/02/6224-DefensiveHandgun-2.png
END:VEVENT
BEGIN:VEVENT
DTSTART;TZID=America/New_York:20240326T130000
DTEND;TZID=America/New_York:20240326T160000
DTSTAMP:20260423T173619
CREATED:20240218T041644Z
LAST-MODIFIED:20240226T132017Z
UID:14723-1711458000-1711468800@howellsgunshop.com
SUMMARY:3/26/24 - New Shooter 2 – MARKSMANSHIP
DESCRIPTION:Duration Of 3 Hours\nCourse Fee $150\n\nThis three-hour workshop focuses on gaining proficiency in pistol marksmanship. Detailed instruction is provided on grip\, stance\, sights\, and trigger control. This course includes target transitions\, working across various pistol distances\, and simple to complex courses of fire. It is a great second class in Howell’s New Shooter Program and an ideal tune-up for returning or developing shooters.\n \n\nREQUIRED EQUIPMENT: \n\nSemiautomatic Handgun (preferably centerfire) *Rentals Available\n2 Magazines\n200 Rounds of Ammunition\nEye and ear protection\nRange Appropriate Attire: Long pants\, high collared shirt or t-shirt\, closed-toe shoes\, ball caps recommended.\n*Please plan to arrive early if you plan to rent from our collection as selection is limited and equipment is rented on a first-come-first-serve basis.\n\n\nEVENT REGISTRATION TERMS & CONDITIONS\nCourse Transfer: With 72-hour advance notice of the event date\, we will issue a unique re-registration code for course transfers.\nCancellation Refund: Refunds for 50% of the balance of the event fee\, if no transfer is possible\, are issued in-store gift cards only\, but ONLY if we are notified of the cancelation up to 72 hours before the event date.\nNo-Call/No-Show: Participants who do not attend the event without prior 72-hour notice forfeit their total registration fees.\nSame-Day Cancelations: Same-day cancelations are non-refundable as spots in classes are quick to fill\, and we will be unable to resell that spot in the event or give an individual on a waitlist adequate time to purchase that spot.
URL:https://howellsgunshop.com/event/3-26-24-new-shooter-2-marksmanship/
LOCATION:Howell’s Gun Shop\, 81 West Gray Road\, Gray\, ME\, 04039\, United States
CATEGORIES:All Events,New Shooter 2 - Marksmanship,New Shooter Program
ATTACH;FMTTYPE=image/png:https://howellsgunshop.com/wp-content/uploads/2024/02/6224-DefensiveHandgun-2.png
END:VEVENT
BEGIN:VEVENT
DTSTART;TZID=America/New_York:20240228T130000
DTEND;TZID=America/New_York:20240228T160000
DTSTAMP:20260423T173619
CREATED:20240218T040435Z
LAST-MODIFIED:20240227T211432Z
UID:14719-1709125200-1709136000@howellsgunshop.com
SUMMARY:RESCHEDULED – New Shooter 2 – MARKSMANSHIP
DESCRIPTION:CLASS RESCHEDULED TO 3/26/24\nDuration Of 3 Hours\nCourse Fee $150\n\nThis three-hour workshop focuses on gaining proficiency in pistol marksmanship. Detailed instruction is provided on grip\, stance\, sights\, and trigger control. This course includes target transitions\, working across various pistol distances\, and simple to complex courses of fire. It is a great second class in Howell’s New Shooter Program and an ideal tune-up for returning or developing shooters.\n \n\nREQUIRED EQUIPMENT: \n\nSemiautomatic Handgun (preferably centerfire) *Rentals Available\n2 Magazines\n200 Rounds of Ammunition\nEye and ear protection\nRange Appropriate Attire: Long pants\, high collared shirt or t-shirt\, closed-toe shoes\, ball caps recommended.\n*Please plan to arrive early if you plan to rent from our collection as selection is limited and equipment is rented on a first-come-first-serve basis.\n\n\nEVENT REGISTRATION TERMS & CONDITIONS\nCourse Transfer: With 72-hour advance notice of the event date\, we will issue a unique re-registration code for course transfers.\nCancellation Refund: Refunds for 50% of the balance of the event fee\, if no transfer is possible\, are issued in-store gift cards only\, but ONLY if we are notified of the cancelation up to 72 hours before the event date.\nNo-Call/No-Show: Participants who do not attend the event without prior 72-hour notice forfeit their total registration fees.\nSame-Day Cancelations: Same-day cancelations are non-refundable as spots in classes are quick to fill\, and we will be unable to resell that spot in the event or give an individual on a waitlist adequate time to purchase that spot.
URL:https://howellsgunshop.com/event/2-28-24-new-shooter-2-marksmanship/
LOCATION:Howell’s Gun Shop\, 81 West Gray Road\, Gray\, ME\, 04039\, United States
CATEGORIES:All Events,New Shooter 2 - Marksmanship,New Shooter Program
ATTACH;FMTTYPE=image/png:https://howellsgunshop.com/wp-content/uploads/2024/02/6224-DefensiveHandgun-2.png
END:VEVENT
END:VCALENDAR