BEGIN:VCALENDAR
VERSION:2.0
PRODID:-//Howell&#039;s Gun Shop - ECPv6.15.20//NONSGML v1.0//EN
CALSCALE:GREGORIAN
METHOD:PUBLISH
X-ORIGINAL-URL:https://howellsgunshop.com
X-WR-CALDESC:Events for Howell&#039;s Gun Shop
REFRESH-INTERVAL;VALUE=DURATION:PT1H
X-Robots-Tag:noindex
X-PUBLISHED-TTL:PT1H
BEGIN:VTIMEZONE
TZID:America/New_York
BEGIN:DAYLIGHT
TZOFFSETFROM:-0500
TZOFFSETTO:-0400
TZNAME:EDT
DTSTART:20230312T070000
END:DAYLIGHT
BEGIN:STANDARD
TZOFFSETFROM:-0400
TZOFFSETTO:-0500
TZNAME:EST
DTSTART:20231105T060000
END:STANDARD
BEGIN:DAYLIGHT
TZOFFSETFROM:-0500
TZOFFSETTO:-0400
TZNAME:EDT
DTSTART:20240310T070000
END:DAYLIGHT
BEGIN:STANDARD
TZOFFSETFROM:-0400
TZOFFSETTO:-0500
TZNAME:EST
DTSTART:20241103T060000
END:STANDARD
BEGIN:DAYLIGHT
TZOFFSETFROM:-0500
TZOFFSETTO:-0400
TZNAME:EDT
DTSTART:20250309T070000
END:DAYLIGHT
BEGIN:STANDARD
TZOFFSETFROM:-0400
TZOFFSETTO:-0500
TZNAME:EST
DTSTART:20251102T060000
END:STANDARD
END:VTIMEZONE
BEGIN:VEVENT
DTSTART;TZID=America/New_York:20241030T090000
DTEND;TZID=America/New_York:20241030T120000
DTSTAMP:20260423T173748
CREATED:20240218T052224Z
LAST-MODIFIED:20240520T021039Z
UID:14774-1730278800-1730289600@howellsgunshop.com
SUMMARY:10/30/24 - New Shooter 3 - RELOADS
DESCRIPTION:Duration Of 3 Hours\nCourse Fee $150\n\nKeeping the handgun operational when magazines run out is fun and challenging. This three-hour workshop focuses on the three kinds of pistol reloads and how\, when\, and why they are best utilized. Techniques for each type of reload are rooted in safety and efficiency. Timed shooting exercises allow participants to track their progress and record their personal best for each shooting standard drill. This course covers The skills and techniques essential for competition\, concealed carry\, home defense\, and general enthusiast plinking. This course is appropriate for shooters of all skill levels.\n \n  \nREQUIRED EQUIPMENT: \n\nSemiautomatic Handgun (preferably centerfire) *Rentals Available\n2+ Magazines\n200 Rounds of Ammunition\nEye and ear protection\nRange Appropriate Attire: Long pants\, high collared shirt or t-shirt\, closed-toe shoes\, ball caps recommended.\n*Please plan to arrive early if you plan to rent from our collection as selection is limited and equipment is rented on a first-come-first-serve basis.\n\n\nEVENT REGISTRATION TERMS & CONDITIONS\nCourse Transfer: With 72-hour advance notice of the event date\, we will issue a unique re-registration code for course transfers.\nCancellation Refund: Refunds for 50% of the balance of the event fee\, if no transfer is possible\, are issued in-store gift cards only\, but ONLY if we are notified of the cancelation up to 72 hours before the event date.\nNo-Call/No-Show: Participants who do not attend the event without prior 72-hour notice forfeit their total registration fees.\nSame-Day Cancelations: Same-day cancelations are non-refundable as spots in classes are quick to fill\, and we will be unable to resell that spot in the event or give an individual on a waitlist adequate time to purchase that spot.
URL:https://howellsgunshop.com/event/10-30-24-new-shooter-3-reloads/
LOCATION:Howell’s Gun Shop\, 81 West Gray Road\, Gray\, ME\, 04039\, United States
CATEGORIES:All Events,New Shooter 3 - Reloads,New Shooter Program
ATTACH;FMTTYPE=image/png:https://howellsgunshop.com/wp-content/uploads/2024/02/6224-DefensiveHandgun-3.png
END:VEVENT
BEGIN:VEVENT
DTSTART;TZID=America/New_York:20240904T090000
DTEND;TZID=America/New_York:20240904T120000
DTSTAMP:20260423T173748
CREATED:20240218T052021Z
LAST-MODIFIED:20240827T134256Z
UID:14771-1725440400-1725451200@howellsgunshop.com
SUMMARY:CANCELED - New Shooter 3 - RELOADS
DESCRIPTION:Duration Of 3 Hours\nCourse Fee $150\n\nKeeping the handgun operational when magazines run out is fun and challenging. This three-hour workshop focuses on the three kinds of pistol reloads and how\, when\, and why they are best utilized. Techniques for each type of reload are rooted in safety and efficiency. Timed shooting exercises allow participants to track their progress and record their personal best for each shooting standard drill. This course covers The skills and techniques essential for competition\, concealed carry\, home defense\, and general enthusiast plinking. This course is appropriate for shooters of all skill levels.\n \n  \nREQUIRED EQUIPMENT: \n\nSemiautomatic Handgun (preferably centerfire) *Rentals Available\n2+ Magazines\n200 Rounds of Ammunition\nEye and ear protection\nRange Appropriate Attire: Long pants\, high collared shirt or t-shirt\, closed-toe shoes\, ball caps recommended.\n*Please plan to arrive early if you plan to rent from our collection as selection is limited and equipment is rented on a first-come-first-serve basis.\n\n\nEVENT REGISTRATION TERMS & CONDITIONS\nCourse Transfer: With 72-hour advance notice of the event date\, we will issue a unique re-registration code for course transfers.\nCancellation Refund: Refunds for 50% of the balance of the event fee\, if no transfer is possible\, are issued in-store gift cards only\, but ONLY if we are notified of the cancelation up to 72 hours before the event date.\nNo-Call/No-Show: Participants who do not attend the event without prior 72-hour notice forfeit their total registration fees.\nSame-Day Cancelations: Same-day cancelations are non-refundable as spots in classes are quick to fill\, and we will be unable to resell that spot in the event or give an individual on a waitlist adequate time to purchase that spot.
URL:https://howellsgunshop.com/event/9-4-24-new-shooter-3-reloads/
LOCATION:Howell’s Gun Shop\, 81 West Gray Road\, Gray\, ME\, 04039\, United States
CATEGORIES:All Events,New Shooter 3 - Reloads,New Shooter Program
ATTACH;FMTTYPE=image/png:https://howellsgunshop.com/wp-content/uploads/2024/02/6224-DefensiveHandgun-3.png
END:VEVENT
BEGIN:VEVENT
DTSTART;TZID=America/New_York:20240710T090000
DTEND;TZID=America/New_York:20240710T120000
DTSTAMP:20260423T173748
CREATED:20240218T051631Z
LAST-MODIFIED:20240708T144010Z
UID:14765-1720602000-1720612800@howellsgunshop.com
SUMMARY:CANCELED - New Shooter 3 - RELOADS
DESCRIPTION:Duration Of 3 Hours\nCourse Fee $150\n\nKeeping the handgun operational when magazines run out is fun and challenging. This three-hour workshop focuses on the three kinds of pistol reloads and how\, when\, and why they are best utilized. Techniques for each type of reload are rooted in safety and efficiency. Timed shooting exercises allow participants to track their progress and record their personal best for each shooting standard drill. This course covers The skills and techniques essential for competition\, concealed carry\, home defense\, and general enthusiast plinking. This course is appropriate for shooters of all skill levels.\n \n  \nREQUIRED EQUIPMENT: \n\nSemiautomatic Handgun (preferably centerfire) *Rentals Available\n2+ Magazines\n200 Rounds of Ammunition\nEye and ear protection\nRange Appropriate Attire: Long pants\, high collared shirt or t-shirt\, closed-toe shoes\, ball caps recommended.\n*Please plan to arrive early if you plan to rent from our collection as selection is limited and equipment is rented on a first-come-first-serve basis.\n\n\nEVENT REGISTRATION TERMS & CONDITIONS\nCourse Transfer: With 72-hour advance notice of the event date\, we will issue a unique re-registration code for course transfers.\nCancellation Refund: Refunds for 50% of the balance of the event fee\, if no transfer is possible\, are issued in-store gift cards only\, but ONLY if we are notified of the cancelation up to 72 hours before the event date.\nNo-Call/No-Show: Participants who do not attend the event without prior 72-hour notice forfeit their total registration fees.\nSame-Day Cancelations: Same-day cancelations are non-refundable as spots in classes are quick to fill\, and we will be unable to resell that spot in the event or give an individual on a waitlist adequate time to purchase that spot.
URL:https://howellsgunshop.com/event/7-10-24-new-shooter-3-reloads/
LOCATION:Howell’s Gun Shop\, 81 West Gray Road\, Gray\, ME\, 04039\, United States
CATEGORIES:All Events,New Shooter 3 - Reloads,New Shooter Program
ATTACH;FMTTYPE=image/png:https://howellsgunshop.com/wp-content/uploads/2024/02/6224-DefensiveHandgun-3.png
END:VEVENT
BEGIN:VEVENT
DTSTART;TZID=America/New_York:20240515T090000
DTEND;TZID=America/New_York:20240515T120000
DTSTAMP:20260423T173748
CREATED:20240218T051116Z
LAST-MODIFIED:20240218T051116Z
UID:14758-1715763600-1715774400@howellsgunshop.com
SUMMARY:5/15/24 - New Shooter 3 - RELOADS
DESCRIPTION:Duration Of 3 Hours\nCourse Fee $150\n\nKeeping the handgun operational when magazines run out is fun and challenging. This three-hour workshop focuses on the three kinds of pistol reloads and how\, when\, and why they are best utilized. Techniques for each type of reload are rooted in safety and efficiency. Timed shooting exercises allow participants to track their progress and record their personal best for each shooting standard drill. This course covers The skills and techniques essential for competition\, concealed carry\, home defense\, and general enthusiast plinking. This course is appropriate for shooters of all skill levels.\n \n  \nREQUIRED EQUIPMENT: \n\nSemiautomatic Handgun (preferably centerfire) *Rentals Available\n2+ Magazines\n200 Rounds of Ammunition\nEye and ear protection\nRange Appropriate Attire: Long pants\, high collared shirt or t-shirt\, closed-toe shoes\, ball caps recommended.\n*Please plan to arrive early if you plan to rent from our collection as selection is limited and equipment is rented on a first-come-first-serve basis.\n\n\nEVENT REGISTRATION TERMS & CONDITIONS\nCourse Transfer: With 72-hour advance notice of the event date\, we will issue a unique re-registration code for course transfers.\nCancellation Refund: Refunds for 50% of the balance of the event fee\, if no transfer is possible\, are issued in-store gift cards only\, but ONLY if we are notified of the cancelation up to 72 hours before the event date.\nNo-Call/No-Show: Participants who do not attend the event without prior 72-hour notice forfeit their total registration fees.\nSame-Day Cancelations: Same-day cancelations are non-refundable as spots in classes are quick to fill\, and we will be unable to resell that spot in the event or give an individual on a waitlist adequate time to purchase that spot.
URL:https://howellsgunshop.com/event/5-15-24-new-shooter-3-reloads/
LOCATION:Howell’s Gun Shop\, 81 West Gray Road\, Gray\, ME\, 04039\, United States
CATEGORIES:All Events,New Shooter 3 - Reloads,New Shooter Program
ATTACH;FMTTYPE=image/png:https://howellsgunshop.com/wp-content/uploads/2024/02/6224-DefensiveHandgun-3.png
END:VEVENT
BEGIN:VEVENT
DTSTART;TZID=America/New_York:20240417T090000
DTEND;TZID=America/New_York:20240417T120000
DTSTAMP:20260423T173748
CREATED:20240218T050819Z
LAST-MODIFIED:20240415T012111Z
UID:14753-1713344400-1713355200@howellsgunshop.com
SUMMARY:CANCELED - New Shooter 3 - RELOADS
DESCRIPTION:Duration Of 3 Hours\nCourse Fee $150\n\nKeeping the handgun operational when magazines run out is fun and challenging. This three-hour workshop focuses on the three kinds of pistol reloads and how\, when\, and why they are best utilized. Techniques for each type of reload are rooted in safety and efficiency. Timed shooting exercises allow participants to track their progress and record their personal best for each shooting standard drill. This course covers The skills and techniques essential for competition\, concealed carry\, home defense\, and general enthusiast plinking. This course is appropriate for shooters of all skill levels.\n \n  \nREQUIRED EQUIPMENT: \n\nSemiautomatic Handgun (preferably centerfire) *Rentals Available\n2+ Magazines\n200 Rounds of Ammunition\nEye and ear protection\nRange Appropriate Attire: Long pants\, high collared shirt or t-shirt\, closed-toe shoes\, ball caps recommended.\n*Please plan to arrive early if you plan to rent from our collection as selection is limited and equipment is rented on a first-come-first-serve basis.\n\n\nEVENT REGISTRATION TERMS & CONDITIONS\nCourse Transfer: With 72-hour advance notice of the event date\, we will issue a unique re-registration code for course transfers.\nCancellation Refund: Refunds for 50% of the balance of the event fee\, if no transfer is possible\, are issued in-store gift cards only\, but ONLY if we are notified of the cancelation up to 72 hours before the event date.\nNo-Call/No-Show: Participants who do not attend the event without prior 72-hour notice forfeit their total registration fees.\nSame-Day Cancelations: Same-day cancelations are non-refundable as spots in classes are quick to fill\, and we will be unable to resell that spot in the event or give an individual on a waitlist adequate time to purchase that spot.
URL:https://howellsgunshop.com/event/4-17-24-new-shooter-3-reloads/
LOCATION:Howell’s Gun Shop\, 81 West Gray Road\, Gray\, ME\, 04039\, United States
CATEGORIES:All Events,New Shooter 3 - Reloads,New Shooter Program
ATTACH;FMTTYPE=image/png:https://howellsgunshop.com/wp-content/uploads/2024/02/6224-DefensiveHandgun-3.png
END:VEVENT
END:VCALENDAR