BEGIN:VCALENDAR
VERSION:2.0
PRODID:-//Howell&#039;s Gun Shop - ECPv6.15.20//NONSGML v1.0//EN
CALSCALE:GREGORIAN
METHOD:PUBLISH
X-ORIGINAL-URL:https://howellsgunshop.com
X-WR-CALDESC:Events for Howell&#039;s Gun Shop
REFRESH-INTERVAL;VALUE=DURATION:PT1H
X-Robots-Tag:noindex
X-PUBLISHED-TTL:PT1H
BEGIN:VTIMEZONE
TZID:America/New_York
BEGIN:DAYLIGHT
TZOFFSETFROM:-0500
TZOFFSETTO:-0400
TZNAME:EDT
DTSTART:20230312T070000
END:DAYLIGHT
BEGIN:STANDARD
TZOFFSETFROM:-0400
TZOFFSETTO:-0500
TZNAME:EST
DTSTART:20231105T060000
END:STANDARD
BEGIN:DAYLIGHT
TZOFFSETFROM:-0500
TZOFFSETTO:-0400
TZNAME:EDT
DTSTART:20240310T070000
END:DAYLIGHT
BEGIN:STANDARD
TZOFFSETFROM:-0400
TZOFFSETTO:-0500
TZNAME:EST
DTSTART:20241103T060000
END:STANDARD
BEGIN:DAYLIGHT
TZOFFSETFROM:-0500
TZOFFSETTO:-0400
TZNAME:EDT
DTSTART:20250309T070000
END:DAYLIGHT
BEGIN:STANDARD
TZOFFSETFROM:-0400
TZOFFSETTO:-0500
TZNAME:EST
DTSTART:20251102T060000
END:STANDARD
END:VTIMEZONE
BEGIN:VEVENT
DTSTART;TZID=America/New_York:20241016T090000
DTEND;TZID=America/New_York:20241016T120000
DTSTAMP:20260423T162141
CREATED:20240218T054649Z
LAST-MODIFIED:20241014T023202Z
UID:14800-1729069200-1729080000@howellsgunshop.com
SUMMARY:CANCELED – New Shooter 4 – MALFUNCTIONS
DESCRIPTION:Duration Of 3 Hours\nCourse Fee $150\n\nWhat do you do when the gun does not go bang? Pistol malfunctions occur due to three predictable causes: the shooter\, the gun\, or the ammunition. Learn to recognize\, diagnose\, and solve the most common pistol malfunctions safely and efficiently and get the gun back into operation. This course covers The skills and techniques essential for competition\, concealed carry\, home defense\, and general enthusiast plinking. This course is appropriate for shooters of all skill levels.\n \n  \nREQUIRED EQUIPMENT: \n\nSemiautomatic Handgun (preferably centerfire) *Rentals Available\n2+ Magazines\n200 Rounds of Ammunition\nEye and ear protection\nRange Appropriate Attire: Long pants\, high collared shirt or t-shirt\, closed-toe shoes\, ball caps recommended.\n*Please plan to arrive early if you plan to rent from our collection as selection is limited and equipment is rented on a first-come-first-serve basis.\n\n\nEVENT REGISTRATION TERMS & CONDITIONS\nCourse Transfer: With 72-hour advance notice of the event date\, we will issue a unique re-registration code for course transfers.\nCancellation Refund: Refunds for 50% of the balance of the event fee\, if no transfer is possible\, are issued in-store gift cards only\, but ONLY if we are notified of the cancelation up to 72 hours before the event date.\nNo-Call/No-Show: Participants who do not attend the event without prior 72-hour notice forfeit their total registration fees.\nSame-Day Cancelations: Same-day cancelations are non-refundable as spots in classes are quick to fill\, and we will be unable to resell that spot in the event or give an individual on a waitlist adequate time to purchase that spot.
URL:https://howellsgunshop.com/event/10-16-24-new-shooter-4-malfunctions/
LOCATION:Howell’s Gun Shop\, 81 West Gray Road\, Gray\, ME\, 04039\, United States
CATEGORIES:All Events,New Shooter 4 - Malfunctions,New Shooter Program
ATTACH;FMTTYPE=image/png:https://howellsgunshop.com/wp-content/uploads/2024/02/6224-DefensiveHandgun-4.png
END:VEVENT
BEGIN:VEVENT
DTSTART;TZID=America/New_York:20240717T090000
DTEND;TZID=America/New_York:20240717T120000
DTSTAMP:20260423T162141
CREATED:20240218T054255Z
LAST-MODIFIED:20240218T054255Z
UID:14794-1721206800-1721217600@howellsgunshop.com
SUMMARY:7/17/24 – New Shooter 4 – MALFUNCTIONS
DESCRIPTION:Duration Of 3 Hours\nCourse Fee $150\n\nWhat do you do when the gun does not go bang? Pistol malfunctions occur due to three predictable causes: the shooter\, the gun\, or the ammunition. Learn to recognize\, diagnose\, and solve the most common pistol malfunctions safely and efficiently and get the gun back into operation. This course covers The skills and techniques essential for competition\, concealed carry\, home defense\, and general enthusiast plinking. This course is appropriate for shooters of all skill levels.\n \n  \nREQUIRED EQUIPMENT: \n\nSemiautomatic Handgun (preferably centerfire) *Rentals Available\n2+ Magazines\n200 Rounds of Ammunition\nEye and ear protection\nRange Appropriate Attire: Long pants\, high collared shirt or t-shirt\, closed-toe shoes\, ball caps recommended.\n*Please plan to arrive early if you plan to rent from our collection as selection is limited and equipment is rented on a first-come-first-serve basis.\n\n\nEVENT REGISTRATION TERMS & CONDITIONS\nCourse Transfer: With 72-hour advance notice of the event date\, we will issue a unique re-registration code for course transfers.\nCancellation Refund: Refunds for 50% of the balance of the event fee\, if no transfer is possible\, are issued in-store gift cards only\, but ONLY if we are notified of the cancelation up to 72 hours before the event date.\nNo-Call/No-Show: Participants who do not attend the event without prior 72-hour notice forfeit their total registration fees.\nSame-Day Cancelations: Same-day cancelations are non-refundable as spots in classes are quick to fill\, and we will be unable to resell that spot in the event or give an individual on a waitlist adequate time to purchase that spot.
URL:https://howellsgunshop.com/event/7-17-24-new-shooter-4-malfunctions/
LOCATION:Howell’s Gun Shop\, 81 West Gray Road\, Gray\, ME\, 04039\, United States
CATEGORIES:All Events,New Shooter 4 - Malfunctions,New Shooter Program
ATTACH;FMTTYPE=image/png:https://howellsgunshop.com/wp-content/uploads/2024/02/6224-DefensiveHandgun-4.png
END:VEVENT
BEGIN:VEVENT
DTSTART;TZID=America/New_York:20240417T130000
DTEND;TZID=America/New_York:20240417T160000
DTSTAMP:20260423T162141
CREATED:20240218T053910Z
LAST-MODIFIED:20240415T011844Z
UID:14787-1713358800-1713369600@howellsgunshop.com
SUMMARY:CANCELED – New Shooter 4 – MALFUNCTIONS
DESCRIPTION:Duration Of 3 Hours\nCourse Fee $150\n\nWhat do you do when the gun does not go bang? Pistol malfunctions occur due to three predictable causes: the shooter\, the gun\, or the ammunition. Learn to recognize\, diagnose\, and solve the most common pistol malfunctions safely and efficiently and get the gun back into operation. This course covers The skills and techniques essential for competition\, concealed carry\, home defense\, and general enthusiast plinking. This course is appropriate for shooters of all skill levels.\n \n  \nREQUIRED EQUIPMENT: \n\nSemiautomatic Handgun (preferably centerfire) *Rentals Available\n2+ Magazines\n200 Rounds of Ammunition\nEye and ear protection\nRange Appropriate Attire: Long pants\, high collared shirt or t-shirt\, closed-toe shoes\, ball caps recommended.\n*Please plan to arrive early if you plan to rent from our collection as selection is limited and equipment is rented on a first-come-first-serve basis.\n\n\nEVENT REGISTRATION TERMS & CONDITIONS\nCourse Transfer: With 72-hour advance notice of the event date\, we will issue a unique re-registration code for course transfers.\nCancellation Refund: Refunds for 50% of the balance of the event fee\, if no transfer is possible\, are issued in-store gift cards only\, but ONLY if we are notified of the cancelation up to 72 hours before the event date.\nNo-Call/No-Show: Participants who do not attend the event without prior 72-hour notice forfeit their total registration fees.\nSame-Day Cancelations: Same-day cancelations are non-refundable as spots in classes are quick to fill\, and we will be unable to resell that spot in the event or give an individual on a waitlist adequate time to purchase that spot.
URL:https://howellsgunshop.com/event/4-17-24-new-shooter-4-malfunctions/
LOCATION:Howell’s Gun Shop\, 81 West Gray Road\, Gray\, ME\, 04039\, United States
CATEGORIES:All Events,New Shooter 4 - Malfunctions,New Shooter Program
ATTACH;FMTTYPE=image/png:https://howellsgunshop.com/wp-content/uploads/2024/02/6224-DefensiveHandgun-4.png
END:VEVENT
BEGIN:VEVENT
DTSTART;TZID=America/New_York:20240327T130000
DTEND;TZID=America/New_York:20240327T160000
DTSTAMP:20260423T162141
CREATED:20240218T053738Z
LAST-MODIFIED:20240218T053738Z
UID:14784-1711544400-1711555200@howellsgunshop.com
SUMMARY:3/27/24 – New Shooter 4 – MALFUNCTIONS
DESCRIPTION:Duration Of 3 Hours\nCourse Fee $150\n\nWhat do you do when the gun does not go bang? Pistol malfunctions occur due to three predictable causes: the shooter\, the gun\, or the ammunition. Learn to recognize\, diagnose\, and solve the most common pistol malfunctions safely and efficiently and get the gun back into operation. This course covers The skills and techniques essential for competition\, concealed carry\, home defense\, and general enthusiast plinking. This course is appropriate for shooters of all skill levels.\n \n  \nREQUIRED EQUIPMENT: \n\nSemiautomatic Handgun (preferably centerfire) *Rentals Available\n2+ Magazines\n200 Rounds of Ammunition\nEye and ear protection\nRange Appropriate Attire: Long pants\, high collared shirt or t-shirt\, closed-toe shoes\, ball caps recommended.\n*Please plan to arrive early if you plan to rent from our collection as selection is limited and equipment is rented on a first-come-first-serve basis.\n\n\nEVENT REGISTRATION TERMS & CONDITIONS\nCourse Transfer: With 72-hour advance notice of the event date\, we will issue a unique re-registration code for course transfers.\nCancellation Refund: Refunds for 50% of the balance of the event fee\, if no transfer is possible\, are issued in-store gift cards only\, but ONLY if we are notified of the cancelation up to 72 hours before the event date.\nNo-Call/No-Show: Participants who do not attend the event without prior 72-hour notice forfeit their total registration fees.\nSame-Day Cancelations: Same-day cancelations are non-refundable as spots in classes are quick to fill\, and we will be unable to resell that spot in the event or give an individual on a waitlist adequate time to purchase that spot.
URL:https://howellsgunshop.com/event/3-27-24-new-shooter-4-malfunctions/
LOCATION:Howell’s Gun Shop\, 81 West Gray Road\, Gray\, ME\, 04039\, United States
CATEGORIES:New Shooter,New Shooter 4 - Malfunctions,New Shooter Program
ATTACH;FMTTYPE=image/png:https://howellsgunshop.com/wp-content/uploads/2024/02/6224-DefensiveHandgun-4.png
END:VEVENT
END:VCALENDAR