BEGIN:VCALENDAR
VERSION:2.0
PRODID:-//Howell&#039;s Gun Shop - ECPv6.15.20//NONSGML v1.0//EN
CALSCALE:GREGORIAN
METHOD:PUBLISH
X-WR-CALNAME:Howell&#039;s Gun Shop
X-ORIGINAL-URL:https://howellsgunshop.com
X-WR-CALDESC:Events for Howell&#039;s Gun Shop
REFRESH-INTERVAL;VALUE=DURATION:PT1H
X-Robots-Tag:noindex
X-PUBLISHED-TTL:PT1H
BEGIN:VTIMEZONE
TZID:America/New_York
BEGIN:DAYLIGHT
TZOFFSETFROM:-0500
TZOFFSETTO:-0400
TZNAME:EDT
DTSTART:20230312T070000
END:DAYLIGHT
BEGIN:STANDARD
TZOFFSETFROM:-0400
TZOFFSETTO:-0500
TZNAME:EST
DTSTART:20231105T060000
END:STANDARD
BEGIN:DAYLIGHT
TZOFFSETFROM:-0500
TZOFFSETTO:-0400
TZNAME:EDT
DTSTART:20240310T070000
END:DAYLIGHT
BEGIN:STANDARD
TZOFFSETFROM:-0400
TZOFFSETTO:-0500
TZNAME:EST
DTSTART:20241103T060000
END:STANDARD
BEGIN:DAYLIGHT
TZOFFSETFROM:-0500
TZOFFSETTO:-0400
TZNAME:EDT
DTSTART:20250309T070000
END:DAYLIGHT
BEGIN:STANDARD
TZOFFSETFROM:-0400
TZOFFSETTO:-0500
TZNAME:EST
DTSTART:20251102T060000
END:STANDARD
END:VTIMEZONE
BEGIN:VEVENT
DTSTART;TZID=America/New_York:20240109T090000
DTEND;TZID=America/New_York:20240109T120000
DTSTAMP:20260425T115647
CREATED:20231107T001854Z
LAST-MODIFIED:20240218T044643Z
UID:13462-1704790800-1704801600@howellsgunshop.com
SUMMARY:1/9/23 - Ladies New Shooter
DESCRIPTION:A NEW SHOOTER CLASS FOR WOMEN – TAUGHT BY WOMEN!\n\nDuration Of 3 Hours\nCourse Fee $150\nMembership: Discounts Apply!\nStep 1: New Shooter\nStep 2: Handgun Essentials\nStep 3: Beyond Basics\nStep 4: Defensive Handgun with Tatiana Whitlock \nHowell’s New Shooters class is designed to provide a hands-on introduction to the safe handling and proper range of use of handguns. This 3-hour class is a great first step for new shooters looking to become safe and responsible gun owners. \nThe goal of this class is to provide essential gun safety skills\, range etiquette\, terminology\, and basic shooting skills to ensure you have a safe and enjoyable experience at the range. Taught by Howell’s certified and friendly instructor team\, this is the class we wish we had the first time we went shooting! \nREQUIRED EQUIPMENT: \n\nHandguns provided for use in class\nAmmunition provided\nEye and ear protection\, available for purchase on-site\nAttire: Long pants\, high collared shirt or t-shirt\, closed-toe shoes\, ball caps recommended.\n*If you would like to bring and shoot your own firearm & 50 rounds of factory ball ammo at the end of the program.\n\nEVENT REGISTRATION TERMS & CONDITIONS\nCourse Transfer: With 72-hour advance notice of the event date we will issue a unique re-registration code for course transfers.\nCancellation Refund: Refunds for 50% balance of event fee\, if no transfer is possible\, are issued in the form of store gift cards only but ONLY if we are notified of the cancelation up to 72 hours in advance of the event date.\nNo-Call/No-Show: Participants who do not show to the event without prior 72-hour notice forfeit their total registration fees.\nSame Day Cancelations: Same day cancelations are non-refundable as spots in classes are quick to fill and we will be unable to resell that spot in the event or give an individual on a waitlist adequate time to purchase that spot.
URL:https://howellsgunshop.com/event/1-9-23-ladies-new-shooter/
LOCATION:Howell’s Gun Shop\, 81 West Gray Road\, Gray\, ME\, 04039\, United States
CATEGORIES:All Events,Ladies New Shooter,New Shooter Program
ATTACH;FMTTYPE=image/png:https://howellsgunshop.com/wp-content/uploads/2022/11/Howells-HA-2.png
END:VEVENT
BEGIN:VEVENT
DTSTART;TZID=America/New_York:20240117T090000
DTEND;TZID=America/New_York:20240117T120000
DTSTAMP:20260425T115647
CREATED:20231129T224724Z
LAST-MODIFIED:20240218T044517Z
UID:13874-1705482000-1705492800@howellsgunshop.com
SUMMARY:1/17/24 - New Shooter
DESCRIPTION:Duration Of 3 Hours\nCourse Fee $150\nStep 1: New Shooter\nStep 2: Handgun Essentials\nStep 3: Beyond Basics\nStep 4: Defensive Handgun with Tatiana Whitlock \n\nHowell’s New Shooters class provides a hands-on introduction to the safe handling and proper range of use of handguns. This 3-hour class is a significant first step for new shooters looking to become safe and responsible gun owners. This class aims to provide essential gun safety skills\, range etiquette\, terminology\, and basic shooting skills to ensure you have a safe and enjoyable experience at the range. Taught by Howell’s certified and friendly instructor team\, this is the class we wish we had the first time we went shooting! \n\nREQUIRED EQUIPMENT: \n\nHandguns provided for use in class\nAmmunition provided\nEye and ear protection\, available for purchase on-site\nAttire: Long pants\, high collared shirt or t-shirt\, closed-toe shoes\, ball caps recommended.\n*If you would like to bring and shoot your firearm & 50 rounds of factory ball ammo at the end of the program – time permitting.\n\n\nEVENT REGISTRATION TERMS & CONDITIONS\nCourse Transfer: With 72-hour advance notice of the event date\, we will issue a unique re-registration code for course transfers.\nCancellation Refund: Refunds for 50% of the balance of the event fee\, if no transfer is possible\, are issued in-store gift cards only\, but ONLY if we are notified of the cancelation up to 72 hours before the event date.\nNo-Call/No-Show: Participants who do not attend the event without prior 72-hour notice forfeit their total registration fees.\nSame-Day Cancelations: Same-day cancelations are non-refundable as spots in classes are quick to fill\, and we will be unable to resell that spot in the event or give an individual on a waitlist adequate time to purchase that spot.
URL:https://howellsgunshop.com/event/1-17-24-new-shooter/
LOCATION:Howell’s Gun Shop\, 81 West Gray Road\, Gray\, ME\, 04039\, United States
CATEGORIES:All Events,New Shooter,New Shooter Program
ATTACH;FMTTYPE=image/jpeg:https://howellsgunshop.com/wp-content/uploads/2022/05/Howells_NewShooter.jpg
END:VEVENT
BEGIN:VEVENT
DTSTART;TZID=America/New_York:20240123T090000
DTEND;TZID=America/New_York:20240123T120000
DTSTAMP:20260425T115647
CREATED:20231130T110702Z
LAST-MODIFIED:20240218T044641Z
UID:13882-1706000400-1706011200@howellsgunshop.com
SUMMARY:1/23/24 - Ladies New Shooter
DESCRIPTION:A NEW SHOOTER CLASS FOR WOMEN – TAUGHT BY WOMEN!\n\nDuration Of 3 Hours\nCourse Fee $150\nMembership: Discounts Apply!\nStep 1: New Shooter\nStep 2: Handgun Essentials\nStep 3: Beyond Basics\nStep 4: Defensive Handgun with Tatiana Whitlock \nHowell’s New Shooters class is designed to provide a hands-on introduction to the safe handling and proper range of use of handguns. This 3-hour class is a great first step for new shooters looking to become safe and responsible gun owners. \nThe goal of this class is to provide essential gun safety skills\, range etiquette\, terminology\, and basic shooting skills to ensure you have a safe and enjoyable experience at the range. Taught by Howell’s certified and friendly instructor team\, this is the class we wish we had the first time we went shooting! \nREQUIRED EQUIPMENT: \n\nHandguns provided for use in class\nAmmunition provided\nEye and ear protection\, available for purchase on-site\nAttire: Long pants\, high collared shirt or t-shirt\, closed-toe shoes\, ball caps recommended.\n*If you would like to bring and shoot your own firearm & 50 rounds of factory ball ammo at the end of the program.\n\nEVENT REGISTRATION TERMS & CONDITIONS\nCourse Transfer: With 72-hour advance notice of the event date we will issue a unique re-registration code for course transfers.\nCancellation Refund: Refunds for 50% balance of event fee\, if no transfer is possible\, are issued in the form of store gift cards only but ONLY if we are notified of the cancelation up to 72 hours in advance of the event date.\nNo-Call/No-Show: Participants who do not show to the event without prior 72-hour notice forfeit their total registration fees.\nSame Day Cancelations: Same day cancelations are non-refundable as spots in classes are quick to fill and we will be unable to resell that spot in the event or give an individual on a waitlist adequate time to purchase that spot.
URL:https://howellsgunshop.com/event/1-23-24-ladies-new-shooter/
LOCATION:Howell’s Gun Shop\, 81 West Gray Road\, Gray\, ME\, 04039\, United States
CATEGORIES:All Events,Ladies New Shooter,New Shooter Program
ATTACH;FMTTYPE=image/png:https://howellsgunshop.com/wp-content/uploads/2022/11/Howells-HA-2.png
END:VEVENT
BEGIN:VEVENT
DTSTART;TZID=America/New_York:20240130T090000
DTEND;TZID=America/New_York:20240130T120000
DTSTAMP:20260425T115647
CREATED:20231129T225011Z
LAST-MODIFIED:20240218T044517Z
UID:13877-1706605200-1706616000@howellsgunshop.com
SUMMARY:1/30/24 - New Shooter
DESCRIPTION:Duration Of 3 Hours\nCourse Fee $150\nStep 1: New Shooter\nStep 2: Handgun Essentials\nStep 3: Beyond Basics\nStep 4: Defensive Handgun with Tatiana Whitlock \n\nHowell’s New Shooters class provides a hands-on introduction to the safe handling and proper range of use of handguns. This 3-hour class is a significant first step for new shooters looking to become safe and responsible gun owners. This class aims to provide essential gun safety skills\, range etiquette\, terminology\, and basic shooting skills to ensure you have a safe and enjoyable experience at the range. Taught by Howell’s certified and friendly instructor team\, this is the class we wish we had the first time we went shooting! \n\nREQUIRED EQUIPMENT: \n\nHandguns provided for use in class\nAmmunition provided\nEye and ear protection\, available for purchase on-site\nAttire: Long pants\, high collared shirt or t-shirt\, closed-toe shoes\, ball caps recommended.\n*If you would like to bring and shoot your firearm & 50 rounds of factory ball ammo at the end of the program – time permitting.\n\n\nEVENT REGISTRATION TERMS & CONDITIONS\nCourse Transfer: With 72-hour advance notice of the event date\, we will issue a unique re-registration code for course transfers.\nCancellation Refund: Refunds for 50% of the balance of the event fee\, if no transfer is possible\, are issued in-store gift cards only\, but ONLY if we are notified of the cancelation up to 72 hours before the event date.\nNo-Call/No-Show: Participants who do not attend the event without prior 72-hour notice forfeit their total registration fees.\nSame-Day Cancelations: Same-day cancelations are non-refundable as spots in classes are quick to fill\, and we will be unable to resell that spot in the event or give an individual on a waitlist adequate time to purchase that spot.
URL:https://howellsgunshop.com/event/1-30-24-new-shooter/
LOCATION:Howell’s Gun Shop\, 81 West Gray Road\, Gray\, ME\, 04039\, United States
CATEGORIES:All Events,New Shooter,New Shooter Program
ATTACH;FMTTYPE=image/jpeg:https://howellsgunshop.com/wp-content/uploads/2022/05/Howells_NewShooter.jpg
END:VEVENT
END:VCALENDAR