BEGIN:VCALENDAR
VERSION:2.0
PRODID:-//Howell&#039;s Gun Shop - ECPv6.15.20//NONSGML v1.0//EN
CALSCALE:GREGORIAN
METHOD:PUBLISH
X-ORIGINAL-URL:https://howellsgunshop.com
X-WR-CALDESC:Events for Howell&#039;s Gun Shop
REFRESH-INTERVAL;VALUE=DURATION:PT1H
X-Robots-Tag:noindex
X-PUBLISHED-TTL:PT1H
BEGIN:VTIMEZONE
TZID:America/New_York
BEGIN:DAYLIGHT
TZOFFSETFROM:-0500
TZOFFSETTO:-0400
TZNAME:EDT
DTSTART:20230312T070000
END:DAYLIGHT
BEGIN:STANDARD
TZOFFSETFROM:-0400
TZOFFSETTO:-0500
TZNAME:EST
DTSTART:20231105T060000
END:STANDARD
BEGIN:DAYLIGHT
TZOFFSETFROM:-0500
TZOFFSETTO:-0400
TZNAME:EDT
DTSTART:20240310T070000
END:DAYLIGHT
BEGIN:STANDARD
TZOFFSETFROM:-0400
TZOFFSETTO:-0500
TZNAME:EST
DTSTART:20241103T060000
END:STANDARD
BEGIN:DAYLIGHT
TZOFFSETFROM:-0500
TZOFFSETTO:-0400
TZNAME:EDT
DTSTART:20250309T070000
END:DAYLIGHT
BEGIN:STANDARD
TZOFFSETFROM:-0400
TZOFFSETTO:-0500
TZNAME:EST
DTSTART:20251102T060000
END:STANDARD
END:VTIMEZONE
BEGIN:VEVENT
DTSTART;TZID=America/New_York:20240410T090000
DTEND;TZID=America/New_York:20240410T120000
DTSTAMP:20260425T065502
CREATED:20231018T192503Z
LAST-MODIFIED:20240409T172906Z
UID:12774-1712739600-1712750400@howellsgunshop.com
SUMMARY:CANCELED - New Shooter 1 - FIRST SHOTS
DESCRIPTION:Duration Of 3 Hours\nCourse Fee $150\n\nHowell’s New Shooters class provides a hands-on introduction to the safe handling and proper range of use of handguns. This 3-hour class is a significant first step for new shooters looking to become safe and responsible gun owners. This class aims to provide essential gun safety skills\, range etiquette\, terminology\, and basic shooting skills to ensure you have a safe and enjoyable experience at the range. Taught by Howell’s certified and friendly instructor team\, this is the class we wish we had the first time we went shooting! \n\nREQUIRED EQUIPMENT: \n\nHandguns provided for use in class\nAmmunition provided\nEye and ear protection\, available for purchase on-site\nAttire: Long pants\, high collared shirt or t-shirt\, closed-toe shoes\, ball caps recommended.\n*If you would like to bring and shoot your firearm & 50 rounds of factory ball ammo at the end of the program – time permitting.\n\n\nEVENT REGISTRATION TERMS & CONDITIONS\nCourse Transfer: With 72-hour advance notice of the event date\, we will issue a unique re-registration code for course transfers.\nCancellation Refund: Refunds for 50% of the balance of the event fee\, if no transfer is possible\, are issued in-store gift cards only\, but ONLY if we are notified of the cancelation up to 72 hours before the event date.\nNo-Call/No-Show: Participants who do not attend the event without prior 72-hour notice forfeit their total registration fees.\nSame-Day Cancelations: Same-day cancelations are non-refundable as spots in classes are quick to fill\, and we will be unable to resell that spot in the event or give an individual on a waitlist adequate time to purchase that spot.
URL:https://howellsgunshop.com/event/4-10-24-new-shooter/
LOCATION:Howell’s Gun Shop\, 81 West Gray Road\, Gray\, ME\, 04039\, United States
CATEGORIES:All Events,New Shooter,New Shooter Program
ATTACH;FMTTYPE=image/png:https://howellsgunshop.com/wp-content/uploads/2024/02/6224-DefensiveHandgun.png
END:VEVENT
BEGIN:VEVENT
DTSTART;TZID=America/New_York:20240410T130000
DTEND;TZID=America/New_York:20240410T160000
DTSTAMP:20260425T065502
CREATED:20240218T042003Z
LAST-MODIFIED:20240218T044516Z
UID:14725-1712754000-1712764800@howellsgunshop.com
SUMMARY:4/10/24 - New Shooter 2 – MARKSMANSHIP
DESCRIPTION:Duration Of 3 Hours\nCourse Fee $150\n\nThis three-hour workshop focuses on gaining proficiency in pistol marksmanship. Detailed instruction is provided on grip\, stance\, sights\, and trigger control. This course includes target transitions\, working across various pistol distances\, and simple to complex courses of fire. It is a great second class in Howell’s New Shooter Program and an ideal tune-up for returning or developing shooters.\n \n\nREQUIRED EQUIPMENT: \n\nSemiautomatic Handgun (preferably centerfire) *Rentals Available\n2 Magazines\n200 Rounds of Ammunition\nEye and ear protection\nRange Appropriate Attire: Long pants\, high collared shirt or t-shirt\, closed-toe shoes\, ball caps recommended.\n*Please plan to arrive early if you plan to rent from our collection as selection is limited and equipment is rented on a first-come-first-serve basis.\n\n\nEVENT REGISTRATION TERMS & CONDITIONS\nCourse Transfer: With 72-hour advance notice of the event date\, we will issue a unique re-registration code for course transfers.\nCancellation Refund: Refunds for 50% of the balance of the event fee\, if no transfer is possible\, are issued in-store gift cards only\, but ONLY if we are notified of the cancelation up to 72 hours before the event date.\nNo-Call/No-Show: Participants who do not attend the event without prior 72-hour notice forfeit their total registration fees.\nSame-Day Cancelations: Same-day cancelations are non-refundable as spots in classes are quick to fill\, and we will be unable to resell that spot in the event or give an individual on a waitlist adequate time to purchase that spot.
URL:https://howellsgunshop.com/event/4-10-24-new-shooter-2-marksmanship/
LOCATION:Howell’s Gun Shop\, 81 West Gray Road\, Gray\, ME\, 04039\, United States
CATEGORIES:All Events,New Shooter 2 - Marksmanship,New Shooter Program
ATTACH;FMTTYPE=image/png:https://howellsgunshop.com/wp-content/uploads/2024/02/6224-DefensiveHandgun-2.png
END:VEVENT
BEGIN:VEVENT
DTSTART;TZID=America/New_York:20240416T090000
DTEND;TZID=America/New_York:20240416T120000
DTSTAMP:20260425T065502
CREATED:20231130T111441Z
LAST-MODIFIED:20240218T044640Z
UID:13888-1713258000-1713268800@howellsgunshop.com
SUMMARY:4/16/24 - Ladies New Shooter
DESCRIPTION:A NEW SHOOTER CLASS FOR WOMEN – TAUGHT BY WOMEN!\n\nDuration Of 3 Hours\nCourse Fee $150\nMembership: Discounts Apply!\nStep 1: New Shooter\nStep 2: Handgun Essentials\nStep 3: Beyond Basics\nStep 4: Defensive Handgun with Tatiana Whitlock \nHowell’s New Shooters class is designed to provide a hands-on introduction to the safe handling and proper range of use of handguns. This 3-hour class is a great first step for new shooters looking to become safe and responsible gun owners. \nThe goal of this class is to provide essential gun safety skills\, range etiquette\, terminology\, and basic shooting skills to ensure you have a safe and enjoyable experience at the range. Taught by Howell’s certified and friendly instructor team\, this is the class we wish we had the first time we went shooting! \nREQUIRED EQUIPMENT: \n\nHandguns provided for use in class\nAmmunition provided\nEye and ear protection\, available for purchase on-site\nAttire: Long pants\, high collared shirt or t-shirt\, closed-toe shoes\, ball caps recommended.\n*If you would like to bring and shoot your own firearm & 50 rounds of factory ball ammo at the end of the program.\n\nEVENT REGISTRATION TERMS & CONDITIONS\nCourse Transfer: With 72-hour advance notice of the event date we will issue a unique re-registration code for course transfers.\nCancellation Refund: Refunds for 50% balance of event fee\, if no transfer is possible\, are issued in the form of store gift cards only but ONLY if we are notified of the cancelation up to 72 hours in advance of the event date.\nNo-Call/No-Show: Participants who do not show to the event without prior 72-hour notice forfeit their total registration fees.\nSame Day Cancelations: Same day cancelations are non-refundable as spots in classes are quick to fill and we will be unable to resell that spot in the event or give an individual on a waitlist adequate time to purchase that spot.
URL:https://howellsgunshop.com/event/4-16-24-ladies-new-shooter-2/
LOCATION:Howell’s Gun Shop\, 81 West Gray Road\, Gray\, ME\, 04039\, United States
CATEGORIES:All Events,Ladies New Shooter,New Shooter Program
ATTACH;FMTTYPE=image/png:https://howellsgunshop.com/wp-content/uploads/2022/11/Howells-HA-2.png
END:VEVENT
BEGIN:VEVENT
DTSTART;TZID=America/New_York:20240417T090000
DTEND;TZID=America/New_York:20240417T120000
DTSTAMP:20260425T065502
CREATED:20240218T050819Z
LAST-MODIFIED:20240415T012111Z
UID:14753-1713344400-1713355200@howellsgunshop.com
SUMMARY:CANCELED - New Shooter 3 - RELOADS
DESCRIPTION:Duration Of 3 Hours\nCourse Fee $150\n\nKeeping the handgun operational when magazines run out is fun and challenging. This three-hour workshop focuses on the three kinds of pistol reloads and how\, when\, and why they are best utilized. Techniques for each type of reload are rooted in safety and efficiency. Timed shooting exercises allow participants to track their progress and record their personal best for each shooting standard drill. This course covers The skills and techniques essential for competition\, concealed carry\, home defense\, and general enthusiast plinking. This course is appropriate for shooters of all skill levels.\n \n  \nREQUIRED EQUIPMENT: \n\nSemiautomatic Handgun (preferably centerfire) *Rentals Available\n2+ Magazines\n200 Rounds of Ammunition\nEye and ear protection\nRange Appropriate Attire: Long pants\, high collared shirt or t-shirt\, closed-toe shoes\, ball caps recommended.\n*Please plan to arrive early if you plan to rent from our collection as selection is limited and equipment is rented on a first-come-first-serve basis.\n\n\nEVENT REGISTRATION TERMS & CONDITIONS\nCourse Transfer: With 72-hour advance notice of the event date\, we will issue a unique re-registration code for course transfers.\nCancellation Refund: Refunds for 50% of the balance of the event fee\, if no transfer is possible\, are issued in-store gift cards only\, but ONLY if we are notified of the cancelation up to 72 hours before the event date.\nNo-Call/No-Show: Participants who do not attend the event without prior 72-hour notice forfeit their total registration fees.\nSame-Day Cancelations: Same-day cancelations are non-refundable as spots in classes are quick to fill\, and we will be unable to resell that spot in the event or give an individual on a waitlist adequate time to purchase that spot.
URL:https://howellsgunshop.com/event/4-17-24-new-shooter-3-reloads/
LOCATION:Howell’s Gun Shop\, 81 West Gray Road\, Gray\, ME\, 04039\, United States
CATEGORIES:All Events,New Shooter 3 - Reloads,New Shooter Program
ATTACH;FMTTYPE=image/png:https://howellsgunshop.com/wp-content/uploads/2024/02/6224-DefensiveHandgun-3.png
END:VEVENT
BEGIN:VEVENT
DTSTART;TZID=America/New_York:20240417T130000
DTEND;TZID=America/New_York:20240417T160000
DTSTAMP:20260425T065502
CREATED:20240218T053910Z
LAST-MODIFIED:20240415T011844Z
UID:14787-1713358800-1713369600@howellsgunshop.com
SUMMARY:CANCELED – New Shooter 4 – MALFUNCTIONS
DESCRIPTION:Duration Of 3 Hours\nCourse Fee $150\n\nWhat do you do when the gun does not go bang? Pistol malfunctions occur due to three predictable causes: the shooter\, the gun\, or the ammunition. Learn to recognize\, diagnose\, and solve the most common pistol malfunctions safely and efficiently and get the gun back into operation. This course covers The skills and techniques essential for competition\, concealed carry\, home defense\, and general enthusiast plinking. This course is appropriate for shooters of all skill levels.\n \n  \nREQUIRED EQUIPMENT: \n\nSemiautomatic Handgun (preferably centerfire) *Rentals Available\n2+ Magazines\n200 Rounds of Ammunition\nEye and ear protection\nRange Appropriate Attire: Long pants\, high collared shirt or t-shirt\, closed-toe shoes\, ball caps recommended.\n*Please plan to arrive early if you plan to rent from our collection as selection is limited and equipment is rented on a first-come-first-serve basis.\n\n\nEVENT REGISTRATION TERMS & CONDITIONS\nCourse Transfer: With 72-hour advance notice of the event date\, we will issue a unique re-registration code for course transfers.\nCancellation Refund: Refunds for 50% of the balance of the event fee\, if no transfer is possible\, are issued in-store gift cards only\, but ONLY if we are notified of the cancelation up to 72 hours before the event date.\nNo-Call/No-Show: Participants who do not attend the event without prior 72-hour notice forfeit their total registration fees.\nSame-Day Cancelations: Same-day cancelations are non-refundable as spots in classes are quick to fill\, and we will be unable to resell that spot in the event or give an individual on a waitlist adequate time to purchase that spot.
URL:https://howellsgunshop.com/event/4-17-24-new-shooter-4-malfunctions/
LOCATION:Howell’s Gun Shop\, 81 West Gray Road\, Gray\, ME\, 04039\, United States
CATEGORIES:All Events,New Shooter 4 - Malfunctions,New Shooter Program
ATTACH;FMTTYPE=image/png:https://howellsgunshop.com/wp-content/uploads/2024/02/6224-DefensiveHandgun-4.png
END:VEVENT
END:VCALENDAR