BEGIN:VCALENDAR
VERSION:2.0
PRODID:-//Howell&#039;s Gun Shop - ECPv6.15.20//NONSGML v1.0//EN
CALSCALE:GREGORIAN
METHOD:PUBLISH
X-WR-CALNAME:Howell&#039;s Gun Shop
X-ORIGINAL-URL:https://howellsgunshop.com
X-WR-CALDESC:Events for Howell&#039;s Gun Shop
REFRESH-INTERVAL;VALUE=DURATION:PT1H
X-Robots-Tag:noindex
X-PUBLISHED-TTL:PT1H
BEGIN:VTIMEZONE
TZID:America/New_York
BEGIN:DAYLIGHT
TZOFFSETFROM:-0500
TZOFFSETTO:-0400
TZNAME:EDT
DTSTART:20250309T070000
END:DAYLIGHT
BEGIN:STANDARD
TZOFFSETFROM:-0400
TZOFFSETTO:-0500
TZNAME:EST
DTSTART:20251102T060000
END:STANDARD
BEGIN:DAYLIGHT
TZOFFSETFROM:-0500
TZOFFSETTO:-0400
TZNAME:EDT
DTSTART:20260308T070000
END:DAYLIGHT
BEGIN:STANDARD
TZOFFSETFROM:-0400
TZOFFSETTO:-0500
TZNAME:EST
DTSTART:20261101T060000
END:STANDARD
BEGIN:DAYLIGHT
TZOFFSETFROM:-0500
TZOFFSETTO:-0400
TZNAME:EDT
DTSTART:20270314T070000
END:DAYLIGHT
BEGIN:STANDARD
TZOFFSETFROM:-0400
TZOFFSETTO:-0500
TZNAME:EST
DTSTART:20271107T060000
END:STANDARD
END:VTIMEZONE
BEGIN:VEVENT
DTSTART;TZID=America/New_York:20260428T090000
DTEND;TZID=America/New_York:20260428T120000
DTSTAMP:20260424T122111
CREATED:20251101T115022Z
LAST-MODIFIED:20251101T120411Z
UID:19172-1777366800-1777377600@howellsgunshop.com
SUMMARY:4/28/26 - New Shooter
DESCRIPTION:Ready to finally learn how to shoot the right way? Howell’s New Shooter Course is designed for adults who want to build a solid foundation in handgun safety\, handling\, and marksmanship. No fluff\, no pressure\, just clear instruction\, hands-on guidance\, and practical coaching from experienced professionals who remember exactly what it’s like to start fresh. \nIn this 3-hour class\, you’ll learn how to safely load\, unload\, and operate a semi-automatic handgun\, understand range etiquette\, and develop the basic shooting techniques that lead to control and confidence. By the end\, you’ll know how to handle your firearm responsibly and feel comfortable practicing on your own. \nIf you’ve been thinking about learning to shoot for personal safety\, recreation\, or simply to gain a new skill\, this course is the ideal place to start. Safe\, straightforward\, and built for real-world success. \nJoin us\, and let’s make your first range experience safe\, fun\, and empowering! \n  \nREQUIRED EQUIPMENT: \n\nHandguns provided for use in class\nAmmunition provided\nEye and ear protection\, available for purchase on-site\nAttire: Long pants\, high collared shirt or t-shirt\, closed-toe shoes\, ball caps recommended.\n*If you would like to bring and shoot your firearm & 50 rounds of factory ball ammo at the end of the program – time permitting.\n\n\nEVENT REGISTRATION TERMS & CONDITIONS\nCourse Transfer: With 72-hour advance notice of the event date\, we will issue a unique re-registration code for course transfers.\nCancellation Refund: Refunds for 50% of the balance of the event fee\, if no transfer is possible\, are issued in-store gift cards only\, but ONLY if we are notified of the cancelation up to 72 hours before the event date.\nNo-Call/No-Show: Participants who do not attend the event without prior 72-hour notice forfeit their total registration fees.\nSame-Day Cancelations: Same-day cancelations are non-refundable as spots in classes are quick to fill\, and we will be unable to resell that spot in the event or give an individual on a waitlist adequate time to purchase that spot.
URL:https://howellsgunshop.com/event/4-28-26-new-shooter/
LOCATION:Howell’s Gun Shop\, 81 West Gray Road\, Gray\, ME\, 04039\, United States
CATEGORIES:All Events,New Shooter
ATTACH;FMTTYPE=image/png:https://howellsgunshop.com/wp-content/uploads/2025/11/NewShooter-Howells-copy.png
END:VEVENT
BEGIN:VEVENT
DTSTART;TZID=America/New_York:20260519T090000
DTEND;TZID=America/New_York:20260519T120000
DTSTAMP:20260424T122111
CREATED:20251101T115338Z
LAST-MODIFIED:20251101T115338Z
UID:19175-1779181200-1779192000@howellsgunshop.com
SUMMARY:5/19/26 - New Shooter
DESCRIPTION:Ready to finally learn how to shoot the right way? Howell’s New Shooter Course is designed for adults who want to build a solid foundation in handgun safety\, handling\, and marksmanship. No fluff\, no pressure\, just clear instruction\, hands-on guidance\, and practical coaching from experienced professionals who remember exactly what it’s like to start fresh. \nIn this 3-hour class\, you’ll learn how to safely load\, unload\, and operate a semi-automatic handgun\, understand range etiquette\, and develop the basic shooting techniques that lead to control and confidence. By the end\, you’ll know how to handle your firearm responsibly and feel comfortable practicing on your own. \nIf you’ve been thinking about learning to shoot for personal safety\, recreation\, or simply to gain a new skill\, this course is the ideal place to start. Safe\, straightforward\, and built for real-world success. \nJoin us\, and let’s make your first range experience safe\, fun\, and empowering! \n  \nREQUIRED EQUIPMENT: \n\nHandguns provided for use in class\nAmmunition provided\nEye and ear protection\, available for purchase on-site\nAttire: Long pants\, high collared shirt or t-shirt\, closed-toe shoes\, ball caps recommended.\n*If you would like to bring and shoot your firearm & 50 rounds of factory ball ammo at the end of the program – time permitting.\n\n\nEVENT REGISTRATION TERMS & CONDITIONS\nCourse Transfer: With 72-hour advance notice of the event date\, we will issue a unique re-registration code for course transfers.\nCancellation Refund: Refunds for 50% of the balance of the event fee\, if no transfer is possible\, are issued in-store gift cards only\, but ONLY if we are notified of the cancelation up to 72 hours before the event date.\nNo-Call/No-Show: Participants who do not attend the event without prior 72-hour notice forfeit their total registration fees.\nSame-Day Cancelations: Same-day cancelations are non-refundable as spots in classes are quick to fill\, and we will be unable to resell that spot in the event or give an individual on a waitlist adequate time to purchase that spot.
URL:https://howellsgunshop.com/event/5-19-26-new-shooter/
LOCATION:Howell’s Gun Shop\, 81 West Gray Road\, Gray\, ME\, 04039\, United States
CATEGORIES:All Events,New Shooter
ATTACH;FMTTYPE=image/png:https://howellsgunshop.com/wp-content/uploads/2025/11/NewShooter-Howells-copy.png
END:VEVENT
BEGIN:VEVENT
DTSTART;TZID=America/New_York:20260623T090000
DTEND;TZID=America/New_York:20260623T120000
DTSTAMP:20260424T122111
CREATED:20251101T115535Z
LAST-MODIFIED:20251101T115535Z
UID:19178-1782205200-1782216000@howellsgunshop.com
SUMMARY:6/23/26 - New Shooter
DESCRIPTION:Ready to finally learn how to shoot the right way? Howell’s New Shooter Course is designed for adults who want to build a solid foundation in handgun safety\, handling\, and marksmanship. No fluff\, no pressure\, just clear instruction\, hands-on guidance\, and practical coaching from experienced professionals who remember exactly what it’s like to start fresh. \nIn this 3-hour class\, you’ll learn how to safely load\, unload\, and operate a semi-automatic handgun\, understand range etiquette\, and develop the basic shooting techniques that lead to control and confidence. By the end\, you’ll know how to handle your firearm responsibly and feel comfortable practicing on your own. \nIf you’ve been thinking about learning to shoot for personal safety\, recreation\, or simply to gain a new skill\, this course is the ideal place to start. Safe\, straightforward\, and built for real-world success. \nJoin us\, and let’s make your first range experience safe\, fun\, and empowering! \n  \nREQUIRED EQUIPMENT: \n\nHandguns provided for use in class\nAmmunition provided\nEye and ear protection\, available for purchase on-site\nAttire: Long pants\, high collared shirt or t-shirt\, closed-toe shoes\, ball caps recommended.\n*If you would like to bring and shoot your firearm & 50 rounds of factory ball ammo at the end of the program – time permitting.\n\n\nEVENT REGISTRATION TERMS & CONDITIONS\nCourse Transfer: With 72-hour advance notice of the event date\, we will issue a unique re-registration code for course transfers.\nCancellation Refund: Refunds for 50% of the balance of the event fee\, if no transfer is possible\, are issued in-store gift cards only\, but ONLY if we are notified of the cancelation up to 72 hours before the event date.\nNo-Call/No-Show: Participants who do not attend the event without prior 72-hour notice forfeit their total registration fees.\nSame-Day Cancelations: Same-day cancelations are non-refundable as spots in classes are quick to fill\, and we will be unable to resell that spot in the event or give an individual on a waitlist adequate time to purchase that spot.
URL:https://howellsgunshop.com/event/6-23-26-new-shooter/
LOCATION:Howell’s Gun Shop\, 81 West Gray Road\, Gray\, ME\, 04039\, United States
CATEGORIES:All Events,New Shooter
ATTACH;FMTTYPE=image/png:https://howellsgunshop.com/wp-content/uploads/2025/11/NewShooter-Howells-copy.png
END:VEVENT
END:VCALENDAR