BEGIN:VCALENDAR
VERSION:2.0
PRODID:-//Howell&#039;s Gun Shop - ECPv6.15.20//NONSGML v1.0//EN
CALSCALE:GREGORIAN
METHOD:PUBLISH
X-ORIGINAL-URL:https://howellsgunshop.com
X-WR-CALDESC:Events for Howell&#039;s Gun Shop
REFRESH-INTERVAL;VALUE=DURATION:PT1H
X-Robots-Tag:noindex
X-PUBLISHED-TTL:PT1H
BEGIN:VTIMEZONE
TZID:America/New_York
BEGIN:DAYLIGHT
TZOFFSETFROM:-0500
TZOFFSETTO:-0400
TZNAME:EDT
DTSTART:20230312T070000
END:DAYLIGHT
BEGIN:STANDARD
TZOFFSETFROM:-0400
TZOFFSETTO:-0500
TZNAME:EST
DTSTART:20231105T060000
END:STANDARD
BEGIN:DAYLIGHT
TZOFFSETFROM:-0500
TZOFFSETTO:-0400
TZNAME:EDT
DTSTART:20240310T070000
END:DAYLIGHT
BEGIN:STANDARD
TZOFFSETFROM:-0400
TZOFFSETTO:-0500
TZNAME:EST
DTSTART:20241103T060000
END:STANDARD
BEGIN:DAYLIGHT
TZOFFSETFROM:-0500
TZOFFSETTO:-0400
TZNAME:EDT
DTSTART:20250309T070000
END:DAYLIGHT
BEGIN:STANDARD
TZOFFSETFROM:-0400
TZOFFSETTO:-0500
TZNAME:EST
DTSTART:20251102T060000
END:STANDARD
BEGIN:DAYLIGHT
TZOFFSETFROM:-0500
TZOFFSETTO:-0400
TZNAME:EDT
DTSTART:20260308T070000
END:DAYLIGHT
BEGIN:STANDARD
TZOFFSETFROM:-0400
TZOFFSETTO:-0500
TZNAME:EST
DTSTART:20261101T060000
END:STANDARD
END:VTIMEZONE
BEGIN:VEVENT
DTSTART;TZID=America/New_York:20251213T090000
DTEND;TZID=America/New_York:20251213T120000
DTSTAMP:20260423T155140
CREATED:20250401T173352Z
LAST-MODIFIED:20251125T191756Z
UID:17519-1765616400-1765627200@howellsgunshop.com
SUMMARY:12/13/25 – Less-Lethal Self-Defense
DESCRIPTION:WHY GO HANDS ON WHEN YOU CAN LEARN TO PROTECT YOURSELF AT A SAFE DISTANCE?\nBe Smart – Be Ready – Be Safe. SABRE’s Civilian Safety Awareness Program one-day class can help you learn how identify threatening behaviors and be better prepared to escape dangerous situations safely.\nCSAP STUDENTS WILL BE EDUCATED ON THE FOLLOWING:\n\nHow to discourage dangerous threats\nWays to identify and avoid potentially dangerous situations\nProtection at a safe distance\nHow to use our products effectively and responsibly\nPersonal safety skills for smart living\nINCLUDES – Personal safety starter kit!\n\nAnyone can benefit from taking a CSAP class – whether you’re a runner\, commuter\, student\, someone who travels for work\, retiree\, homemaker – this class is for you!
URL:https://howellsgunshop.com/event/12-13-25-sabre-pepper-spray-civilian-safety-awareness-program/
LOCATION:Howell’s Gun Shop\, 81 West Gray Road\, Gray\, ME\, 04039\, United States
CATEGORIES:All Events,Less Lethal Self Defense,SABRE Pepper Spray,Self Defense
ATTACH;FMTTYPE=image/png:https://howellsgunshop.com/wp-content/uploads/2025/10/Less-LethalSelfDefense.png
END:VEVENT
BEGIN:VEVENT
DTSTART;TZID=America/New_York:20250805T090000
DTEND;TZID=America/New_York:20250805T120000
DTSTAMP:20260423T155140
CREATED:20250401T173119Z
LAST-MODIFIED:20250401T173216Z
UID:17515-1754384400-1754395200@howellsgunshop.com
SUMMARY:8/5/25 – SABRE Pepper Spray – Civilian Safety Awareness Program
DESCRIPTION:WHY GO HANDS ON WHEN YOU CAN LEARN TO PROTECT YOURSELF AT A SAFE DISTANCE?\nBe Smart – Be Ready – Be Safe. SABRE’s Civilian Safety Awareness Program one-day class can help you learn how identify threatening behaviors and be better prepared to escape dangerous situations safely.\nCSAP STUDENTS WILL BE EDUCATED ON THE FOLLOWING:\n\nHow to discourage dangerous threats\nWays to identify and avoid potentially dangerous situations\nProtection at a safe distance\nHow to use our products effectively and responsibly\nPersonal safety skills for smart living\nINCLUDES – Personal safety starter kit!\n\nAnyone can benefit from taking a CSAP class – whether you’re a runner\, commuter\, student\, someone who travels for work\, retiree\, homemaker – this class is for you!
URL:https://howellsgunshop.com/event/8-5-25-sabre-pepper-spray-civilian-safety-awareness-program/
LOCATION:Howell’s Gun Shop\, 81 West Gray Road\, Gray\, ME\, 04039\, United States
CATEGORIES:All Events,SABRE Pepper Spray,Self Defense
ATTACH;FMTTYPE=image/jpeg:https://howellsgunshop.com/wp-content/uploads/2024/07/police-oc-spray.jpg
END:VEVENT
BEGIN:VEVENT
DTSTART;TZID=America/New_York:20250308T133000
DTEND;TZID=America/New_York:20250308T163000
DTSTAMP:20260423T155140
CREATED:20250110T023621Z
LAST-MODIFIED:20250307T204546Z
UID:16677-1741440600-1741451400@howellsgunshop.com
SUMMARY:CANCELED – SABRE Pepper Spray – Civilian Safety Awareness Program
DESCRIPTION:WHY GO HANDS ON WHEN YOU CAN LEARN TO PROTECT YOURSELF AT A SAFE DISTANCE?\nBe Smart – Be Ready – Be Safe. SABRE’s Civilian Safety Awareness Program one-day class can help you learn how identify threatening behaviors and be better prepared to escape dangerous situations safely.\nCSAP STUDENTS WILL BE EDUCATED ON THE FOLLOWING:\n\nHow to discourage dangerous threats\nWays to identify and avoid potentially dangerous situations\nProtection at a safe distance\nHow to use our products effectively and responsibly\nPersonal safety skills for smart living\nINCLUDES – Personal safety starter kit!\n\nAnyone can benefit from taking a CSAP class – whether you’re a runner\, commuter\, student\, someone who travels for work\, retiree\, homemaker – this class is for you!
URL:https://howellsgunshop.com/event/3-8-25-sabre-pepper-spray-civilian-safety-awareness-program/
LOCATION:Howell’s Gun Shop\, 81 West Gray Road\, Gray\, ME\, 04039\, United States
CATEGORIES:All Events,SABRE Pepper Spray,Self Defense
ATTACH;FMTTYPE=image/jpeg:https://howellsgunshop.com/wp-content/uploads/2025/01/police-oc-spray.jpg
END:VEVENT
BEGIN:VEVENT
DTSTART;TZID=America/New_York:20240926T180000
DTEND;TZID=America/New_York:20240926T200000
DTSTAMP:20260423T155140
CREATED:20240804T135251Z
LAST-MODIFIED:20240804T135251Z
UID:15568-1727373600-1727380800@howellsgunshop.com
SUMMARY:9/26/24 - USCCA *LIVE* Legal Seminar
DESCRIPTION:9/26/24 – USCCA *LIVE* Legal Seminar\nEvent Fee: $10\n6pm – 8pm \n\nREGISTER HERE!\nLearn to Navigate Your Maine’s Legal System After a Self-Defense Incident\nBe Informed By Our Experts – LIVE Q+A Included \n \nBe Informed By USCCA Legal Experts – LIVE Q+A Included!\n\nAfter a self-defense incident\, lawyers could take months to scrutinize decisions you had to make in seconds. That’s why NOW is the time to learn what you can and cannot do in the name of self-defense. \nThis is information every gun owner should know\, whether you legally carry or if you keep a firearm at home. \nTopics Covered Include:\n\nA comprehensive discussion about navigating the legal system as a responsible gun owner\nUnderstanding the threats you’ll face before\, during\, and after a self-defense incident\nProtecting your 2nd Amendment rights\nLIVE Q+A with real answers from our experts\n\nLive\, Self-Defense Lessons For Everyone\nParents\, Teachers\, Concerned Citizens\, Business Professionals\, Church Goers and Anyone Who Wants to Keep Themselves and Others Safe!
URL:https://howellsgunshop.com/event/9-26-24-uscca-live-legal-seminar/
LOCATION:Howell’s Gun Shop\, 81 West Gray Road\, Gray\, ME\, 04039\, United States
CATEGORIES:All Events,Maine Concealed Carry,Self Defense,USCCA
ATTACH;FMTTYPE=image/jpeg:https://howellsgunshop.com/wp-content/uploads/2024/08/arrest-handsup-1.jpg
END:VEVENT
BEGIN:VEVENT
DTSTART;TZID=America/New_York:20240316T090000
DTEND;TZID=America/New_York:20240316T130000
DTSTAMP:20260423T155140
CREATED:20230417T114916Z
LAST-MODIFIED:20231220T163108Z
UID:11570-1710579600-1710594000@howellsgunshop.com
SUMMARY:3/16/24 - SABRE Pepper Spray - Civilian Safety Awareness Program
DESCRIPTION:WHY GO HANDS ON WHEN YOU CAN LEARN TO PROTECT YOURSELF AT A SAFE DISTANCE?\nBe Smart – Be Ready – Be Safe. SABRE’s Civilian Safety Awareness Program one-day class can help you learn how identify threatening behaviors and be better prepared to escape dangerous situations safely.\nCSAP STUDENTS WILL BE EDUCATED ON THE FOLLOWING:\n\nHow to discourage dangerous threats\nWays to identify and avoid potentially dangerous situations\nProtection at a safe distance\nHow to use our products effectively and responsibly\nPersonal safety skills for smart living\nINCLUDES – Personal safety starter kit!\n\nAnyone can benefit from taking a CSAP class – whether you’re a runner\, commuter\, student\, someone who travels for work\, retiree\, homemaker – this class is for you!
URL:https://howellsgunshop.com/event/sabre-pepper-spray-civilian-safety-awareness-program/
LOCATION:Howell’s Gun Shop\, 81 West Gray Road\, Gray\, ME\, 04039\, United States
CATEGORIES:All Events,SABRE Pepper Spray,Self Defense
ATTACH;FMTTYPE=image/jpeg:https://howellsgunshop.com/wp-content/uploads/2021/12/iu-1-1.jpeg
END:VEVENT
END:VCALENDAR