BEGIN:VCALENDAR
VERSION:2.0
PRODID:-//Howell&#039;s Gun Shop - ECPv6.15.20//NONSGML v1.0//EN
CALSCALE:GREGORIAN
METHOD:PUBLISH
X-WR-CALNAME:Howell&#039;s Gun Shop
X-ORIGINAL-URL:https://howellsgunshop.com
X-WR-CALDESC:Events for Howell&#039;s Gun Shop
REFRESH-INTERVAL;VALUE=DURATION:PT1H
X-Robots-Tag:noindex
X-PUBLISHED-TTL:PT1H
BEGIN:VTIMEZONE
TZID:America/New_York
BEGIN:DAYLIGHT
TZOFFSETFROM:-0500
TZOFFSETTO:-0400
TZNAME:EDT
DTSTART:20250309T070000
END:DAYLIGHT
BEGIN:STANDARD
TZOFFSETFROM:-0400
TZOFFSETTO:-0500
TZNAME:EST
DTSTART:20251102T060000
END:STANDARD
BEGIN:DAYLIGHT
TZOFFSETFROM:-0500
TZOFFSETTO:-0400
TZNAME:EDT
DTSTART:20260308T070000
END:DAYLIGHT
BEGIN:STANDARD
TZOFFSETFROM:-0400
TZOFFSETTO:-0500
TZNAME:EST
DTSTART:20261101T060000
END:STANDARD
BEGIN:DAYLIGHT
TZOFFSETFROM:-0500
TZOFFSETTO:-0400
TZNAME:EDT
DTSTART:20270314T070000
END:DAYLIGHT
BEGIN:STANDARD
TZOFFSETFROM:-0400
TZOFFSETTO:-0500
TZNAME:EST
DTSTART:20271107T060000
END:STANDARD
END:VTIMEZONE
BEGIN:VEVENT
DTSTART;TZID=America/New_York:20261010T130000
DTEND;TZID=America/New_York:20261010T160000
DTSTAMP:20260423T105559
CREATED:20260421T183958Z
LAST-MODIFIED:20260422T160828Z
UID:20322-1791637200-1791648000@howellsgunshop.com
SUMMARY:10/10/26 - USCCA Protecting Your House of Worship
DESCRIPTION:This 3-Hour mini-class focuses specifically on lessons which can help to better protect your House of Worship by learning how to identify a mass shooter\, create an emergency operations plan and how to treat traumatic injuries that may occur. \nThe lesson covers specific considerations related to Houses of Worship\, how to evaluate the current level of security at a House of Worship\, and offers practical exercises which can be done with students to practice the lessons being taught. \nTopics Covered: \n\nLearn how to identify a person who may be planning a mass shooting\nDetermine the steps to create an emergency operations plan\nSpecial safety and knowledge considerations for Houses of Worship\nBetter evaluate the current House of Worship security\, determine safe rooms and improvised weapons\, and how to treat the wounded after the attack\n\nBring water\, note-taking materials\, and your questions! \n  \n\nEVENT REGISTRATION TERMS & CONDITIONS\nCourse Transfer: With 72-hour advance notice of the event date we will issue a unique re-registration code for course transfers.\nCancellation Refund: Refunds for 50% balance of event fee\, if no transfer is possible\, are issued in the form of store gift cards only but ONLY if we are notified of the cancelation up to 72 hours in advance of the event date.\nNo-Call/No-Show: Participants who do not show to the event without prior 72-hour notice forfeit their total registration fees.\nSame Day Cancelations: Same day cancelations are non-refundable as spots in classes are quick to fill and we will be unable to resell that spot in the event or give an individual on a waitlist adequate time to purchase that spot.
URL:https://howellsgunshop.com/event/10-10-26-uscca-protecting-your-house-of-worship/
LOCATION:Howell’s Gun Shop\, 81 West Gray Road\, Gray\, ME\, 04039\, United States
CATEGORIES:All Events,USCCA Protecting Your House of Worship
ATTACH;FMTTYPE=image/png:https://howellsgunshop.com/wp-content/uploads/2026/04/Howells-ProtectingYourHouseOfWorship.png
END:VEVENT
END:VCALENDAR