BEGIN:VCALENDAR
VERSION:2.0
PRODID:-//Howell&#039;s Gun Shop - ECPv6.15.20//NONSGML v1.0//EN
CALSCALE:GREGORIAN
METHOD:PUBLISH
X-ORIGINAL-URL:https://howellsgunshop.com
X-WR-CALDESC:Events for Howell&#039;s Gun Shop
REFRESH-INTERVAL;VALUE=DURATION:PT1H
X-Robots-Tag:noindex
X-PUBLISHED-TTL:PT1H
BEGIN:VTIMEZONE
TZID:America/New_York
BEGIN:DAYLIGHT
TZOFFSETFROM:-0500
TZOFFSETTO:-0400
TZNAME:EDT
DTSTART:20240310T070000
END:DAYLIGHT
BEGIN:STANDARD
TZOFFSETFROM:-0400
TZOFFSETTO:-0500
TZNAME:EST
DTSTART:20241103T060000
END:STANDARD
BEGIN:DAYLIGHT
TZOFFSETFROM:-0500
TZOFFSETTO:-0400
TZNAME:EDT
DTSTART:20250309T070000
END:DAYLIGHT
BEGIN:STANDARD
TZOFFSETFROM:-0400
TZOFFSETTO:-0500
TZNAME:EST
DTSTART:20251102T060000
END:STANDARD
BEGIN:DAYLIGHT
TZOFFSETFROM:-0500
TZOFFSETTO:-0400
TZNAME:EDT
DTSTART:20260308T070000
END:DAYLIGHT
BEGIN:STANDARD
TZOFFSETFROM:-0400
TZOFFSETTO:-0500
TZNAME:EST
DTSTART:20261101T060000
END:STANDARD
END:VTIMEZONE
BEGIN:VEVENT
DTSTART;TZID=America/New_York:20250315T090000
DTEND;TZID=America/New_York:20250315T130000
DTSTAMP:20260425T171315
CREATED:20250116T021333Z
LAST-MODIFIED:20250116T021841Z
UID:16712-1742029200-1742043600@howellsgunshop.com
SUMMARY:UTAH Non-Resident Multi-State Carry Permit
DESCRIPTION:The Utah Concealed Carry permit is one of the most valuable permits in the United States for several reasons. Honored in over 35 states the Utah permit allows you to travel concealed throughout most of the nation. The permit requires a four to five hour class including firearm safety\, fundamentals of shooting as well Utah and federal law considerations. A shooting qualification will also be held on our range. \n\nRequired equipment:\n\nEye and ear protection\, handgun and 25 rounds of ammunition.\n\nPre-requisites:\n\nUtah requires students to hold a valid Maine Concealed Carry permit prior to applying for the Utah permit.\nStudents must download and complete the Utah Concealed Carry permit application. https://bci.utah.gov forms. We will review the applications and transfer the information to the official application in class.\nIn addition students are strongly encouraged to download and print the Utah Minimum Training Curriculum also located at https://bci.utah.gov\n\nStudents will leave with an official completion application which must be used within one year of completion of course.  It will be the responsibility of the student to complete additional application requirements including photos\, fingerprints and fees required by the state of Utah (currently $62 for a 5 year permit).\n  \nEVENT REGISTRATION TERMS & CONDITIONS\nCourse Transfer: With 72-hour advance notice of the event date we will issue a unique re-registration code for course transfers.\nCancellation Refund: Refunds for 50% balance of event fee\, if no transfer is possible\, are issued in the form of store gift cards only but ONLY if we are notified of the cancelation up to 72 hours in advance of the event date.\nNo-Call/No-Show: Participants who do not show to the event without prior 72-hour notice forfeit their total registration fees.\nSame Day Cancelations: Same day cancelations are non-refundable as spots in classes are quick to fill and we will be unable to resell that spot in the event or give an individual on a waitlist adequate time to purchase that spot.
URL:https://howellsgunshop.com/event/utah-non-resident-multi-state-carry-permit/
LOCATION:Howell’s Gun Shop\, 81 West Gray Road\, Gray\, ME\, 04039\, United States
CATEGORIES:All Events,Utah Carry Permit
ATTACH;FMTTYPE=image/png:https://howellsgunshop.com/wp-content/uploads/2025/01/Untitled.png
END:VEVENT
END:VCALENDAR