BEGIN:VCALENDAR
VERSION:2.0
PRODID:-//Howell&#039;s Gun Shop - ECPv6.15.20//NONSGML v1.0//EN
CALSCALE:GREGORIAN
METHOD:PUBLISH
X-WR-CALNAME:Howell&#039;s Gun Shop
X-ORIGINAL-URL:https://howellsgunshop.com
X-WR-CALDESC:Events for Howell&#039;s Gun Shop
REFRESH-INTERVAL;VALUE=DURATION:PT1H
X-Robots-Tag:noindex
X-PUBLISHED-TTL:PT1H
BEGIN:VTIMEZONE
TZID:America/New_York
BEGIN:DAYLIGHT
TZOFFSETFROM:-0500
TZOFFSETTO:-0400
TZNAME:EDT
DTSTART:20220313T070000
END:DAYLIGHT
BEGIN:STANDARD
TZOFFSETFROM:-0400
TZOFFSETTO:-0500
TZNAME:EST
DTSTART:20221106T060000
END:STANDARD
BEGIN:DAYLIGHT
TZOFFSETFROM:-0500
TZOFFSETTO:-0400
TZNAME:EDT
DTSTART:20230312T070000
END:DAYLIGHT
BEGIN:STANDARD
TZOFFSETFROM:-0400
TZOFFSETTO:-0500
TZNAME:EST
DTSTART:20231105T060000
END:STANDARD
BEGIN:DAYLIGHT
TZOFFSETFROM:-0500
TZOFFSETTO:-0400
TZNAME:EDT
DTSTART:20240310T070000
END:DAYLIGHT
BEGIN:STANDARD
TZOFFSETFROM:-0400
TZOFFSETTO:-0500
TZNAME:EST
DTSTART:20241103T060000
END:STANDARD
END:VTIMEZONE
BEGIN:VEVENT
DTSTART;TZID=America/New_York:20230823T130000
DTEND;TZID=America/New_York:20230823T160000
DTSTAMP:20260424T002422
CREATED:20230515T194435Z
LAST-MODIFIED:20230821T021525Z
UID:11757-1692795600-1692806400@howellsgunshop.com
SUMMARY:CANCELED - Steel Challenge 
DESCRIPTION:Steel Challenge\nPart of Howell’s 2023 Summer Series\nVIEW ALL SUMMER SERIES EVENTS \nDuration Of 3 Hours\nCourse Fee $150\n\nMembership: Discounts Apply!\nPrerequisite: This is NOT a basic pistol or holster skills course. Participants are required to have a safe\, working knowledge of their chosen carry pistol and can demonstrate safe loading\, shooting\, unloading\, reload and malfunction skills. Questions about eligibility? Contact our Director of Training to discuss. \nCOURSE DESCRIPTION\nThat amazingly satisfying sound of shooting steel is hard to match! Join us for a three-hour soul soothing deep dive into the art and challenge of shooting steel targets. This course will work across the Texas Star\, dueling tree\, and horizontal plate rack. Explore techniques for static and moving targets of various sizes for skills to take you from plinking to competition! \nREQUIRED EQUIPMENT \n\nEye & ear protection\nClosed-toe shoes\nHigh collared shirt\nNotebook & Pen\nCenterfire Pistol\nMin of 1 magazine pouch\n100 Rounds of ammunition\n\nEVENT REGISTRATION TERMS & CONDITIONS\nCourse Transfer: With 72-hour advance notice of the event date we will issue a unique re-registration code for course transfers.\nCancellation Refund: Refunds for 50% balance of event fee\, if no transfer is possible\, are issued in the form of store gift cards only but ONLY if we are notified of the cancelation up to 72 hours in advance of the event date.\nNo-Call/No-Show: Participants who do not show to the event without prior 72-hour notice forfeit their total registration fees.\nSame Day Cancelations: Same day cancelations are non-refundable as spots in classes are quick to fill and we will be unable to resell that spot in the event or give an individual on a waitlist adequate time to purchase that spot.
URL:https://howellsgunshop.com/event/8-23-23-steel-challenge/
LOCATION:Howell’s Gun Shop\, 81 West Gray Road\, Gray\, ME\, 04039\, United States
CATEGORIES:2023 Summer Series,All Events
ATTACH;FMTTYPE=image/jpeg:https://howellsgunshop.com/wp-content/uploads/2023/05/Howells-SteelChallenge-1.jpg
END:VEVENT
BEGIN:VEVENT
DTSTART;TZID=America/New_York:20230816T130000
DTEND;TZID=America/New_York:20230816T160000
DTSTAMP:20260424T002422
CREATED:20230515T183505Z
LAST-MODIFIED:20230801T203937Z
UID:11750-1692190800-1692201600@howellsgunshop.com
SUMMARY:8/16/23 - Mastering the FBI Qual
DESCRIPTION:Mastering the FBI Qual\nPart of Howell’s 2023 Summer Series\nVIEW ALL SUMMER SERIES EVENTS \nDuration Of 3 Hours: 1pm – 4pm\nCourse Fee $150\n\nMembership: Discounts Apply!\nPrerequisite: This is NOT a basic pistol or holster skills course. Participants are required to have a safe\, working knowledge of their chosen carry pistol and can demonstrate safe loading\, shooting\, unloading\, reload and malfunction skills. \nCOURSE DESCRIPTION\nThe FBI Qualification shooting course is a 50 round course of fire shot across a range of distances and over a variety of small drill sets. Each stage of the qual is recorded for time\, score and of course – safety. The purpose of this qualification course is to verify that the shooter possesses and can demonstrate basic skill sets relevant to the types of generalized threats that an agent could encounter. The FBI Qual is utilized by more than just the FBI. Many institutions and shooting schools utilize this as a benchmark exercise for instructor candidates and proficiency tests for intermediate to advanced shooters. For civilians and shooting enthusiasts this is an excellent course of fire in one box of ammo to work speed\, accuracy\, reloads\, distance and recoil management. Join us for this three hour class to shoot and learn the techniques to master the nationally recognized and revered FBI Qual! \nREQUIRED EQUIPMENT \n\nEye & ear protection\nClosed-toe shoes\nHigh collared shirt\nNotebook & Pen\nCenterfire Pistol\nMin of 2 magazines\n100 Rounds of ammunition\n*This qual may be run from a holster either open or from concealment. This class WILL NOT TEACH holster or drawing from concealment skills. Should you wish to shoot from the holster please ensure you have the nessisary skills to do so safely or consult with our Director of Training in advance should you have questions. All other shooters will shoot from the bench.\n\nEVENT REGISTRATION TERMS & CONDITIONS\nCourse Transfer: With 72-hour advance notice of the event date we will issue a unique re-registration code for course transfers.\nCancellation Refund: Refunds for 50% balance of event fee\, if no transfer is possible\, are issued in the form of store gift cards only but ONLY if we are notified of the cancelation up to 72 hours in advance of the event date.\nNo-Call/No-Show: Participants who do not show to the event without prior 72-hour notice forfeit their total registration fees.\nSame Day Cancelations: Same day cancelations are non-refundable as spots in classes are quick to fill and we will be unable to resell that spot in the event or give an individual on a waitlist adequate time to purchase that spot.
URL:https://howellsgunshop.com/event/7-26-23-mastering-the-fbi-qual/
LOCATION:Howell’s Gun Shop\, 81 West Gray Road\, Gray\, ME\, 04039\, United States
CATEGORIES:2023 Summer Series,All Events
ATTACH;FMTTYPE=image/png:https://howellsgunshop.com/wp-content/uploads/2023/05/Howells-FBIQual-1.png
END:VEVENT
BEGIN:VEVENT
DTSTART;TZID=America/New_York:20230808T130000
DTEND;TZID=America/New_York:20230808T160000
DTSTAMP:20260424T002422
CREATED:20230515T193215Z
LAST-MODIFIED:20230604T133423Z
UID:11754-1691499600-1691510400@howellsgunshop.com
SUMMARY:8/8/23 - Shooting on the Move
DESCRIPTION:Shooting on the Move\nPart of Howell’s 2023 Summer Series\nVIEW ALL SUMMER SERIES EVENTS \nDuration Of 3 Hours\nCourse Fee $150\n\nMembership: Discounts Apply!\nPrerequisite: This is NOT a basic pistol or holster skills course. Participants are required to have a safe\, working knowledge of their chosen carry pistol and can demonstrate safe loading\, shooting\, unloading\, reload and malfunction skills. This course REQUIRES holster skills to participate. Please do not enroll if you are not already proficient working from a holster as this program does not include instruction on holster skills. Questions about eligibility? Contact our Director of Training to discuss. \nCOURSE DESCRIPTION\nReady to get moving? This three hour course is dedicated to the art and skill of shooting WHILE moving! Learn the footwork\, balance and focus to move at a various speeds and hit your target. This is a fun and engaging course so please plan on wearing appropriate footwear. An excellent program of concealed carriers and competitors alike! Holsters are a requirement for this program. \nREQUIRED EQUIPMENT \n\nEye & ear protection\nClosed-toe shoes\nHigh collared shirt\nNotebook & Pen\nCenterfire Pistol\nRigid Holster IWB (inside the waistband) or OWB (outside the waistband) concealable holster. (NOTE: no leather\, fabric\, collapsible or trigger finger push-button holsters allowed for safety reasons.)\nOne or two cover garments of your choice\nMin of 1 magazine pouch\nGun Belt\n100 Rounds of ammunition\n\nEVENT REGISTRATION TERMS & CONDITIONS\nCourse Transfer: With 72-hour advance notice of the event date we will issue a unique re-registration code for course transfers.\nCancellation Refund: Refunds for 50% balance of event fee\, if no transfer is possible\, are issued in the form of store gift cards only but ONLY if we are notified of the cancelation up to 72 hours in advance of the event date.\nNo-Call/No-Show: Participants who do not show to the event without prior 72-hour notice forfeit their total registration fees.\nSame Day Cancelations: Same day cancelations are non-refundable as spots in classes are quick to fill and we will be unable to resell that spot in the event or give an individual on a waitlist adequate time to purchase that spot.
URL:https://howellsgunshop.com/event/8-8-23-shooting-on-the-move/
LOCATION:Howell’s Gun Shop\, 81 West Gray Road\, Gray\, ME\, 04039\, United States
CATEGORIES:2023 Summer Series,All Events
ATTACH;FMTTYPE=image/jpeg:https://howellsgunshop.com/wp-content/uploads/2023/05/Howells-ShootingontheMove-1.jpg
END:VEVENT
BEGIN:VEVENT
DTSTART;TZID=America/New_York:20230714T090000
DTEND;TZID=America/New_York:20230714T120000
DTSTAMP:20260424T002422
CREATED:20230515T182024Z
LAST-MODIFIED:20230515T182213Z
UID:11745-1689325200-1689336000@howellsgunshop.com
SUMMARY:7/14/23 - One-Hand Pistol Skills
DESCRIPTION:One-Hand Pistol Skills\nPart of Howell’s 2023 Summer Series\nVIEW ALL SUMMER SERIES EVENTS \nDuration Of 3 Hours\nCourse Fee $150\n\nMembership: Discounts Apply!\nPrerequisite: This is NOT a basic pistol or holster skills course. Participants are required to have a safe\, working knowledge of their chosen carry pistol and can demonstrate safe loading\, shooting\, unloading\, reload and malfunction skills. \nCOURSE DESCRIPTION\nDon’t let shooting pistol one-handed or off-handed fool you\, it’s not that hard if you know the techniques to do it right! Join us for this three-hour workshop exploring strong and support hand shooting skills. Many drills\, quals\, and stages at competition matches require one-handed shooting to test how well rounded the shooter is. In addition to competition one-handed shooting is a critical skill set for concealed carry and self defense. This class discusses grip position\, pressure\, recoil management and cross eye dominance issues to build strong single hand shooting proficiency with either hand. \nREQUIRED EQUIPMENT \n\nEye & ear protection\nClosed-toe shoes\nHigh collared shirt\nNotebook & Pen\nCenterfire Pistol preferred\, rimfire acceptable\nMin of 2 magazines\n100 Rounds of ammunition\n\nEVENT REGISTRATION TERMS & CONDITIONS\nCourse Transfer: With 72-hour advance notice of the event date we will issue a unique re-registration code for course transfers.\nCancellation Refund: Refunds for 50% balance of event fee\, if no transfer is possible\, are issued in the form of store gift cards only but ONLY if we are notified of the cancelation up to 72 hours in advance of the event date.\nNo-Call/No-Show: Participants who do not show to the event without prior 72-hour notice forfeit their total registration fees.\nSame Day Cancelations: Same day cancelations are non-refundable as spots in classes are quick to fill and we will be unable to resell that spot in the event or give an individual on a waitlist adequate time to purchase that spot.
URL:https://howellsgunshop.com/event/7-14-23-one-hand-pistol-skills/
LOCATION:Howell’s Gun Shop\, 81 West Gray Road\, Gray\, ME\, 04039\, United States
CATEGORIES:2023 Summer Series,All Events
ATTACH;FMTTYPE=image/jpeg:https://howellsgunshop.com/wp-content/uploads/2023/05/Howells-One-HandedSkills-1.jpg
END:VEVENT
BEGIN:VEVENT
DTSTART;TZID=America/New_York:20230623T090000
DTEND;TZID=America/New_York:20230623T120000
DTSTAMP:20260424T002422
CREATED:20230515T181308Z
LAST-MODIFIED:20230515T181451Z
UID:11740-1687510800-1687521600@howellsgunshop.com
SUMMARY:6/23/23 - Intro to Pistol Optics
DESCRIPTION:Intro to Pistol Optics\nPart of Howell’s 2023 Summer Series\nVIEW ALL SUMMER SERIES EVENTS \nDuration Of 3 Hours\nCourse Fee $150\n\nMembership: Discounts Apply!\nPrerequisite: This is NOT a basic pistol or holster skills course. Participants are required to have a safe\, working knowledge of their chosen carry pistol and can demonstrate safe loading\, shooting\, unloading\, reload and malfunction skills. \nCOURSE DESCRIPTION\nAre you curious about optics mounted on pistols? Holosun\, Trijicon\, Aimpoint\, SIG SAUER and other manufacturers are producing quality pistol mounted optics that can greatly increase accuracy\, target acquisition and are rapidly becoming a standard on both competition and carry pistols across the country. For aging eyes pistol mounted optics can keep some shooters shooting for a few more years than without. There is a learning curve to adapting to a new sighting system but the juice is worth the squeeze! Join us for this three-hour workshop where we work on techniques to help master the “dot”! \nREQUIRED EQUIPMENT \n\nEye & ear protection\nClosed-toe shoes\nHigh collared shirt\nNotebook & Pen\nPistol with optic pre-mounted and zeroed. *Rentals are available though options are limited. Please plan to arrive and check-in early should you plan to rent from us. \nMin of 2 magazines\n100 Rounds of ammunition\n\nEVENT REGISTRATION TERMS & CONDITIONS\nCourse Transfer: With 72-hour advance notice of the event date we will issue a unique re-registration code for course transfers.\nCancellation Refund: Refunds for 50% balance of event fee\, if no transfer is possible\, are issued in the form of store gift cards only but ONLY if we are notified of the cancelation up to 72 hours in advance of the event date.\nNo-Call/No-Show: Participants who do not show to the event without prior 72-hour notice forfeit their total registration fees.\nSame Day Cancelations: Same day cancelations are non-refundable as spots in classes are quick to fill and we will be unable to resell that spot in the event or give an individual on a waitlist adequate time to purchase that spot.
URL:https://howellsgunshop.com/event/6-23-23-intro-to-pistol-optics/
LOCATION:Howell’s Gun Shop\, 81 West Gray Road\, Gray\, ME\, 04039\, United States
CATEGORIES:2023 Summer Series,All Events
ATTACH;FMTTYPE=image/jpeg:https://howellsgunshop.com/wp-content/uploads/2023/05/Howells-IntrotoPistolOptics-1.jpg
END:VEVENT
BEGIN:VEVENT
DTSTART;TZID=America/New_York:20230602T090000
DTEND;TZID=America/New_York:20230602T120000
DTSTAMP:20260424T002422
CREATED:20230515T175412Z
LAST-MODIFIED:20230515T181418Z
UID:11732-1685696400-1685707200@howellsgunshop.com
SUMMARY:6/2/23 - Drawing from Concealment
DESCRIPTION:Drawing from Concealment\nPart of Howell’s 2023 Summer Series\nVIEW ALL SUMMER SERIES EVENTS \nDuration Of 3 Hours\nCourse Fee $150\n\nMembership: Discounts Apply!\nPrerequisite: This is NOT a basic pistol or holster skills course. Participants are required to have a safe\, working knowledge of their chosen carry pistol and can demonstrate safe loading\, shooting\, unloading\, reload and malfunction skills. \nCOURSE DESCRIPTION\nThis 3-Hour class is an ideal for those new to concealed carry or experienced carriers interested in honing existing skills. We will thoroughly cover the techniques required to safely and effectively draw\, shoot and re-holster a handgun from concealment on either the front of (appendix carry) or strong side of the body. This is NOT a class for beginner shooters! \nREQUIRED EQUIPMENT \n\nEye & ear protection\nClosed-toe shoes\nHigh collared shirt\nNotebook & Pen\nCenterfire pistol\nMin of 2 magazines\nRigid Holster IWB (inside the waistband) or OWB (outside the waistband) concealable holster. (NOTE: no leather\, fabric\, collapsible or trigger finger push-button holsters allowed for safety reasons)\nOne or two cover garments of your choice\nMin of 1 magazine pouch\nGun Belt\n100 Rounds of ammunition\n\nEVENT REGISTRATION TERMS & CONDITIONS\nCourse Transfer: With 72-hour advance notice of the event date we will issue a unique re-registration code for course transfers.\nCancellation Refund: Refunds for 50% balance of event fee\, if no transfer is possible\, are issued in the form of store gift cards only but ONLY if we are notified of the cancelation up to 72 hours in advance of the event date.\nNo-Call/No-Show: Participants who do not show to the event without prior 72-hour notice forfeit their total registration fees.\nSame Day Cancelations: Same day cancelations are non-refundable as spots in classes are quick to fill and we will be unable to resell that spot in the event or give an individual on a waitlist adequate time to purchase that spot.
URL:https://howellsgunshop.com/event/6-2-23-drawing-from-concealment/
LOCATION:Howell’s Gun Shop\, 81 West Gray Road\, Gray\, ME\, 04039\, United States
CATEGORIES:2023 Summer Series,All Events
ATTACH;FMTTYPE=image/jpeg:https://howellsgunshop.com/wp-content/uploads/2023/05/Howells-DrawingfromConcealment-1.jpg
END:VEVENT
END:VCALENDAR