BEGIN:VCALENDAR
VERSION:2.0
PRODID:-//Howell&#039;s Gun Shop - ECPv6.15.20//NONSGML v1.0//EN
CALSCALE:GREGORIAN
METHOD:PUBLISH
X-ORIGINAL-URL:https://howellsgunshop.com
X-WR-CALDESC:Events for Howell&#039;s Gun Shop
REFRESH-INTERVAL;VALUE=DURATION:PT1H
X-Robots-Tag:noindex
X-PUBLISHED-TTL:PT1H
BEGIN:VTIMEZONE
TZID:America/New_York
BEGIN:DAYLIGHT
TZOFFSETFROM:-0500
TZOFFSETTO:-0400
TZNAME:EDT
DTSTART:20230312T070000
END:DAYLIGHT
BEGIN:STANDARD
TZOFFSETFROM:-0400
TZOFFSETTO:-0500
TZNAME:EST
DTSTART:20231105T060000
END:STANDARD
BEGIN:DAYLIGHT
TZOFFSETFROM:-0500
TZOFFSETTO:-0400
TZNAME:EDT
DTSTART:20240310T070000
END:DAYLIGHT
BEGIN:STANDARD
TZOFFSETFROM:-0400
TZOFFSETTO:-0500
TZNAME:EST
DTSTART:20241103T060000
END:STANDARD
BEGIN:DAYLIGHT
TZOFFSETFROM:-0500
TZOFFSETTO:-0400
TZNAME:EDT
DTSTART:20250309T070000
END:DAYLIGHT
BEGIN:STANDARD
TZOFFSETFROM:-0400
TZOFFSETTO:-0500
TZNAME:EST
DTSTART:20251102T060000
END:STANDARD
END:VTIMEZONE
BEGIN:VEVENT
DTSTART;TZID=America/New_York:20240202T090000
DTEND;TZID=America/New_York:20240202T170000
DTSTAMP:20260425T063027
CREATED:20231115T023006Z
LAST-MODIFIED:20240122T031537Z
UID:13718-1706864400-1706893200@howellsgunshop.com
SUMMARY:CANCELED - Defensive Handgun with Tatiana Whitlock
DESCRIPTION:DEFENSIVE HANDGUN with Tatiana Whitlock\nCLICK HERE TO REGISTER\nThis 8-hour class is designed to develop safe & well-rounded shooters. Defensive Handgun is an Intermediate Handgun for Self Defense that has you moving\, shooting\, and problem-solving. Learn the essentials of non-standard positional shooting (Yoga with Guns!)\, critical movement skills\, engaging from a seated position\, and partner drills. Emphasis is towards drills and scenarios that simulate having children or family as part of a deadly force encounter and how to manage them to keep them safe. This class is a fast-paced yet detail-rich program. Those wishing to work from concealment are welcome. \nEXPERIENCE LEVEL: Students should have at least taken a basic handgun class within the past year and have a solid grasp of range etiquette and gun handling\, holster and safety skills.\nDURATION: 8-Hours\nCOURSE FEE: $250\nRANGE FEE: $35 (Active Howell’s Members do not pay range fee) \n\n\n\n\nEQUIPMENT \n\n\n\n\n\nWorking handgun (preferably a centerfire gun)\n250 rounds of factory ammunition\nMinimum of two (2) magazines\, 3 magazines are recommended\nEye & ear protection\nOWB Holster (Outside the Waistband). For safety reasons bra holsters\, soft side collapsible holsters\, cross draw\, Serpa-style push-button\, ankle\, off-body\, and behind-the-back holsters are NOT allowed during the live-fire portion of course. Contact with questions.\nMagazine pouch(s)\nSturdy gun belt\nMed Kit (If you do not yet own one please consider investing!)\nPlease pack your lunch\, adequate snacks and hydration (both water AND electrolytes).\n\nATTIRE: Range appropriate attire: long pants\, closed-toe shoes\, high collared shirt. Brimmed ball caps recommended but not required. \n\n\n\n\nREGISTRATION POLICIES & TERMS\nNO VIDEO POLICY! To protect the privacy and learning experience of your fellow students we have adopted a strict NO VIDEO policy during class. \n\n\n\n\n\n\n\n\nThis is a HOSTED CLASS. Registrations are completed through Tatianawhitlock.com. By completing enrollment in this event you confirm that you have read and agree to Terms of Sale & Event Policies.
URL:https://howellsgunshop.com/event/2-16-24-defensive-handgun-with-tatiana-whitlock/
LOCATION:Howell’s Gun Shop\, 81 West Gray Road\, Gray\, ME\, 04039\, United States
CATEGORIES:All Events,Defensive Handgun,FEATURED INSTRUCTORS
ATTACH;FMTTYPE=image/jpeg:https://howellsgunshop.com/wp-content/uploads/2019/12/Howells_DefensiveHandgun.jpg
END:VEVENT
BEGIN:VEVENT
DTSTART;TZID=America/New_York:20240207T090000
DTEND;TZID=America/New_York:20240207T163000
DTSTAMP:20260425T063027
CREATED:20231106T235000Z
LAST-MODIFIED:20231107T000058Z
UID:13431-1707296400-1707323400@howellsgunshop.com
SUMMARY:2/7/24 - Handgun Essentials
DESCRIPTION:Handgun Essentials\nDuration Of 7 – 8 Hours\nCourse Fee $250\nMembership: Discounts Apply!\nStep 1: New Shooter\nStep 2: Handgun Essentials\nStep 3: Beyond Basics\nStep 4: Defensive Handgun with Tatiana Whitlock \nEstablish essential handgun skills necessary to become a safe semiautomatic handgun owner and marksman. We strongly encourage participants to take our Step 1: New Shooter course prior to attending. This class thoroughly covers handgun safety awareness\, the basics of handgun mechanics\, safe handling techniques\, and the fundamentals of stance\, grip\, sight picture and alignment. Round out your skills with malfunction clearing and ammunition management (reloading) techniques with a heavy emphasis on marksmanship and accuracy. By the end of this class\, you will have a well rounded skill set to confidently enjoy shooting your handgun! \n*Please note that this is NOT a revolver class. This course is focused on semiautomatic handguns only. Should you wish you explore revolvers please consider signing up for a private lesson.  \nREQUIRED EQUIPMENT \n\nWorking semiautomatic handgun (preferably a centerfire gun)\nMinimum of two (2) magazines\nAmmunition – 150 rounds\nEye & ear protection\nAttire: Long pants\, high collared shirt or t-shirt\, closed toe shoes\, ball caps recommended.\n\nEVENT REGISTRATION TERMS & CONDITIONS\nCourse Transfer: With 72-hour advance notice of the event date we will issue a unique re-registration code for course transfers.\nCancellation Refund: Refunds for 50% balance of event fee\, if no transfer is possible\, are issued in the form of store gift cards only but ONLY if we are notified of the cancelation up to 72 hours in advance of the event date.\nNo-Call/No-Show: Participants who do not show to the event without prior 72-hour notice forfeit their total registration fees.\nSame Day Cancelations: Same day cancelations are non-refundable as spots in classes are quick to fill and we will be unable to resell that spot in the event or give an individual on a waitlist adequate time to purchase that spot.
URL:https://howellsgunshop.com/event/2-7-24-handgun-essentials/
LOCATION:Howell’s Gun Shop\, 81 West Gray Road\, Gray\, ME\, 04039\, United States
CATEGORIES:All Events,Handgun Essentials
ATTACH;FMTTYPE=image/jpeg:https://howellsgunshop.com/wp-content/uploads/2022/05/Howells_HandgunEssentials.jpg
END:VEVENT
BEGIN:VEVENT
DTSTART;TZID=America/New_York:20240213T090000
DTEND;TZID=America/New_York:20240213T120000
DTSTAMP:20260425T063027
CREATED:20231018T191131Z
LAST-MODIFIED:20240122T032313Z
UID:12760-1707814800-1707825600@howellsgunshop.com
SUMMARY:2/13/24 - New Shooter
DESCRIPTION:Duration Of 3 Hours\nCourse Fee $150\nStep 1: New Shooter\nStep 2: Handgun Essentials\nStep 3: Beyond Basics\nStep 4: Defensive Handgun with Tatiana Whitlock \n\nHowell’s New Shooters class provides a hands-on introduction to the safe handling and proper range of use of handguns. This 3-hour class is a significant first step for new shooters looking to become safe and responsible gun owners. This class aims to provide essential gun safety skills\, range etiquette\, terminology\, and basic shooting skills to ensure you have a safe and enjoyable experience at the range. Taught by Howell’s certified and friendly instructor team\, this is the class we wish we had the first time we went shooting! \n\nREQUIRED EQUIPMENT: \n\nHandguns provided for use in class\nAmmunition provided\nEye and ear protection\, available for purchase on-site\nAttire: Long pants\, high collared shirt or t-shirt\, closed-toe shoes\, ball caps recommended.\n*If you would like to bring and shoot your firearm & 50 rounds of factory ball ammo at the end of the program – time permitting.\n\n\nEVENT REGISTRATION TERMS & CONDITIONS\nCourse Transfer: With 72-hour advance notice of the event date\, we will issue a unique re-registration code for course transfers.\nCancellation Refund: Refunds for 50% of the balance of the event fee\, if no transfer is possible\, are issued in-store gift cards only\, but ONLY if we are notified of the cancelation up to 72 hours before the event date.\nNo-Call/No-Show: Participants who do not attend the event without prior 72-hour notice forfeit their total registration fees.\nSame-Day Cancelations: Same-day cancelations are non-refundable as spots in classes are quick to fill\, and we will be unable to resell that spot in the event or give an individual on a waitlist adequate time to purchase that spot.
URL:https://howellsgunshop.com/event/2-13-24-new-shooter/
LOCATION:Howell’s Gun Shop\, 81 West Gray Road\, Gray\, ME\, 04039\, United States
CATEGORIES:All Events,New Shooter
ATTACH;FMTTYPE=image/jpeg:https://howellsgunshop.com/wp-content/uploads/2022/05/Howells_NewShooter.jpg
END:VEVENT
BEGIN:VEVENT
DTSTART;TZID=America/New_York:20240213T130000
DTEND;TZID=America/New_York:20240213T160000
DTSTAMP:20260425T063027
CREATED:20231107T004835Z
LAST-MODIFIED:20240122T032423Z
UID:13508-1707829200-1707840000@howellsgunshop.com
SUMMARY:2/13/24 - Maine Concealed Carry
DESCRIPTION:MAINE CONCEALED CARRY\nDuration Of 3 Hours\nCourse Fee $150\n\nMembership: Discounts Apply!\nPrerequisite: This is NOT a basic pistol or holster skills course. Participants are encouraged to first take a private lesson or a new shooter course if they have not shot a gun before or if they are returning to shooting from a long hiatus. \nCOURSE DESCRIPTION\nThis is a 3-hour class covers the various rules to carry a concealed firearm in the State of Maine. A certificate from the successful completion of this class is applicable to use in the Maine Concealed Carry Application process. Topics will include Range Rules\, Safe Handling Rules\, Safe Storage & Transportation\, Personal Responsibility and Liability\, Firearm Selection Criteria\, Modifications/Accessories\, Carry Gear vs Range Gear\, Ammunition Selection\, mindset\,  use of force\, the disparity of force\, castle doctrine\, stand your ground\, talking to the police\, and continuing education. \nParticipants are expected to know how to operate a semiautomatic handgun\, or a revolver if supplying their own gun\, for the shooting qualification. To successfully pass this class participants must be able to demonstrate basic handgun skills including loading and making ready\, following range commands through two 5-round courses of fire (for a total of 10 rounds)\, and safely clear and bench their gun. Participants must be able to demonstrate the four rules of gun safety at all times through the entire course of fire. If you feel these are not a skill sets you are able to demonstrate at this time we encourage you to first take a Private Lesson or enroll in a New Shooter course. \nREQUIRED EQUIPMENT \n\nEye & ear protection\nClosed-toe shoes\nHigh collared shirt\nBrimmed ball caps recommended\nNotebook & Pen\nAll firearms and ammunition for the live fire qualification are provided by Howell’s.\n*If you would like to bring your own firearm you are welcome to do so. You are required to bring 10 rounds of factory FMJ ball ammunition\, in your handgun caliber of choice\, to shoot the final live fire qualification.\n\nPASS or CLASS: A participant that completes the classroom session and can safely demonstrate gun safety and safely shoot the qualification with a total of 10 rounds on target will PASS this class and a certificate of completion will be issued. In the event that a participant completes the classroom session but does not meet the safety or basic gun handling skills requirements\, the participant will receive a CLASS recommendation and the certificate will be deferred until training is completed to successfully reshoot and pass the qual. It is up to the participant that receives a CLASS recommendation to book either a private lesson or enroll in a New Shooter program of their choice in order to have an opportunity to receive the necessary training to successfully reshoot the qual. After successfully performing the qual Howells will then issue the Maine Concealed Carry certificate of completion. \nEVENT REGISTRATION TERMS & CONDITIONS\nCourse Transfer: With 72-hour advance notice of the event date we will issue a unique re-registration code for course transfers.\nCancellation Refund: Refunds for 50% balance of event fee\, if no transfer is possible\, are issued in the form of store gift cards only but ONLY if we are notified of the cancelation up to 72 hours in advance of the event date.\nNo-Call/No-Show: Participants who do not show to the event without prior 72-hour notice forfeit their total registration fees.\nSame Day Cancelations: Same day cancelations are non-refundable as spots in classes are quick to fill and we will be unable to resell that spot in the event or give an individual on a waitlist adequate time to purchase that spot.
URL:https://howellsgunshop.com/event/2-13-24-maine-concealed-carry/
LOCATION:ME
CATEGORIES:All Events,Maine Concealed Carry
ATTACH;FMTTYPE=image/png:https://howellsgunshop.com/wp-content/uploads/2022/05/image-5.png
END:VEVENT
BEGIN:VEVENT
DTSTART;TZID=America/New_York:20240216T090000
DTEND;TZID=America/New_York:20240216T170000
DTSTAMP:20260425T063027
CREATED:20231115T021906Z
LAST-MODIFIED:20240214T184612Z
UID:13703-1708074000-1708102800@howellsgunshop.com
SUMMARY:CANCELED - Beyond Basics
DESCRIPTION:CANCELED – Beyond Basics\nDuration Of 8 Hours\nCourse Fee $250\nMembership: Discounts Apply!\nStep 1: New Shooter\nStep 2: Handgun Essentials\nStep 3: Beyond Basics\nStep 4: Defensive Handgun with Tatiana Whitlock \n\n\n\n\n\n\nAn ideal class for newer shooters looking to learn critical holster skills or a refresher for more experienced shooters\, competitors or those pursuing concealed carry. This class thoroughly covers safe and efficient holster skills\, moving and shooting\, shooting while moving and an introduction to low light shooting. The emphasis of this program is to move bench shooters to open range work from a holster and working with tertiary gear (extra magazines) worn on-body. A fun and dynamic day of shooting designed to take you to the next level! \nREQUIRED EQUIPMENT \n\nWorking handgun (preferably a centerfire gun)\nMinimum of two (2) magazines\nKydex or rigid leather holster worn outside the waistband (OWB) strong side hip\nMagazine pouch(s)\nSturdy gun belt is required for this class\nAmmunition – 200 rounds\nEye & ear protection\nAttire: Long pants\, high collared shirt or t-shirt\, closed toe shoes\, ball caps recommended\n\n\n\n\n\n\n\n\n\n\n\nEVENT REGISTRATION TERMS & CONDITIONS\nCourse Transfer: With 72-hour advance notice of event date we will issue a unique re-registration code for course transfers.\nCancellation Refund: Refunds for 50% balance of event fee\, if no transfer is possible\, are issued in the form of store gift cards only but ONLY if we are notified of the cancelation up to 72 hours in advance of the event date.\nNo-Call/No-Show: Participants who do not show to the event without prior 72-hour notice forfeit their total registration fees.\nSame Day Cancelations: Same day cancelations are non-refundable as spots in classes are quick to fill and we will be unable to resell that spot in the event or give an individual on a wait list adequate time to purchase that spot.
URL:https://howellsgunshop.com/event/2-16-24-beyond-basics/
LOCATION:Howell’s Gun Shop\, 81 West Gray Road\, Gray\, ME\, 04039\, United States
CATEGORIES:All Events,Beyond Basics
ATTACH;FMTTYPE=image/jpeg:https://howellsgunshop.com/wp-content/uploads/2019/12/Howells_BeyondBasics.jpg
END:VEVENT
BEGIN:VEVENT
DTSTART;TZID=America/New_York:20240217T090000
DTEND;TZID=America/New_York:20240217T120000
DTSTAMP:20260425T063027
CREATED:20231203T214645Z
LAST-MODIFIED:20231203T214645Z
UID:13955-1708160400-1708171200@howellsgunshop.com
SUMMARY:2/17/23 - STOP THE BLEED®
DESCRIPTION:Over 2.6 million people have learned to STOP THE BLEED!\nYou can\, too! The American College of Surgeons STOP THE BLEED® program has prepared over 2.6 million people worldwide on how to stop bleeding in a severely injured person. With 3 quick actions\, you can be trained to save a life. The number 1 cause of preventable death after injury is bleeding. That’s why we want to train you how to STOP THE BLEED®. \nWhy Learn?\n\nA bleeding injury can happen anywhere. We’ve all seen it happen too often—on the news or in everyday life. Life-threatening bleeding can happen in people injured in serious accidents or disasters. Instead of being a witness\, you can become an immediate responder because you know how to STOP THE BLEED®. \nWhat You’ll Gain from the Course\n\nThe person next to a bleeding victim may very well be the one who’s most likely to save him or her from bleeding to death. By learning how to STOP THE BLEED®\, you’ll gain the ability to recognize life-threatening bleeding and act quickly and effectively to control bleeding once you learn three quick techniques. Take the STOP THE BLEED® training course and become empowered to make a life or death difference when a bleeding emergency happens. \nHow We Teach\n\nOur instructors will teach you live—in person\, using training materials specially developed to teach bleeding control techniques. They will not only instruct you\, they will be available to check your movements as you practice three different bleeding control actions. They will keep working with you until you demonstrate the correct skills to STOP THE BLEED® and save a life.
URL:https://howellsgunshop.com/event/2-17-23-stop-the-bleed/
LOCATION:Howell’s Gun Shop\, 81 West Gray Road\, Gray\, ME\, 04039\, United States
CATEGORIES:All Events,Medical,Stop the Bleed
ATTACH;FMTTYPE=image/jpeg:https://howellsgunshop.com/wp-content/uploads/2023/04/StoptheBleed-1104928253.jpeg
END:VEVENT
BEGIN:VEVENT
DTSTART;TZID=America/New_York:20240220T090000
DTEND;TZID=America/New_York:20240220T120000
DTSTAMP:20260425T063027
CREATED:20231130T111214Z
LAST-MODIFIED:20240218T044641Z
UID:13885-1708419600-1708430400@howellsgunshop.com
SUMMARY:2/20/24 - Ladies New Shooter
DESCRIPTION:A NEW SHOOTER CLASS FOR WOMEN – TAUGHT BY WOMEN!\n\nDuration Of 3 Hours\nCourse Fee $150\nMembership: Discounts Apply!\nStep 1: New Shooter\nStep 2: Handgun Essentials\nStep 3: Beyond Basics\nStep 4: Defensive Handgun with Tatiana Whitlock \nHowell’s New Shooters class is designed to provide a hands-on introduction to the safe handling and proper range of use of handguns. This 3-hour class is a great first step for new shooters looking to become safe and responsible gun owners. \nThe goal of this class is to provide essential gun safety skills\, range etiquette\, terminology\, and basic shooting skills to ensure you have a safe and enjoyable experience at the range. Taught by Howell’s certified and friendly instructor team\, this is the class we wish we had the first time we went shooting! \nREQUIRED EQUIPMENT: \n\nHandguns provided for use in class\nAmmunition provided\nEye and ear protection\, available for purchase on-site\nAttire: Long pants\, high collared shirt or t-shirt\, closed-toe shoes\, ball caps recommended.\n*If you would like to bring and shoot your own firearm & 50 rounds of factory ball ammo at the end of the program.\n\nEVENT REGISTRATION TERMS & CONDITIONS\nCourse Transfer: With 72-hour advance notice of the event date we will issue a unique re-registration code for course transfers.\nCancellation Refund: Refunds for 50% balance of event fee\, if no transfer is possible\, are issued in the form of store gift cards only but ONLY if we are notified of the cancelation up to 72 hours in advance of the event date.\nNo-Call/No-Show: Participants who do not show to the event without prior 72-hour notice forfeit their total registration fees.\nSame Day Cancelations: Same day cancelations are non-refundable as spots in classes are quick to fill and we will be unable to resell that spot in the event or give an individual on a waitlist adequate time to purchase that spot.
URL:https://howellsgunshop.com/event/2-20-24-ladies-new-shooter-2/
LOCATION:Howell’s Gun Shop\, 81 West Gray Road\, Gray\, ME\, 04039\, United States
CATEGORIES:All Events,Ladies New Shooter,New Shooter Program
ATTACH;FMTTYPE=image/png:https://howellsgunshop.com/wp-content/uploads/2022/11/Howells-HA-2.png
END:VEVENT
BEGIN:VEVENT
DTSTART;TZID=America/New_York:20240227T130000
DTEND;TZID=America/New_York:20240227T160000
DTSTAMP:20260425T063027
CREATED:20231018T191425Z
LAST-MODIFIED:20240218T044742Z
UID:12763-1709038800-1709049600@howellsgunshop.com
SUMMARY:2/27/24 - New Shooter 1 - FIRST SHOTS
DESCRIPTION:Duration Of 3 Hours\nCourse Fee $150\n\nHowell’s New Shooters class provides a hands-on introduction to the safe handling and proper range of use of handguns. This 3-hour class is a significant first step for new shooters looking to become safe and responsible gun owners. This class aims to provide essential gun safety skills\, range etiquette\, terminology\, and basic shooting skills to ensure you have a safe and enjoyable experience at the range. Taught by Howell’s certified and friendly instructor team\, this is the class we wish we had the first time we went shooting! \n\nREQUIRED EQUIPMENT: \n\nHandguns provided for use in class\nAmmunition provided\nEye and ear protection\, available for purchase on-site\nAttire: Long pants\, high collared shirt or t-shirt\, closed-toe shoes\, ball caps recommended.\n*If you would like to bring and shoot your firearm & 50 rounds of factory ball ammo at the end of the program – time permitting.\n\n\nEVENT REGISTRATION TERMS & CONDITIONS\nCourse Transfer: With 72-hour advance notice of the event date\, we will issue a unique re-registration code for course transfers.\nCancellation Refund: Refunds for 50% of the balance of the event fee\, if no transfer is possible\, are issued in-store gift cards only\, but ONLY if we are notified of the cancelation up to 72 hours before the event date.\nNo-Call/No-Show: Participants who do not attend the event without prior 72-hour notice forfeit their total registration fees.\nSame-Day Cancelations: Same-day cancelations are non-refundable as spots in classes are quick to fill\, and we will be unable to resell that spot in the event or give an individual on a waitlist adequate time to purchase that spot.
URL:https://howellsgunshop.com/event/2-27-24-new-shooter/
LOCATION:Howell’s Gun Shop\, 81 West Gray Road\, Gray\, ME\, 04039\, United States
CATEGORIES:All Events,New Shooter,New Shooter Program
ATTACH;FMTTYPE=image/png:https://howellsgunshop.com/wp-content/uploads/2024/02/6224-DefensiveHandgun.png
END:VEVENT
BEGIN:VEVENT
DTSTART;TZID=America/New_York:20240227T173000
DTEND;TZID=America/New_York:20240227T183000
DTSTAMP:20260425T063027
CREATED:20231018T162417Z
LAST-MODIFIED:20231219T142032Z
UID:12742-1709055000-1709058600@howellsgunshop.com
SUMMARY:A Girl & A Gun - Girls Night Out
DESCRIPTION:A GIRL & A GUN  – GIRLS NIGHT OUT\n(Supervised/Coached Practice session)\n\nALL EXPERIENCE LEVELS WELCOME!\nTIME: 5:30pm – 6:30pm \nEVENT FEE: $10 payable in STORE on TEAM APP! \nRANGE FEE: Payable to Howells at check-in. Howell’s Members shoot for FREE. AGAG Members shoot for $15. \nRSVP: ENSURE YOU HAVE A SPOT by signing up on the TEAM APP! \nMEMBERS: REMEMBER TO BRING YOUR SHOOTING JOURNALS! \nNOT A MEMBER? JOIN US! \n\nPrerequisite: None! Come as you are. AG&AG events provide an ideal place to learn for women of all skill levels. \nHOWELL’S GUN SHOP WELCOMES\nA Girl & A Gun Women’s Shooting League!\nA Girl & A Gun Women’s Shooting League (AG & AG) is a shooting club established by women shooters for women shooters. AG & AG events are intended to be fun\, social gatherings where women can come together for support\, encouragement\, ask questions in a safe and nonjudgmental environment\, improve on their marksmanship\, and bond together in the shooting community. \nWhat Makes Us Different? \nAll AG & AG events are supervised by female Certified Firearms Instructors. All facilitators are women who can “speak girl” and provide techniques and tips for female shooters. Our goal is to empower\, educate\, and have fun at the range. AG & AG events have been successful stepping stones for thousands of women. At our events and through articles and information\, we provide: \n\nBasics of safe gun handling\nRange etiquette\nProper grip techniques\nStance for accurate shooting\nTrigger control and follow-through\nSight picture and sight alignment and MUCH MORE!\n\nIt’s More Than Shooting\nWhile our mission is to educate women on safe and accurate shooting\, our organization is about so much more than shooting! It’s about empowerment\, support\, friendships\, fun\, self-reliance\, and so much more. Every day we witness the transformation of women who set out to learn how to shoot and in the process discover a confidence in themselves that improves all areas of their lives. Whether you’re interested in competition\, concealed carry\, home defense\, the safe storage of guns in the home\, or you just want to get out of the house and try something new\, please join us at an upcoming event. \nAs A Member Of The National Club\, You Receive:\n\nOur innovative Shooting Journal specifically for women shooters\nChance to win guns and gear in our quarterly and annually\nMember Appreciation Giveaways\nTONS of discounts and offers from our Vendor Partners\n20% off all AG & AG apparel and hats\nExclusive members-only matches and clinics\nInvitation to attend the AG & AG Conference\nInvitation to attend the regional Girl’s Getaways\nThe Four Rules by Kathy Jackson of The Cornered Cat\nBasic Pistols Skills by Lynn Givens of Rangemaster\nPersonalized AG & AG designer name tag\nAccess to the AG & AG Shooting Journal\nOfficial membership card\nSpecial discounts from our home range\, Howell’s Gun Shop!\n\nHowell’s Members SHOOT FOR FREE\n\n\n\nNOT A MEMBER? JOIN US!
URL:https://howellsgunshop.com/event/a-girl-a-gun-girls-night-out-2/
LOCATION:Howell’s Gun Shop\, 81 West Gray Road\, Gray\, ME\, 04039\, United States
CATEGORIES:A Girl & A Gun,All Events,Ladies Only
ATTACH;FMTTYPE=image/png:https://howellsgunshop.com/wp-content/uploads/2022/11/AGAG_ChapterMeeting_GNO-1-2.png
END:VEVENT
BEGIN:VEVENT
DTSTART;TZID=America/New_York:20240228T130000
DTEND;TZID=America/New_York:20240228T160000
DTSTAMP:20260425T063027
CREATED:20240218T040435Z
LAST-MODIFIED:20240227T211432Z
UID:14719-1709125200-1709136000@howellsgunshop.com
SUMMARY:RESCHEDULED – New Shooter 2 – MARKSMANSHIP
DESCRIPTION:CLASS RESCHEDULED TO 3/26/24\nDuration Of 3 Hours\nCourse Fee $150\n\nThis three-hour workshop focuses on gaining proficiency in pistol marksmanship. Detailed instruction is provided on grip\, stance\, sights\, and trigger control. This course includes target transitions\, working across various pistol distances\, and simple to complex courses of fire. It is a great second class in Howell’s New Shooter Program and an ideal tune-up for returning or developing shooters.\n \n\nREQUIRED EQUIPMENT: \n\nSemiautomatic Handgun (preferably centerfire) *Rentals Available\n2 Magazines\n200 Rounds of Ammunition\nEye and ear protection\nRange Appropriate Attire: Long pants\, high collared shirt or t-shirt\, closed-toe shoes\, ball caps recommended.\n*Please plan to arrive early if you plan to rent from our collection as selection is limited and equipment is rented on a first-come-first-serve basis.\n\n\nEVENT REGISTRATION TERMS & CONDITIONS\nCourse Transfer: With 72-hour advance notice of the event date\, we will issue a unique re-registration code for course transfers.\nCancellation Refund: Refunds for 50% of the balance of the event fee\, if no transfer is possible\, are issued in-store gift cards only\, but ONLY if we are notified of the cancelation up to 72 hours before the event date.\nNo-Call/No-Show: Participants who do not attend the event without prior 72-hour notice forfeit their total registration fees.\nSame-Day Cancelations: Same-day cancelations are non-refundable as spots in classes are quick to fill\, and we will be unable to resell that spot in the event or give an individual on a waitlist adequate time to purchase that spot.
URL:https://howellsgunshop.com/event/2-28-24-new-shooter-2-marksmanship/
LOCATION:Howell’s Gun Shop\, 81 West Gray Road\, Gray\, ME\, 04039\, United States
CATEGORIES:All Events,New Shooter 2 - Marksmanship,New Shooter Program
ATTACH;FMTTYPE=image/png:https://howellsgunshop.com/wp-content/uploads/2024/02/6224-DefensiveHandgun-2.png
END:VEVENT
END:VCALENDAR