BEGIN:VCALENDAR
VERSION:2.0
PRODID:-//Howell&#039;s Gun Shop - ECPv6.15.20//NONSGML v1.0//EN
CALSCALE:GREGORIAN
METHOD:PUBLISH
X-WR-CALNAME:Howell&#039;s Gun Shop
X-ORIGINAL-URL:https://howellsgunshop.com
X-WR-CALDESC:Events for Howell&#039;s Gun Shop
REFRESH-INTERVAL;VALUE=DURATION:PT1H
X-Robots-Tag:noindex
X-PUBLISHED-TTL:PT1H
BEGIN:VTIMEZONE
TZID:America/New_York
BEGIN:DAYLIGHT
TZOFFSETFROM:-0500
TZOFFSETTO:-0400
TZNAME:EDT
DTSTART:20240310T070000
END:DAYLIGHT
BEGIN:STANDARD
TZOFFSETFROM:-0400
TZOFFSETTO:-0500
TZNAME:EST
DTSTART:20241103T060000
END:STANDARD
BEGIN:DAYLIGHT
TZOFFSETFROM:-0500
TZOFFSETTO:-0400
TZNAME:EDT
DTSTART:20250309T070000
END:DAYLIGHT
BEGIN:STANDARD
TZOFFSETFROM:-0400
TZOFFSETTO:-0500
TZNAME:EST
DTSTART:20251102T060000
END:STANDARD
BEGIN:DAYLIGHT
TZOFFSETFROM:-0500
TZOFFSETTO:-0400
TZNAME:EDT
DTSTART:20260308T070000
END:DAYLIGHT
BEGIN:STANDARD
TZOFFSETFROM:-0400
TZOFFSETTO:-0500
TZNAME:EST
DTSTART:20261101T060000
END:STANDARD
END:VTIMEZONE
BEGIN:VEVENT
DTSTART;TZID=America/New_York:20250801T090000
DTEND;TZID=America/New_York:20250801T170000
DTSTAMP:20260424T015514
CREATED:20250412T175532Z
LAST-MODIFIED:20250715T125307Z
UID:17716-1754038800-1754067600@howellsgunshop.com
SUMMARY:CANCELED - Beyond Basics
DESCRIPTION:Whether you’re a newer shooter eager to master holster skills or an experienced shooter seeking a refresher\, this class is perfect for taking your abilities to the next level! You’ll learn safe and efficient holster techniques\, practice shooting while moving\, and get an introduction to low light shooting—all while working from an open range environment. With a focus on transitioning from bench shooting to on-the-move drills and managing extra magazines\, this fun and dynamic course is designed to boost your confidence and skills for competition\, home defense or concealed carry! \n\n\n\n\n\n\nREQUIRED EQUIPMENT \n\nWorking handgun (preferably a centerfire gun)\nMinimum of two (2) magazines\nKydex or rigid leather holster worn outside the waistband (OWB) strong side hip\nMagazine pouch(s)\nSturdy gun belt is required for this class\nAmmunition – 200 rounds\nEye & ear protection\nAttire: Long pants\, high collared shirt or t-shirt\, closed toe shoes\, ball caps recommended\n\n\n\n\n\n\n\n\n\n\n\nEVENT REGISTRATION TERMS & CONDITIONS\nCourse Transfer: With 72-hour advance notice of event date we will issue a unique re-registration code for course transfers.\nCancellation Refund: Refunds for 50% balance of event fee\, if no transfer is possible\, are issued in the form of store gift cards only but ONLY if we are notified of the cancelation up to 72 hours in advance of the event date.\nNo-Call/No-Show: Participants who do not show to the event without prior 72-hour notice forfeit their total registration fees.\nSame Day Cancelations: Same day cancelations are non-refundable as spots in classes are quick to fill and we will be unable to resell that spot in the event or give an individual on a wait list adequate time to purchase that spot.
URL:https://howellsgunshop.com/event/8-1-25-beyond-basics/
LOCATION:Howell’s Gun Shop\, 81 West Gray Road\, Gray\, ME\, 04039\, United States
CATEGORIES:All Events,Beyond Basics
ATTACH;FMTTYPE=image/jpeg:https://howellsgunshop.com/wp-content/uploads/2019/12/Howells_BeyondBasics.jpg
END:VEVENT
BEGIN:VEVENT
DTSTART;TZID=America/New_York:20250805T090000
DTEND;TZID=America/New_York:20250805T120000
DTSTAMP:20260424T015514
CREATED:20250401T173119Z
LAST-MODIFIED:20250401T173216Z
UID:17515-1754384400-1754395200@howellsgunshop.com
SUMMARY:8/5/25 – SABRE Pepper Spray – Civilian Safety Awareness Program
DESCRIPTION:WHY GO HANDS ON WHEN YOU CAN LEARN TO PROTECT YOURSELF AT A SAFE DISTANCE?\nBe Smart – Be Ready – Be Safe. SABRE’s Civilian Safety Awareness Program one-day class can help you learn how identify threatening behaviors and be better prepared to escape dangerous situations safely.\nCSAP STUDENTS WILL BE EDUCATED ON THE FOLLOWING:\n\nHow to discourage dangerous threats\nWays to identify and avoid potentially dangerous situations\nProtection at a safe distance\nHow to use our products effectively and responsibly\nPersonal safety skills for smart living\nINCLUDES – Personal safety starter kit!\n\nAnyone can benefit from taking a CSAP class – whether you’re a runner\, commuter\, student\, someone who travels for work\, retiree\, homemaker – this class is for you!
URL:https://howellsgunshop.com/event/8-5-25-sabre-pepper-spray-civilian-safety-awareness-program/
LOCATION:Howell’s Gun Shop\, 81 West Gray Road\, Gray\, ME\, 04039\, United States
CATEGORIES:All Events,SABRE Pepper Spray,Self Defense
ATTACH;FMTTYPE=image/jpeg:https://howellsgunshop.com/wp-content/uploads/2024/07/police-oc-spray.jpg
END:VEVENT
BEGIN:VEVENT
DTSTART;TZID=America/New_York:20250805T173000
DTEND;TZID=America/New_York:20250805T190000
DTSTAMP:20260424T015514
CREATED:20241023T160301Z
LAST-MODIFIED:20250805T125841Z
UID:18003-1754415000-1754420400@howellsgunshop.com
SUMMARY:CANCELED - A Girl & A Gun - Chapter Clinic - Benched Shooters
DESCRIPTION:A GIRL & A GUN Chapter Training Clinic\nAll skill levels welcome! \n\n(Training activities geared towards Bench Shooters) \nTIME: 5:30pm – 7:00pm \nEVENT FEE: $10 payable in STORE on TEAM APP! \nRANGE FEE: Payable to Howells at check-in. Howell’s Members shoot for FREE. AGAG Members shoot for $15. \nRSVP: ENSURE YOU HAVE A SPOT by signing up on the TEAM APP! \nNOT AN A GIRL & A GUN MEMBER? JOIN US! \n\nPrerequisite: None! Come as you are. AG&AG events provide an ideal place to learn for women of all skill levels. \nHOWELL’S GUN SHOP WELCOMES A Girl & A Gun Women’s Shooting League!\nA Girl & A Gun Women’s Shooting League (AG & AG) is a shooting club established by women shooters for women shooters. AG & AG events are intended to be fun\, social gatherings where women can come together for support\, encouragement\, ask questions in a safe and nonjudgmental environment\, improve on their marksmanship\, and bond together in the shooting community. \nJoin today! When you join A Girl & A Gun Women’s Shooting League\, you receive valuable member perks and benefits. You may also have a caring and qualified Facilitator\, who may provide local training opportunities and fun social activities. If not\, you are cordially invited to all of our national and regional events. When you’re a member of one chapter\, you’re a member of all chapters and part of an international sisterhood. We look forward to seeing you at the range! \nLEARN MORE & JOIN US!
URL:https://howellsgunshop.com/event/a-girl-a-gun-chapter-clinic-benched-shooters-2025-08-05/
LOCATION:Howell’s Gun Shop\, 81 West Gray Road\, Gray\, ME\, 04039\, United States
CATEGORIES:A Girl & A Gun,All Events,Ladies Only,Women Only
ATTACH;FMTTYPE=image/png:https://howellsgunshop.com/wp-content/uploads/2024/10/AGAG-SOME-Chapter-Benched.png
END:VEVENT
BEGIN:VEVENT
DTSTART;TZID=America/New_York:20250806T090000
DTEND;TZID=America/New_York:20250806T120000
DTSTAMP:20260424T015514
CREATED:20250412T162948Z
LAST-MODIFIED:20250412T162948Z
UID:17646-1754470800-1754481600@howellsgunshop.com
SUMMARY:8/6/25 - Ladies Only - New Shooter
DESCRIPTION:A NEW SHOOTER CLASS FOR WOMEN – TAUGHT BY WOMEN!\n\nWelcome to the World of Safe Shooting! \nAre you ready to take your first step toward becoming a confident\, responsible gun owner? Our New Shooters class at Howell’s is designed just for you! We know how intimidating it can feel at first\, but don’t worry—you’ll be guided every step of the way by our friendly and certified instructors. \nIn this hands-on\, 3-hour class\, you’ll learn everything you need to know to safely handle and shoot a semi-automatic handgun. We’ll cover essential safety skills\, range etiquette\, and the basic techniques to ensure you feel comfortable and in control. \nThis course is your chance to gain the knowledge and confidence to enjoy shooting safely\, all in a supportive and welcoming environment. It’s the class we wish we had when we first started! \nJoin us\, and let’s make your first range experience safe\, fun\, and empowering! \nREQUIRED EQUIPMENT: \n\nHandguns provided for use in class\nAmmunition provided\nEye and ear protection\, available for purchase on-site\nAttire: Long pants\, high collared shirt or t-shirt\, closed-toe shoes\, ball caps recommended.\n*If you would like to bring and shoot your firearm & 50 rounds of factory ball ammo at the end of the program – time permitting.\n\n  \nEVENT REGISTRATION TERMS & CONDITIONS\nCourse Transfer: With 72-hour advance notice of the event date\, we will issue a unique re-registration code for course transfers.\nCancellation Refund: Refunds for 50% of the balance of the event fee\, if no transfer is possible\, are issued in-store gift cards only\, but ONLY if we are notified of the cancelation up to 72 hours before the event date.\nNo-Call/No-Show: Participants who do not attend the event without prior 72-hour notice forfeit their total registration fees.\nSame-Day Cancelations: Same-day cancelations are non-refundable as spots in classes are quick to fill\, and we will be unable to resell that spot in the event or give an individual on a waitlist adequate time to purchase that spot.
URL:https://howellsgunshop.com/event/8-6-25-ladies-only-new-shooter/
LOCATION:Howell’s Gun Shop\, 81 West Gray Road\, Gray\, ME\, 04039\, United States
CATEGORIES:All Events,Ladies New Shooter
ATTACH;FMTTYPE=image/png:https://howellsgunshop.com/wp-content/uploads/2022/11/Howells-HA-2.png
END:VEVENT
BEGIN:VEVENT
DTSTART;TZID=America/New_York:20250809T090000
DTEND;TZID=America/New_York:20250809T123000
DTSTAMP:20260424T015514
CREATED:20250401T172641Z
LAST-MODIFIED:20250805T175739Z
UID:17509-1754730000-1754742600@howellsgunshop.com
SUMMARY:CANCELED – Stop the Bleed® & USCCA Treating Gunshot Wounds
DESCRIPTION:COMBO CLASS – Stop The Bleed® & USCCA Treating Gunshot Wounds\nThe number 1 cause of preventable death after injury is bleeding. That’s why we want to train you how to STOP THE BLEED®. This class blends techniques from Stop the Bleed with USCCA treating gunshot wounds. Class will include classroom presentation as well as hands on practice for assessing and treating all types of bleeding including gunshot wounds. \nWhy Learn?\n\nA bleeding injury can happen anywhere. We’ve all seen it happen too often—on the news or in everyday life. Life-threatening bleeding can happen in people injured in serious accidents or disasters. Instead of being a witness\, you can become an immediate responder because you know how to STOP THE BLEED®. \nWhat You’ll Gain from the Course\n\nThe person next to a bleeding victim may very well be the one who’s most likely to save him or her from bleeding to death. By learning how to STOP THE BLEED®\, you’ll gain the ability to recognize life-threatening bleeding and act quickly and effectively to control bleeding once you learn three quick techniques. Take the STOP THE BLEED® training course and become empowered to make a life or death difference when a bleeding emergency happens. \nHow We Teach\n\nOur instructors will teach you live—in person\, using training materials specially developed to teach bleeding control techniques. They will not only instruct you\, they will be available to check your movements as you practice three different bleeding control actions. They will keep working with you until you demonstrate the correct skills to STOP THE BLEED® and save a life.
URL:https://howellsgunshop.com/event/8-9-25-stop-the-bleed-uscca-treating-gunshot-wounds/
LOCATION:Howell’s Gun Shop\, 81 West Gray Road\, Gray\, ME\, 04039\, United States
CATEGORIES:All Events,Medical,Stop the Bleed,USCCA
ATTACH;FMTTYPE=image/jpeg:https://howellsgunshop.com/wp-content/uploads/2023/04/StoptheBleed-1104928253.jpeg
END:VEVENT
BEGIN:VEVENT
DTSTART;TZID=America/New_York:20250813T090000
DTEND;TZID=America/New_York:20250813T120000
DTSTAMP:20260424T015514
CREATED:20250519T210624Z
LAST-MODIFIED:20250519T210624Z
UID:17932-1755075600-1755086400@howellsgunshop.com
SUMMARY:8/13/25 - New Shooter
DESCRIPTION:Welcome to the World of Safe Shooting! \nAre you ready to take your first step toward becoming a confident\, responsible gun owner? Our New Shooters class at Howell’s is designed just for you! We know how intimidating it can feel at first\, but don’t worry—you’ll be guided every step of the way by our friendly and certified instructors. \nIn this hands-on\, 3-hour class\, you’ll learn everything you need to know to safely handle and shoot a semi-automatic handgun. We’ll cover essential safety skills\, range etiquette\, and the basic techniques to ensure you feel comfortable and in control. \nThis course is your chance to gain the knowledge and confidence to enjoy shooting safely\, all in a supportive and welcoming environment. It’s the class we wish we had when we first started! \nJoin us\, and let’s make your first range experience safe\, fun\, and empowering! \nREQUIRED EQUIPMENT: \n\nHandguns provided for use in class\nAmmunition provided\nEye and ear protection\, available for purchase on-site\nAttire: Long pants\, high collared shirt or t-shirt\, closed-toe shoes\, ball caps recommended.\n*If you would like to bring and shoot your firearm & 50 rounds of factory ball ammo at the end of the program – time permitting.\n\n\nEVENT REGISTRATION TERMS & CONDITIONS\nCourse Transfer: With 72-hour advance notice of the event date\, we will issue a unique re-registration code for course transfers.\nCancellation Refund: Refunds for 50% of the balance of the event fee\, if no transfer is possible\, are issued in-store gift cards only\, but ONLY if we are notified of the cancelation up to 72 hours before the event date.\nNo-Call/No-Show: Participants who do not attend the event without prior 72-hour notice forfeit their total registration fees.\nSame-Day Cancelations: Same-day cancelations are non-refundable as spots in classes are quick to fill\, and we will be unable to resell that spot in the event or give an individual on a waitlist adequate time to purchase that spot.
URL:https://howellsgunshop.com/event/8-13-25-new-shooter/
LOCATION:Howell’s Gun Shop\, 81 West Gray Road\, Gray\, ME\, 04039\, United States
CATEGORIES:All Events,New Shooter
ATTACH;FMTTYPE=image/jpeg:https://howellsgunshop.com/wp-content/uploads/2019/12/Howells_NewShooter.jpg
END:VEVENT
BEGIN:VEVENT
DTSTART;TZID=America/New_York:20250819T090000
DTEND;TZID=America/New_York:20250819T120000
DTSTAMP:20260424T015514
CREATED:20250412T163211Z
LAST-MODIFIED:20250412T164107Z
UID:17649-1755594000-1755604800@howellsgunshop.com
SUMMARY:8/19/25 - Ladies Only - New Shooter
DESCRIPTION:A NEW SHOOTER CLASS FOR WOMEN – TAUGHT BY WOMEN!\n\nWelcome to the World of Safe Shooting! \nAre you ready to take your first step toward becoming a confident\, responsible gun owner? Our New Shooters class at Howell’s is designed just for you! We know how intimidating it can feel at first\, but don’t worry—you’ll be guided every step of the way by our friendly and certified instructors. \nIn this hands-on\, 3-hour class\, you’ll learn everything you need to know to safely handle and shoot a semi-automatic handgun. We’ll cover essential safety skills\, range etiquette\, and the basic techniques to ensure you feel comfortable and in control. \nThis course is your chance to gain the knowledge and confidence to enjoy shooting safely\, all in a supportive and welcoming environment. It’s the class we wish we had when we first started! \nJoin us\, and let’s make your first range experience safe\, fun\, and empowering! \nREQUIRED EQUIPMENT: \n\nHandguns provided for use in class\nAmmunition provided\nEye and ear protection\, available for purchase on-site\nAttire: Long pants\, high collared shirt or t-shirt\, closed-toe shoes\, ball caps recommended.\n*If you would like to bring and shoot your firearm & 50 rounds of factory ball ammo at the end of the program – time permitting.\n\n  \nEVENT REGISTRATION TERMS & CONDITIONS\nCourse Transfer: With 72-hour advance notice of the event date\, we will issue a unique re-registration code for course transfers.\nCancellation Refund: Refunds for 50% of the balance of the event fee\, if no transfer is possible\, are issued in-store gift cards only\, but ONLY if we are notified of the cancelation up to 72 hours before the event date.\nNo-Call/No-Show: Participants who do not attend the event without prior 72-hour notice forfeit their total registration fees.\nSame-Day Cancelations: Same-day cancelations are non-refundable as spots in classes are quick to fill\, and we will be unable to resell that spot in the event or give an individual on a waitlist adequate time to purchase that spot.
URL:https://howellsgunshop.com/event/8-19-25-ladies-only-new-shooter/
LOCATION:Howell’s Gun Shop\, 81 West Gray Road\, Gray\, ME\, 04039\, United States
CATEGORIES:All Events,Ladies New Shooter
ATTACH;FMTTYPE=image/png:https://howellsgunshop.com/wp-content/uploads/2022/11/Howells-HA-2.png
END:VEVENT
BEGIN:VEVENT
DTSTART;TZID=America/New_York:20250819T173000
DTEND;TZID=America/New_York:20250819T190000
DTSTAMP:20260424T015514
CREATED:20241023T160826Z
LAST-MODIFIED:20241023T160826Z
UID:18011-1755624600-1755630000@howellsgunshop.com
SUMMARY:A Girl & A Gun - Chapter Clinic - Holstered Shooters
DESCRIPTION:A GIRL & A GUN Chapter Training Clinic\nIntermediate to Experienced members welcome!\n\n(Training activities geared towards experienced Holstered Shooters) \nTIME: 5:30pm – 7:00pm \nEVENT FEE: $10 payable in STORE on TEAM APP! \nRANGE FEE: Payable to Howells at check-in. Howell’s Members shoot for FREE. AGAG Members shoot for $15. \nRSVP: ENSURE YOU HAVE A SPOT by signing up on the TEAM APP! \nNOT AN A GIRL & A GUN MEMBER? JOIN US! \n\nPrerequisite: None! Come as you are. AG&AG events provide an ideal place to learn for women of all skill levels. \nHOWELL’S GUN SHOP WELCOMES A Girl & A Gun Women’s Shooting League!\nA Girl & A Gun Women’s Shooting League (AG & AG) is a shooting club established by women shooters for women shooters. AG & AG events are intended to be fun\, social gatherings where women can come together for support\, encouragement\, ask questions in a safe and nonjudgmental environment\, improve on their marksmanship\, and bond together in the shooting community. \nJoin today! When you join A Girl & A Gun Women’s Shooting League\, you receive valuable member perks and benefits. You may also have a caring and qualified Facilitator\, who may provide local training opportunities and fun social activities. If not\, you are cordially invited to all of our national and regional events. When you’re a member of one chapter\, you’re a member of all chapters and part of an international sisterhood. We look forward to seeing you at the range! \nLEARN MORE & JOIN US!
URL:https://howellsgunshop.com/event/a-girl-a-gun-chapter-clinic-holstered-shooters/2025-08-19/
LOCATION:Howell’s Gun Shop\, 81 West Gray Road\, Gray\, ME\, 04039\, United States
CATEGORIES:A Girl & A Gun,All Events,Ladies Only,Women Only
ATTACH;FMTTYPE=image/png:https://howellsgunshop.com/wp-content/uploads/2024/10/AGAG-SOME-Chapter-Holstered.png
END:VEVENT
BEGIN:VEVENT
DTSTART;TZID=America/New_York:20250820T090000
DTEND;TZID=America/New_York:20250820T120000
DTSTAMP:20260424T015514
CREATED:20250412T172909Z
LAST-MODIFIED:20250412T172909Z
UID:17689-1755680400-1755691200@howellsgunshop.com
SUMMARY:8/20/25 - Maine Concealed Carry
DESCRIPTION:Maine Concealed Carry Permit Course: Your Path to Responsible\, Confident Carry \nReady to take the next step in your firearm journey? Our 3-hour Concealed Carry Permit course is designed for intermediate shooters who are serious about carrying a concealed firearm responsibly in the state of Maine. This class provides all the essential knowledge and a certificate needed for your Maine Concealed Carry Application. \nYou’ll dive deep into key topics\, including: \n\nMaine’s concealed carry laws and legal responsibilities\nSafe storage\, transportation\, and handling of your firearm\nThe right firearm\, ammunition\, and gear for concealed carry\nLegal concepts like the use of force\, castle doctrine\, and stand your ground\nInteracting with law enforcement\nAnd more\, including mindset\, personal responsibility\, and continuing education\n\nThis course goes beyond the basics\, empowering you to carry with confidence and understand the serious responsibilities that come with concealed carry. \nREQUIRED EQUIPMENT \n\nEye & ear protection\nClosed-toe shoes\nHigh collared shirt\nBrimmed ball caps recommended\nNotebook & Pen\nAll firearms and ammunition for the live fire qualification are provided by Howell’s.\n*If you would like to bring your own firearm you are welcome to do so. You are required to bring 10 rounds of factory FMJ ball ammunition\, in your handgun caliber of choice\, to shoot the final live fire qualification.\n\nPASS or CLASS: What You Need to Know \nTo pass this class\, participants must complete the classroom session and demonstrate basic range\, gun handling and shooting safety skills in our live-fire qualification. Those who pass will receive a certificate of completion. If a participant finishes the classroom session but does not meet the safety or basic gun handling requirements\, they will receive a CLASS recommendation instead of a certificate. The certificate will be deferred until the participant completes additional training\, such as a private lesson or New Shooter program\, and successfully retakes the qualification. Once the qualification is passed\, Howells will issue the Maine Concealed Carry certificate. \nWhat to Expect: Participants must already be familiar with operating a semi-automatic handgun or revolver for the qualification test. You’ll demonstrate key skills such as safe loading\, following range commands\, and completing two 5-round courses of fire. Safety is our top priority—proficiency in gun safety and handling is required at all times during the course. \nNot sure you’re ready? We recommend brushing up with a Private Lesson or our New Shooter course to ensure you’re prepared for this next level. \n  \nEVENT REGISTRATION TERMS & CONDITIONS\nCourse Transfer: With 72-hour advance notice of the event date we will issue a unique re-registration code for course transfers.\nCancellation Refund: Refunds for 50% balance of event fee\, if no transfer is possible\, are issued in the form of store gift cards only but ONLY if we are notified of the cancelation up to 72 hours in advance of the event date.\nNo-Call/No-Show: Participants who do not show to the event without prior 72-hour notice forfeit their total registration fees.\nSame Day Cancelations: Same day cancelations are non-refundable as spots in classes are quick to fill and we will be unable to resell that spot in the event or give an individual on a waitlist adequate time to purchase that spot.
URL:https://howellsgunshop.com/event/8-20-25-maine-concealed-carry/
LOCATION:Howell’s Gun Shop\, 81 West Gray Road\, Gray\, ME\, 04039\, United States
CATEGORIES:All Events,Maine Concealed Carry
ATTACH;FMTTYPE=image/png:https://howellsgunshop.com/wp-content/uploads/2022/05/image-5.png
END:VEVENT
BEGIN:VEVENT
DTSTART;TZID=America/New_York:20250829T090000
DTEND;TZID=America/New_York:20250829T170000
DTSTAMP:20260424T015514
CREATED:20250412T181719Z
LAST-MODIFIED:20250715T124647Z
UID:17726-1756458000-1756486800@howellsgunshop.com
SUMMARY:CANCELED - Defensive Handgun
DESCRIPTION:Defensive Handgun with Tatiana Whitlock\nEXPERIENCE LEVEL: Students should have at least taken a basic handgun class within the past year and have a solid grasp of range etiquette and gun handling\, holster and safety skills.\nDURATION: 8-Hours\nCOURSE FEE: $250\nRANGE FEE: $35 (Howell’s Members do not pay range fee) \nCLICK HERE TO ENROLL!\nGet ready for a fast-paced\, dynamic 8-hour Defensive Handgun course that will push your skills to the next level! Designed for intermediate shooters\, this class combines movement\, shooting\, and real-world problem-solving to develop confident and well-rounded defenders. You’ll master essentials like non-standard shooting positions (think “Yoga with Guns!”)\, critical movement\, engaging from seated positions\, and partner drills—all while learning how to manage deadly force encounters. With a focus on practical drills and realistic scenarios\, this course will prepare you for high-pressure situations\, and if you want to train from concealment\, you’re welcome to do so! \n\n\n\n\nEQUIPMENT \n\n\n\n\n\nWorking handgun (preferably a centerfire gun)\n250 rounds of factory ammunition\nMinimum of two (2) magazines\, 3 magazines are recommended\nEye & ear protection\nOWB Holster (Outside the Waistband). For safety reasons bra holsters\, soft side collapsible holsters\, cross draw\, Serpa-style push-button\, ankle\, off-body\, and behind-the-back holsters are NOT allowed during the live-fire portion of course. Contact with questions.\nMagazine pouch(s)\nSturdy gun belt\nKneepads suggested but not required\nMed Kit (If you do not yet own one please consider investing!)\nPlease pack your lunch\, adequate snacks and hydration (both water AND electrolytes).\n\nATTIRE: Range appropriate attire: long pants\, closed-toe shoes\, high collared shirt. Brimmed ball caps recommended but not required. \n\n\n\n\nREGISTRATION POLICIES & TERMS\nThis is a HOSTED CLASS. \nNO VIDEO POLICY! To protect the privacy and learning experience of your fellow students we have adopted a strict NO VIDEO policy during class.\nBy completing enrollment in this event you confirm that you have read and agree to Terms of Sale & Event Policies.
URL:https://howellsgunshop.com/event/8-29-25-defensive-handgun/
LOCATION:Howell’s Gun Shop\, 81 West Gray Road\, Gray\, ME\, 04039\, United States
CATEGORIES:All Events,Defensive Handgun
ATTACH;FMTTYPE=image/jpeg:https://howellsgunshop.com/wp-content/uploads/2019/12/Howells_DefensiveHandgun.jpg
END:VEVENT
END:VCALENDAR