BEGIN:VCALENDAR
VERSION:2.0
PRODID:-//Howell&#039;s Gun Shop - ECPv6.15.20//NONSGML v1.0//EN
CALSCALE:GREGORIAN
METHOD:PUBLISH
X-ORIGINAL-URL:https://howellsgunshop.com
X-WR-CALDESC:Events for Howell&#039;s Gun Shop
REFRESH-INTERVAL;VALUE=DURATION:PT1H
X-Robots-Tag:noindex
X-PUBLISHED-TTL:PT1H
BEGIN:VTIMEZONE
TZID:America/New_York
BEGIN:DAYLIGHT
TZOFFSETFROM:-0500
TZOFFSETTO:-0400
TZNAME:EDT
DTSTART:20250309T070000
END:DAYLIGHT
BEGIN:STANDARD
TZOFFSETFROM:-0400
TZOFFSETTO:-0500
TZNAME:EST
DTSTART:20251102T060000
END:STANDARD
BEGIN:DAYLIGHT
TZOFFSETFROM:-0500
TZOFFSETTO:-0400
TZNAME:EDT
DTSTART:20260308T070000
END:DAYLIGHT
BEGIN:STANDARD
TZOFFSETFROM:-0400
TZOFFSETTO:-0500
TZNAME:EST
DTSTART:20261101T060000
END:STANDARD
BEGIN:DAYLIGHT
TZOFFSETFROM:-0500
TZOFFSETTO:-0400
TZNAME:EDT
DTSTART:20270314T070000
END:DAYLIGHT
BEGIN:STANDARD
TZOFFSETFROM:-0400
TZOFFSETTO:-0500
TZNAME:EST
DTSTART:20271107T060000
END:STANDARD
END:VTIMEZONE
BEGIN:VEVENT
DTSTART;TZID=America/New_York:20260806T140000
DTEND;TZID=America/New_York:20260806T173000
DTSTAMP:20260423T191525
CREATED:20251208T174821Z
LAST-MODIFIED:20260106T173503Z
UID:19429-1786024800-1786037400@howellsgunshop.com
SUMMARY:Howell's Gunslinger Match - 2026
DESCRIPTION:Howell’s Gun Shop is pleased to present the Howell’s Gunslinger Match!  \nHowell’s pistol match is designed to be safe\, fun and challenging! Stages change weekly and can include: safe movement with barricades\, strong and support hand shooting\, steel plates\, low light\, moving targets\, bowling pin shoots\, accuracy exercises\, speed exercises and more! Put your skills to the test! \nHowell’s Gunslinger Match is open to the not-so-beginner shooter who can safely handle and shoot their handgun. While we don’t recommend this event as your very first shooting experience we do encourage shooters of all skill levels to come and experience this friendly competition. \nFEE: $15\nEVENTS HELD TWICE MONTHLY! Thursdays\, 2:00pm – 5:30pm \n\nWalk-ins welcome! This is NOT a pre-registration event. Roster of shooters is based on a first come first serve basis.\nOur matches are designed to take roughly 5-10 minutes for each shooter. Each participant shoots the match twice in a row\, their top score out of the two is entered into the competitor pool.\n\nEQUIPMENT: \n\nEye & Hearing Protection\nRange appropriate attire\nCenterfire pistol\n50 Rounds of factory FMJ ball ammo\nMinimum of 3 magazines (To save time for shooting arrive with 3 mags preloaded with 8 rounds each.)\nGun belt\, Mag Pouches\, Strong side outside the waistband (OWB) holster. (For safety reasons bra holsters\, soft side collapsible holsters\, cross draw\, serpa\, ankle\, off body and behind-the-back posters are NOT allowed during live-fire portion of course. Contact us with questions.)\nA good attitude!\n\nSAFETY:  \n\nAll participants must sign in on the group event waiver.\nProfessional behavior is expected at all times.\nWe run a COLD range. This means – all guns are unloaded and cased until it is your designated time to load and make ready per the RSO’s direction.\nSafety rules and stage protocol will be briefed prior to the match and strictly enforced.\nAll shooting is conducted under the supervision of Howell’s certified Range Safety Officers and staff.\n\nRULES & ETIQUETTE: \n\nOrder of waiver sign in represents order of shooters.\nEach shooter will shoot match twice per event.\nParticipants are expected to help tape or reset targets between shooters.\nThere is NO filming of other shooters without their expressed permission.\n\nSCORING: \n\nHowell’s prefers to keep our scoring simple: Any shot that breaks the line is considered a hit and scored according to the target in use.\nHowell’s RSO in charge has the final say on the scoring.\nTie breakers are a very real possibility and a bullseye shoot off will determine the winner.\nAll scores will be logged.
URL:https://howellsgunshop.com/event/howells-gunslinger-match-2026/2026-08-06/
LOCATION:Howell’s Gun Shop\, 81 West Gray Road\, Gray\, ME\, 04039\, United States
CATEGORIES:All Events,Gunslinger
ATTACH;FMTTYPE=image/png:https://howellsgunshop.com/wp-content/uploads/2025/12/GUNSLINGER.png
END:VEVENT
BEGIN:VEVENT
DTSTART;TZID=America/New_York:20260811T173000
DTEND;TZID=America/New_York:20260811T190000
DTSTAMP:20260423T191525
CREATED:20241023T160301Z
LAST-MODIFIED:20251106T210711Z
UID:18738-1786469400-1786474800@howellsgunshop.com
SUMMARY:A Girl & A Gun - Chapter Clinic
DESCRIPTION:A GIRL & A GUN Chapter Training Clinic – All skill levels welcome! \nTIME: 5:30pm – 7:00pm \nEVENT FEE: $10 payable in STORE on TEAM APP! \nRANGE FEE: Payable to Howells at check-in. Howell’s Members shoot for FREE. AGAG Members shoot for $15. \nRSVP: ENSURE YOU HAVE A SPOT by signing up on the TEAM APP! \nNOT AN A GIRL & A GUN MEMBER? JOIN US! \n\nPrerequisite: None! Come as you are. AG&AG events provide an ideal place to learn for women of all skill levels. \nHOWELL’S GUN SHOP WELCOMES A Girl & A Gun Women’s Shooting League!\nA Girl & A Gun Women’s Shooting League (AG & AG) is a shooting club established by women shooters for women shooters. AG & AG events are intended to be fun\, social gatherings where women can come together for support\, encouragement\, ask questions in a safe and nonjudgmental environment\, improve on their marksmanship\, and bond together in the shooting community. \nJoin today! When you join A Girl & A Gun Women’s Shooting League\, you receive valuable member perks and benefits. You may also have a caring and qualified Facilitator\, who may provide local training opportunities and fun social activities. If not\, you are cordially invited to all of our national and regional events. When you’re a member of one chapter\, you’re a member of all chapters and part of an international sisterhood. We look forward to seeing you at the range! \nLEARN MORE & JOIN US!
URL:https://howellsgunshop.com/event/a-girl-a-gun-chapter-clinic/2026-08-11/
LOCATION:Howell’s Gun Shop\, 81 West Gray Road\, Gray\, ME\, 04039\, United States
CATEGORIES:A Girl & A Gun,All Events,Ladies Only,Women Only
ATTACH;FMTTYPE=image/jpeg:https://howellsgunshop.com/wp-content/uploads/2019/12/Howells_AGAG.jpg
END:VEVENT
BEGIN:VEVENT
DTSTART;TZID=America/New_York:20260815T090000
DTEND;TZID=America/New_York:20260815T123000
DTSTAMP:20260423T191525
CREATED:20260421T182404Z
LAST-MODIFIED:20260421T182404Z
UID:20303-1786784400-1786797000@howellsgunshop.com
SUMMARY:8/15/26 - Utah Non-Resident Multi-State Concealed Carry Permit Course
DESCRIPTION:Utah Non-Resident Multi-State Concealed Carry Permit Course \nExpand your concealed carry options with the Utah Non-Resident Multi-State Carry Permit! While Maine offers constitutional carry\, this permit provides legal coverage in additional states where Maine’s reciprocity does not apply\, ensuring you stay legally armed in more locations. Even in states that allow permitless carry\, having a recognized permit can offer legal advantages\, such as streamlined interactions with law enforcement and access to restricted locations. This course covers essential firearms safety\, legal considerations\, and the responsibilities of carrying across state lines. Stay informed\, stay prepared\, and maximize your concealed carry flexibility with this valuable permit. \nThe permit requires a four to five hour class including firearm safety\, fundamentals of shooting as well Utah and federal law considerations. A shooting qualification will also be held on our range.\n\nRequired equipment:\n\nEye and ear protection\, handgun and 10 rounds of ammunition.\n\nPre-requisites:\n\nUtah requires students to hold a valid Maine Concealed Carry permit prior to applying for the Utah permit.\nStudents must download and complete the Utah Concealed Carry permit application. https://bci.utah.gov forms. We will review the applications and transfer the information to the official application in class.\nIn addition students are strongly encouraged to download and print the Utah Minimum Training Curriculum also located at https://bci.utah.gov\n\nStudents will leave with an official completion application which must be used within one year of completion of course.  It will be the responsibility of the student to complete additional application requirements including photos\, fingerprints and fees required by the state of Utah (currently $62 for a 5 year permit).\n\n\nPASS or CLASS: What You Need to Know \nTo pass this class\, participants must complete the classroom session and demonstrate basic range\, gun handling and shooting safety skills in our live-fire qualification. Those who pass will receive a certificate of completion. If a participant finishes the classroom session but does not meet the safety or basic gun handling requirements\, they will receive a CLASS recommendation instead of a certificate. The certificate will be deferred until the participant completes additional training\, such as a private lesson or New Shooter program\, and successfully retakes the qualification. Once the qualification is passed\, Howells will issue the complete the nessisary application documents. \nWhat to Expect: Participants must already be familiar with operating a semi-automatic handgun or revolver for the qualification test. You’ll demonstrate key skills such as safe loading\, following range commands\, and completing two 5-round courses of fire. Safety is our top priority\, proficiency in gun safety and handling is required at all times during the course. \nNot sure you’re ready? We recommend brushing up with a Private Lesson or our New Shooter course to ensure you’re prepared for this next level. \n\n\nStudents will leave with an official completion application which must be used within one year of completion of course.  It will be the responsibility of the student to complete additional application requirements including photos\, fingerprints and fees required by the state of Utah (currently $62 for a 5 year permit).\n  \nEVENT REGISTRATION TERMS & CONDITIONS\nCourse Transfer: With 72-hour advance notice of the event date we will issue a unique re-registration code for course transfers.\nCancellation Refund: Refunds for 50% balance of event fee\, if no transfer is possible\, are issued in the form of store gift cards only but ONLY if we are notified of the cancelation up to 72 hours in advance of the event date.\nNo-Call/No-Show: Participants who do not show to the event without prior 72-hour notice forfeit their total registration fees.\nSame Day Cancelations: Same day cancelations are non-refundable as spots in classes are quick to fill and we will be unable to resell that spot in the event or give an individual on a waitlist adequate time to purchase that spot.
URL:https://howellsgunshop.com/event/8-15-26-utah-non-resident-multi-state-concealed-carry-permit-course/
LOCATION:Howell’s Gun Shop\, 81 West Gray Road\, Gray\, ME\, 04039\, United States
CATEGORIES:All Events,Utah Carry Permit
ATTACH;FMTTYPE=image/png:https://howellsgunshop.com/wp-content/uploads/2025/01/Untitled.png
END:VEVENT
BEGIN:VEVENT
DTSTART;TZID=America/New_York:20260815T133000
DTEND;TZID=America/New_York:20260815T163000
DTSTAMP:20260423T191525
CREATED:20260421T183336Z
LAST-MODIFIED:20260422T162236Z
UID:20314-1786800600-1786811400@howellsgunshop.com
SUMMARY:8/15/26 - USCCA Violent Encounters and The Aftermath
DESCRIPTION:USCCA Violent Encounters and The Aftermath\nStep into the reality of a high-stress defensive encounter before you ever have to face one. \nIn this focused 3-hour classroom session\, you will gain a clear understanding of what truly happens to your body and mind during a life-threatening situation. From the surge of adrenaline to the fight-or-flight response\, this course prepares you for the moments most people never train for but should. \nWe will break down the legal boundaries of using deadly force in clear and practical terms so you understand where the line is and how to stay within it. You will also learn what to do in the critical minutes after an incident\, including how to safely and effectively interact with responding law enforcement. \nThis course is not just about information. It is about building confidence. You will leave with a stronger awareness of your body’s natural stress responses\, a clear understanding of your responsibilities\, and a practical plan for handling the aftermath of a defensive encounter. \nTrain your mindset. Prepare for reality. Walk in informed and walk out empowered. \nEVENT REGISTRATION TERMS & CONDITIONS\nCourse Transfer: With 72-hour advance notice of the event date we will issue a unique re-registration code for course transfers.\nCancellation Refund: Refunds for 50% balance of event fee\, if no transfer is possible\, are issued in the form of store gift cards only but ONLY if we are notified of the cancelation up to 72 hours in advance of the event date.\nNo-Call/No-Show: Participants who do not show to the event without prior 72-hour notice forfeit their total registration fees.\nSame Day Cancelations: Same day cancelations are non-refundable as spots in classes are quick to fill and we will be unable to resell that spot in the event or give an individual on a waitlist adequate time to purchase that spot.
URL:https://howellsgunshop.com/event/8-15-26-uscca-violent-encounters-and-the-aftermath/
LOCATION:Howell’s Gun Shop\, 81 West Gray Road\, Gray\, ME\, 04039\, United States
CATEGORIES:All Events,USCCA Voilent Encounters
ATTACH;FMTTYPE=image/png:https://howellsgunshop.com/wp-content/uploads/2026/04/Howells-USCCAViolentEncounters.png
END:VEVENT
BEGIN:VEVENT
DTSTART;TZID=America/New_York:20260820T140000
DTEND;TZID=America/New_York:20260820T173000
DTSTAMP:20260423T191525
CREATED:20251208T174821Z
LAST-MODIFIED:20260106T173503Z
UID:19430-1787234400-1787247000@howellsgunshop.com
SUMMARY:Howell's Gunslinger Match - 2026
DESCRIPTION:Howell’s Gun Shop is pleased to present the Howell’s Gunslinger Match!  \nHowell’s pistol match is designed to be safe\, fun and challenging! Stages change weekly and can include: safe movement with barricades\, strong and support hand shooting\, steel plates\, low light\, moving targets\, bowling pin shoots\, accuracy exercises\, speed exercises and more! Put your skills to the test! \nHowell’s Gunslinger Match is open to the not-so-beginner shooter who can safely handle and shoot their handgun. While we don’t recommend this event as your very first shooting experience we do encourage shooters of all skill levels to come and experience this friendly competition. \nFEE: $15\nEVENTS HELD TWICE MONTHLY! Thursdays\, 2:00pm – 5:30pm \n\nWalk-ins welcome! This is NOT a pre-registration event. Roster of shooters is based on a first come first serve basis.\nOur matches are designed to take roughly 5-10 minutes for each shooter. Each participant shoots the match twice in a row\, their top score out of the two is entered into the competitor pool.\n\nEQUIPMENT: \n\nEye & Hearing Protection\nRange appropriate attire\nCenterfire pistol\n50 Rounds of factory FMJ ball ammo\nMinimum of 3 magazines (To save time for shooting arrive with 3 mags preloaded with 8 rounds each.)\nGun belt\, Mag Pouches\, Strong side outside the waistband (OWB) holster. (For safety reasons bra holsters\, soft side collapsible holsters\, cross draw\, serpa\, ankle\, off body and behind-the-back posters are NOT allowed during live-fire portion of course. Contact us with questions.)\nA good attitude!\n\nSAFETY:  \n\nAll participants must sign in on the group event waiver.\nProfessional behavior is expected at all times.\nWe run a COLD range. This means – all guns are unloaded and cased until it is your designated time to load and make ready per the RSO’s direction.\nSafety rules and stage protocol will be briefed prior to the match and strictly enforced.\nAll shooting is conducted under the supervision of Howell’s certified Range Safety Officers and staff.\n\nRULES & ETIQUETTE: \n\nOrder of waiver sign in represents order of shooters.\nEach shooter will shoot match twice per event.\nParticipants are expected to help tape or reset targets between shooters.\nThere is NO filming of other shooters without their expressed permission.\n\nSCORING: \n\nHowell’s prefers to keep our scoring simple: Any shot that breaks the line is considered a hit and scored according to the target in use.\nHowell’s RSO in charge has the final say on the scoring.\nTie breakers are a very real possibility and a bullseye shoot off will determine the winner.\nAll scores will be logged.
URL:https://howellsgunshop.com/event/howells-gunslinger-match-2026/2026-08-20/
LOCATION:Howell’s Gun Shop\, 81 West Gray Road\, Gray\, ME\, 04039\, United States
CATEGORIES:All Events,Gunslinger
ATTACH;FMTTYPE=image/png:https://howellsgunshop.com/wp-content/uploads/2025/12/GUNSLINGER.png
END:VEVENT
BEGIN:VEVENT
DTSTART;TZID=America/New_York:20260825T173000
DTEND;TZID=America/New_York:20260825T190000
DTSTAMP:20260423T191525
CREATED:20241023T160301Z
LAST-MODIFIED:20251106T210711Z
UID:18739-1787679000-1787684400@howellsgunshop.com
SUMMARY:A Girl & A Gun - Chapter Clinic
DESCRIPTION:A GIRL & A GUN Chapter Training Clinic – All skill levels welcome! \nTIME: 5:30pm – 7:00pm \nEVENT FEE: $10 payable in STORE on TEAM APP! \nRANGE FEE: Payable to Howells at check-in. Howell’s Members shoot for FREE. AGAG Members shoot for $15. \nRSVP: ENSURE YOU HAVE A SPOT by signing up on the TEAM APP! \nNOT AN A GIRL & A GUN MEMBER? JOIN US! \n\nPrerequisite: None! Come as you are. AG&AG events provide an ideal place to learn for women of all skill levels. \nHOWELL’S GUN SHOP WELCOMES A Girl & A Gun Women’s Shooting League!\nA Girl & A Gun Women’s Shooting League (AG & AG) is a shooting club established by women shooters for women shooters. AG & AG events are intended to be fun\, social gatherings where women can come together for support\, encouragement\, ask questions in a safe and nonjudgmental environment\, improve on their marksmanship\, and bond together in the shooting community. \nJoin today! When you join A Girl & A Gun Women’s Shooting League\, you receive valuable member perks and benefits. You may also have a caring and qualified Facilitator\, who may provide local training opportunities and fun social activities. If not\, you are cordially invited to all of our national and regional events. When you’re a member of one chapter\, you’re a member of all chapters and part of an international sisterhood. We look forward to seeing you at the range! \nLEARN MORE & JOIN US!
URL:https://howellsgunshop.com/event/a-girl-a-gun-chapter-clinic/2026-08-25/
LOCATION:Howell’s Gun Shop\, 81 West Gray Road\, Gray\, ME\, 04039\, United States
CATEGORIES:A Girl & A Gun,All Events,Ladies Only,Women Only
ATTACH;FMTTYPE=image/jpeg:https://howellsgunshop.com/wp-content/uploads/2019/12/Howells_AGAG.jpg
END:VEVENT
END:VCALENDAR