BEGIN:VCALENDAR
VERSION:2.0
PRODID:-//Howell&#039;s Gun Shop - ECPv6.15.20//NONSGML v1.0//EN
CALSCALE:GREGORIAN
METHOD:PUBLISH
X-ORIGINAL-URL:https://howellsgunshop.com
X-WR-CALDESC:Events for Howell&#039;s Gun Shop
REFRESH-INTERVAL;VALUE=DURATION:PT1H
X-Robots-Tag:noindex
X-PUBLISHED-TTL:PT1H
BEGIN:VTIMEZONE
TZID:America/New_York
BEGIN:DAYLIGHT
TZOFFSETFROM:-0500
TZOFFSETTO:-0400
TZNAME:EDT
DTSTART:20250309T070000
END:DAYLIGHT
BEGIN:STANDARD
TZOFFSETFROM:-0400
TZOFFSETTO:-0500
TZNAME:EST
DTSTART:20251102T060000
END:STANDARD
BEGIN:DAYLIGHT
TZOFFSETFROM:-0500
TZOFFSETTO:-0400
TZNAME:EDT
DTSTART:20260308T070000
END:DAYLIGHT
BEGIN:STANDARD
TZOFFSETFROM:-0400
TZOFFSETTO:-0500
TZNAME:EST
DTSTART:20261101T060000
END:STANDARD
BEGIN:DAYLIGHT
TZOFFSETFROM:-0500
TZOFFSETTO:-0400
TZNAME:EDT
DTSTART:20270314T070000
END:DAYLIGHT
BEGIN:STANDARD
TZOFFSETFROM:-0400
TZOFFSETTO:-0500
TZNAME:EST
DTSTART:20271107T060000
END:STANDARD
END:VTIMEZONE
BEGIN:VEVENT
DTSTART;TZID=America/New_York:20260815T133000
DTEND;TZID=America/New_York:20260815T163000
DTSTAMP:20260423T174004
CREATED:20260421T183336Z
LAST-MODIFIED:20260422T162236Z
UID:20314-1786800600-1786811400@howellsgunshop.com
SUMMARY:8/15/26 - USCCA Violent Encounters and The Aftermath
DESCRIPTION:USCCA Violent Encounters and The Aftermath\nStep into the reality of a high-stress defensive encounter before you ever have to face one. \nIn this focused 3-hour classroom session\, you will gain a clear understanding of what truly happens to your body and mind during a life-threatening situation. From the surge of adrenaline to the fight-or-flight response\, this course prepares you for the moments most people never train for but should. \nWe will break down the legal boundaries of using deadly force in clear and practical terms so you understand where the line is and how to stay within it. You will also learn what to do in the critical minutes after an incident\, including how to safely and effectively interact with responding law enforcement. \nThis course is not just about information. It is about building confidence. You will leave with a stronger awareness of your body’s natural stress responses\, a clear understanding of your responsibilities\, and a practical plan for handling the aftermath of a defensive encounter. \nTrain your mindset. Prepare for reality. Walk in informed and walk out empowered. \nEVENT REGISTRATION TERMS & CONDITIONS\nCourse Transfer: With 72-hour advance notice of the event date we will issue a unique re-registration code for course transfers.\nCancellation Refund: Refunds for 50% balance of event fee\, if no transfer is possible\, are issued in the form of store gift cards only but ONLY if we are notified of the cancelation up to 72 hours in advance of the event date.\nNo-Call/No-Show: Participants who do not show to the event without prior 72-hour notice forfeit their total registration fees.\nSame Day Cancelations: Same day cancelations are non-refundable as spots in classes are quick to fill and we will be unable to resell that spot in the event or give an individual on a waitlist adequate time to purchase that spot.
URL:https://howellsgunshop.com/event/8-15-26-uscca-violent-encounters-and-the-aftermath/
LOCATION:Howell’s Gun Shop\, 81 West Gray Road\, Gray\, ME\, 04039\, United States
CATEGORIES:All Events,USCCA Voilent Encounters
ATTACH;FMTTYPE=image/png:https://howellsgunshop.com/wp-content/uploads/2026/04/Howells-USCCAViolentEncounters.png
END:VEVENT
END:VCALENDAR