BEGIN:VCALENDAR
VERSION:2.0
PRODID:-//Howell&#039;s Gun Shop - ECPv6.15.20//NONSGML v1.0//EN
CALSCALE:GREGORIAN
METHOD:PUBLISH
X-ORIGINAL-URL:https://howellsgunshop.com
X-WR-CALDESC:Events for Howell&#039;s Gun Shop
REFRESH-INTERVAL;VALUE=DURATION:PT1H
X-Robots-Tag:noindex
X-PUBLISHED-TTL:PT1H
BEGIN:VTIMEZONE
TZID:America/New_York
BEGIN:DAYLIGHT
TZOFFSETFROM:-0500
TZOFFSETTO:-0400
TZNAME:EDT
DTSTART:20220313T070000
END:DAYLIGHT
BEGIN:STANDARD
TZOFFSETFROM:-0400
TZOFFSETTO:-0500
TZNAME:EST
DTSTART:20221106T060000
END:STANDARD
BEGIN:DAYLIGHT
TZOFFSETFROM:-0500
TZOFFSETTO:-0400
TZNAME:EDT
DTSTART:20230312T070000
END:DAYLIGHT
BEGIN:STANDARD
TZOFFSETFROM:-0400
TZOFFSETTO:-0500
TZNAME:EST
DTSTART:20231105T060000
END:STANDARD
BEGIN:DAYLIGHT
TZOFFSETFROM:-0500
TZOFFSETTO:-0400
TZNAME:EDT
DTSTART:20240310T070000
END:DAYLIGHT
BEGIN:STANDARD
TZOFFSETFROM:-0400
TZOFFSETTO:-0500
TZNAME:EST
DTSTART:20241103T060000
END:STANDARD
END:VTIMEZONE
BEGIN:VEVENT
DTSTART;TZID=America/New_York:20231008T090000
DTEND;TZID=America/New_York:20231008T170000
DTSTAMP:20260424T035322
CREATED:20220908T165004Z
LAST-MODIFIED:20230925T135833Z
UID:9848-1696755600-1696784400@howellsgunshop.com
SUMMARY:CANCELED - AEDC: Interactive Concepts with APACHE SOLUTIONS
DESCRIPTION:Howell’s is pleased to host Apache Solutions for this one-day course! \nAEDC: Interactive Concepts\nDuration: 8 hours\nDate: October 8th\, 9am – 5pm\nCourse Fee: $250 + range fees ($25 range fee due to Howell’s upon check-in for all non-Howell’s members)\nAmmunition Requirement: 300 Rounds\nPrerequisites: See below\nLocation: Howell’s Gun Shop \nREGISTER NOW – CLICK HERE!\nWe can measure our skill sets with a timer for speed and a bullseye for accuracy or precision\, however\, there is another measurement that is needed. That is the measurement of your ability to take appropriate levels of action during a conflict. This class helps to give the student a more contextual application for the skill sets that they have already anchored. \nInteractive Concepts will challenge the students with managing realistic confrontation\, escalation of force and different tools for different jobs. If you are interested in finding out how you would react in combative environments\, this is the class for you! \n\nSubjects discussed and exercises: \n● Technical Skills \n● Individual Capabilities and Limitations \n● Mass crowds \n● Escalation of force \n● Force on Force exercises \n● Less lethal considerations \n● Lawful use of deadly force \n● Metrics & Standards \n● Challenge Drill \n*All force on force gear will be provided to the class. \nPre-requisites: \nStudents must have safe gun handling skills\, comfortable drawing from the holster\, and have a good handle on the foundational aspects of shooting. \n  \nWhat to bring: \n• 300 rounds min \n• Semi auto handgun (EDC Setup). \n• Quality Concealed Holster(no nylon or Velcro and no serpas)\, \n• Minimum of 3 spare magazines (spare magazine holster optional but it will come in handy) \n• Eye protection and ear protection. \n• Note taking gear. \n• A camping chair would be a good idea. \n• Dress for the appropriate weather conditions. \n***ALL TICKETS ARE NON-REFUNDABLE*** \n  \nABOUT Chief Instructor – Tim Kelly\nTim Kelly is the owner of Apache Solutions Firearms Training in Yadkinville\, NC. Tim started Apache in 2017 with the intention of creating a stronger and more competent armed society. He recognized the need for safe and effective firearms training in his community and structured his business accordingly. In 2021\, Apache taught over 900 private sessions and 1100 students in classes throughout the year. A dedicated husband and father\, Tim has a strong desire to lead and help others achieve their goals. \nMajor accomplishments: \n\nOEF Combat Veteran\, United States Marine Corps (2005-2013)\nAssociates Degree in Mechanical Engineering (2016)\nGSSF Master Shooter (2018)\nNRA Training Counselor (2019)\nTop Shooter\, Handgun Combatives Certified Instructor\, 1/21 in the nation (2019\, 2020)\nRangemaster Certified Master Firearms Instructor (2022)\n\nREGISTER NOW – CLICK HERE!\n  \n  \nLEARN MORE ABOUT APACHE SOLUTIONS\n                 
URL:https://howellsgunshop.com/event/aedc-interactive-concepts-with-apache-solutions/
LOCATION:Howell’s Gun Shop\, 81 West Gray Road\, Gray\, ME\, 04039\, United States
CATEGORIES:All Events,FEATURED INSTRUCTORS
ATTACH;FMTTYPE=image/jpeg:https://howellsgunshop.com/wp-content/uploads/2022/09/https-cdn.evbuc_.com-images-313356039-320839439225-1-original.20220705-140957.jpeg
END:VEVENT
BEGIN:VEVENT
DTSTART;TZID=America/New_York:20231007T090000
DTEND;TZID=America/New_York:20231007T170000
DTSTAMP:20260424T035322
CREATED:20220908T164626Z
LAST-MODIFIED:20230925T135548Z
UID:9845-1696669200-1696698000@howellsgunshop.com
SUMMARY:CANCELED - AEDC: Skill Acquisition with APACHE SOLUTIONS
DESCRIPTION:Howell’s is pleased to host Apache Solutions for this one-day course! \nAEDC: Skill Acquisition\nDuration: 8 hours\nDate: October 7th\, 9am – 5pm\nCourse Fee: $250 + range fees ($25 range fee due to Howell’s upon check-in for all non-Howell’s members)\nAmmunition Requirement: 300 Rounds\nPrerequisites: See below\nLocation: Howell’s Gun Shop \nREGISTER NOW – CLICK HERE!\nI have often heard the question\, “How good do I need to be?” The question you should ask yourself is\, “How good do I want to be?” Without practical metrics\, how does one measure their raw performance? Largely based around the concepts of our 2 day AEDC course\, this class helps to give the students a reasonable standard to work toward before blending their skills in more complex exercises. A fast-paced\, skill-centric class combined with movement and rapid decision making\, Skill Acquisition makes for a great opportunity for serious armed citizens to see where their shooting performance measures up in a defensive context! \nSubjects discussed and exercises: \n● Recoil management \n● Critical Movement \n● Target discrimination \n● Technical Skills \n● Individual Capabilities and Limitations \n● Metrics & Standards \n● Strong hand and Support hand only shooting \n● Challenge Drill \n  \nPre-requisites: \nStudents must have safe gun handling skills\, comfortable drawing from the holster\, and have a good handle on the foundational aspects of shooting. \nWhat to bring: \n• 300 rounds min \n• Semi auto handgun (EDC Setup). \n• 10 inert dummy rounds. \n• Quality Concealed Holster(no nylon or Velcro and no serpas)\, \n• Minimum of 3 spare magazines (spare magazine holster optional but it will come in handy) \n• Eye protection and ear protection. \n• Note taking gear. \n• A camping chair would be a good idea. \n• Dress for the appropriate weather conditions. \n***ALL TICKETS ARE NON-REFUNDABLE*** \n  \nABOUT Chief Instructor – Tim Kelly\nTim Kelly is the owner of Apache Solutions Firearms Training in Yadkinville\, NC. Tim started Apache in 2017 with the intention of creating a stronger and more competent armed society. He recognized the need for safe and effective firearms training in his community and structured his business accordingly. In 2021\, Apache taught over 900 private sessions and 1100 students in classes throughout the year. A dedicated husband and father\, Tim has a strong desire to lead and help others achieve their goals. \nMajor accomplishments: \n\nOEF Combat Veteran\, United States Marine Corps (2005-2013)\nAssociates Degree in Mechanical Engineering (2016)\nGSSF Master Shooter (2018)\nNRA Training Counselor (2019)\nTop Shooter\, Handgun Combatives Certified Instructor\, 1/21 in the nation (2019\, 2020)\nRangemaster Certified Master Firearms Instructor (2022)\n\nREGISTER NOW – CLICK HERE!\n  \n  \nLEARN MORE ABOUT APACHE SOLUTIONS\n                 
URL:https://howellsgunshop.com/event/aedc-skill-acquisition-with-apache-solutions/
LOCATION:Howell’s Gun Shop\, 81 West Gray Road\, Gray\, ME\, 04039\, United States
CATEGORIES:All Events,FEATURED INSTRUCTORS
ATTACH;FMTTYPE=image/jpeg:https://howellsgunshop.com/wp-content/uploads/2022/09/https-cdn.evbuc_.com-images-313354159-320839439225-1-original.20220705-140713.jpeg
END:VEVENT
BEGIN:VEVENT
DTSTART;TZID=America/New_York:20231006T090000
DTEND;TZID=America/New_York:20231006T170000
DTSTAMP:20260424T035322
CREATED:20220908T164130Z
LAST-MODIFIED:20230905T165825Z
UID:9842-1696582800-1696611600@howellsgunshop.com
SUMMARY:Do It In the Dark: Introduction to Reduced Light Combatives with Guest Instructors Apache Solutions
DESCRIPTION:Howell’s is pleased to host Apache Solutions for this one-day course! \nDo It In the Dark: Introduction to Reduced Light Combatives\nDuration: 8 hours\nDate: October 6th\, 9am – 5pm\nCourse Fee: $250 + range fees ($25 range fee due to Howell’s upon check-in for all non-Howell’s members)\nAmmunition Requirement: 150 Rounds\nPrerequisites: See below\nLocation: Howell’s Gun Shop \nREGISTER NOW – CLICK HERE!\nIntroduction to reduced light Combatives covers the basics of white light usage in the context of self defense for the armed citizen. Up to 85% of humans sensory input is visual. Don’t dither in the dark\, let us shed some light on your after hours Combative capabilities. \nSubjects include:\n\nFoundational skills\nStrong hand only shooting\nHandheld & Weapon mounted lights\nDiscussion of Photonic barriers\, lumens & candela\nDry fire exercises\nLive fire exercises\nIndividual Capabilities and Limitations\nHandheld and WML manipulation\nForce on Force\nRapid decision making & More\n\nRequired gear:\n\nEDC pistol\nQuality holster(No serpas\, or nylon holsters)\n2 mags minimum\nWhite light pocket flashlight\nWeapon mounted light is STRONGLY recommended\nMinimum of 150 rounds of ammunition\n\nPre-Reqs:\nStudents must have a good understanding of safe firearms handling and range etiquette. It is strongly recommended that students have taken a previous defensive handgun style class prior to registration. \n***ALL TICKETS ARE NON-REFUNDABLE*** \nABOUT Chief Instructor – Tim Kelly\nTim Kelly is the owner of Apache Solutions Firearms Training in Yadkinville\, NC. Tim started Apache in 2017 with the intention of creating a stronger and more competent armed society. He recognized the need for safe and effective firearms training in his community and structured his business accordingly. In 2021\, Apache taught over 900 private sessions and 1100 students in classes throughout the year. A dedicated husband and father\, Tim has a strong desire to lead and help others achieve their goals. \nMajor accomplishments: \n\nOEF Combat Veteran\, United States Marine Corps (2005-2013)\nAssociates Degree in Mechanical Engineering (2016)\nGSSF Master Shooter (2018)\nNRA Training Counselor (2019)\nTop Shooter\, Handgun Combatives Certified Instructor\, 1/21 in the nation (2019\, 2020)\nRangemaster Certified Master Firearms Instructor (2022)\n\nREGISTER NOW – CLICK HERE!\n  \nLEARN MORE ABOUT APACHE SOLUTIONS\n                 
URL:https://howellsgunshop.com/event/do-it-in-the-dark-introduction-to-reduced-light-combatives-with-guest-instructors-apache-solutions/
LOCATION:Howell’s Gun Shop\, 81 West Gray Road\, Gray\, ME\, 04039\, United States
CATEGORIES:All Events,FEATURED INSTRUCTORS
ATTACH;FMTTYPE=image/jpeg:https://howellsgunshop.com/wp-content/uploads/2022/09/https-cdn.evbuc_.com-images-313373859-320839439225-1-original.20220705-142803.jpeg
END:VEVENT
END:VCALENDAR