BEGIN:VCALENDAR
VERSION:2.0
PRODID:-//Howell&#039;s Gun Shop - ECPv6.15.20//NONSGML v1.0//EN
CALSCALE:GREGORIAN
METHOD:PUBLISH
X-ORIGINAL-URL:https://howellsgunshop.com
X-WR-CALDESC:Events for Howell&#039;s Gun Shop
REFRESH-INTERVAL;VALUE=DURATION:PT1H
X-Robots-Tag:noindex
X-PUBLISHED-TTL:PT1H
BEGIN:VTIMEZONE
TZID:America/New_York
BEGIN:DAYLIGHT
TZOFFSETFROM:-0500
TZOFFSETTO:-0400
TZNAME:EDT
DTSTART:20250309T070000
END:DAYLIGHT
BEGIN:STANDARD
TZOFFSETFROM:-0400
TZOFFSETTO:-0500
TZNAME:EST
DTSTART:20251102T060000
END:STANDARD
BEGIN:DAYLIGHT
TZOFFSETFROM:-0500
TZOFFSETTO:-0400
TZNAME:EDT
DTSTART:20260308T070000
END:DAYLIGHT
BEGIN:STANDARD
TZOFFSETFROM:-0400
TZOFFSETTO:-0500
TZNAME:EST
DTSTART:20261101T060000
END:STANDARD
BEGIN:DAYLIGHT
TZOFFSETFROM:-0500
TZOFFSETTO:-0400
TZNAME:EDT
DTSTART:20270314T070000
END:DAYLIGHT
BEGIN:STANDARD
TZOFFSETFROM:-0400
TZOFFSETTO:-0500
TZNAME:EST
DTSTART:20271107T060000
END:STANDARD
END:VTIMEZONE
BEGIN:VEVENT
DTSTART;TZID=America/New_York:20260522T090000
DTEND;TZID=America/New_York:20260522T170000
DTSTAMP:20260425T234705
CREATED:20251101T101636Z
LAST-MODIFIED:20251101T101636Z
UID:19154-1779440400-1779469200@howellsgunshop.com
SUMMARY:5/22/26 - Mastering Marksmanship with Tatiana Whitlock
DESCRIPTION:CLICK TO ENROLL\n  \nMASTERING MARKSMANSHIP \nThis 8-hour intensive course is designed for shooters who want to refine their marksmanship and achieve next-level accuracy. Whether you’re looking to tighten your shot groups\, improve consistency\, or develop a more disciplined shooting process\, this class delivers focused\, results-driven training to help you hit your target with precision. \n  \nWHAT YOU’LL LEARN\n✔ Fundamentals of Precision Shooting – Build a solid foundation for consistent accuracy.\n✔ Visual & Mental Focus – Train your eyes and mind to enhance shot placement and control.\n✔ Marksmanship Skill Builder Drills – Practical exercises to refine technique and eliminate errors.\n✔ One-on-One Coaching with Tatiana Whitlock – Personalized instruction to fine-tune your individual performance.\n✔ Progressive Challenges – Push your skills with fun\, engaging drills designed for all experience levels. \nThis course is perfect for shooters of all skill levels\, from those looking to build confidence in their accuracy to experienced marksmen fine-tuning their edge. Expect hands-on coaching\, structured drills\, and personalized feedback in a challenging yet supportive training environment. \nEQUIPMENT\n● Working semi-automatic handgun (preferably centerfire)\n● 300 rounds factory FMJ (bring more if you want extra live-fire repetitions)\n● Minimum of two (2) magazines; 3+ magazines strongly recommended\n● PPE: Eye & ear protection\, personal med kit\n● This class is HOLSTER OPTIONAL (see note below) for those already holster proficient.\n● Sturdy gun belt\n● Cleaning kit & lubricant\n● High-collared shirt\, cover/concealment garment (bring multiple options)\, base layers or compression garments recommended for comfort when working from concealment holsters\n● Closed-toe shoes required; brimmed ball cap recommended but not required \nNOTE: For safety during live fire\, bra holsters\, soft side-collapsible holsters\, cross-draw\, Serpa\, ankle\, off-body\, and behind-the-back holsters are NOT allowed. \n“WOW. Game changer. Tatiana builds you literally from the ground up in this class. Never before has grip been explained to me in a way that made sense. She took the time to work with everyone and each shooter’s performance was completely transformed by the end of the day. I highly recommend this class!” – Frank B. \n  \nREGISTRATION POLICIES & TERMS\nRANGE FEE: $30 payable to Howell’s Gun Shop for any participant that is NOT already a Howell’s member.\nNO VIDEO POLICY! To protect the privacy and learning experience of your fellow students we have adopted a strict NO VIDEO policy during class.\nTERMS: By completing enrollment in this event you confirm that you have read and agree Tatiana WhitlocksTerms of Sale & Event Policies.\nNOTE: This is a hosted course\, registrations are made directly with the guest instructor. Howell’s store credits\, discounts\, or membership perks do not apply. 
URL:https://howellsgunshop.com/event/5-22-26-mastering-marksmanship-with-tatiana-whitlock/
LOCATION:Howell’s Gun Shop\, 81 West Gray Road\, Gray\, ME\, 04039\, United States
CATEGORIES:All Events,Mastering Marksmanship
ATTACH;FMTTYPE=image/png:https://howellsgunshop.com/wp-content/uploads/2025/11/52226-MM-ME.png
ORGANIZER;CN="Tatiana Whitlock - Training in Context":MAILTO:training@tatianawhitlock.com
END:VEVENT
BEGIN:VEVENT
DTSTART;TZID=America/New_York:20260626T090000
DTEND;TZID=America/New_York:20260626T170000
DTSTAMP:20260425T234705
CREATED:20251029T191915Z
LAST-MODIFIED:20251029T192144Z
UID:19073-1782464400-1782493200@howellsgunshop.com
SUMMARY:6/26/26 - Ladies Carry With Confidence
DESCRIPTION:CLICK TO ENROLL!\nJoin Tatiana Whitlock for this one-day Ladies Only concealed carry specific course. Carrying concealed isn’t just about having a firearm\, it’s about having the right mindset\, gear\, and training to do so comfortably and confidently. This 8-hour immersive course gives you the knowledge\, techniques\, and real-world skills to carry effectively while fitting seamlessly into your lifestyle. This dynamic\, practical course is a must for anyone serious about carrying daily with confidence and competence. \nWHAT YOU’LL LEARN  \n✔ Gear & Kit Assessment – Put your carry gun and holster through the paces to see if they truly work for you. Fine-tune fit\, placement\, and comfort with personalized recommendations and modifications. ✔ Drawing & Engaging from Concealment – Build smooth\, safe\, and efficient draw techniques under pressure\, using both hands or only one\, so your response is confident and controlled.\n✔ Meaningful Movement – Break free from static range habits. Learn simple\, effective movement drills that improve your positioning\, efficiency\, and can easily be practiced at your home range.\n✔ Situational Awareness & Stress Management – Strengthen your ability to read environments\, recognize threats early\, and make clear\, confident decisions under stress.\n✔ Before\, During & After a Defensive Encounter – Understand what to do at every stage: how to react\, communicate\, and manage the aftermath responsibly and legally.\n✔ Concealed Carry Attire & Accessories – Learn how to dress smartly and comfortably for concealment while maintaining full accessibility to your firearm. \n  \nEQUIPMENT  \n● Working semi-automatic handgun (preferably centerfire) \n● 300 rounds factory FMJ (bring more if you want extra live-fire repetitions) \n● Minimum of two (2) magazines; 3+ magazines strongly recommended \n● PPE: Eye & ear protection\, personal med kit \n● Concealment holster (see note below) & magazine pouch(s) \n● Sturdy gun belt \n● Cleaning kit & lubricant \n● High-collared shirt\, cover/concealment garment (bring multiple options)\, base layers or compression garments recommended for comfort when working from concealment holsters \n● Closed-toe shoes required; brimmed ball cap recommended but not required \nNOTE: For safety during live fire\, bra holsters\, soft side-collapsible holsters\, cross-draw\, Serpa\, ankle\, off-body\, and behind-the-back holsters are NOT allowed. \n  \n“Brilliant tips and tricks for carrying concealed from a woman! She had lots of items for us to try and recognize that not one thing works for everyone. I love that she was able to talk concealed as a mother – something I was absolutely able to relate to!” – Caroline M. \nREGISTRATION POLICIES & TERMS\nRANGE FEE: $30 payable to Howell’s Gun Shop for any participant that is NOT already a Howell’s member.\nNO VIDEO POLICY! To protect the privacy and learning experience of your fellow students we have adopted a strict NO VIDEO policy during class.\nTERMS: By completing enrollment in this event you confirm that you have read and agree Tatiana WhitlocksTerms of Sale & Event Policies.\nNOTE: This is a hosted course\, registrations are made directly with the guest instructor. Howell’s store credits\, discounts\, or membership perks do not apply. 
URL:https://howellsgunshop.com/event/6-26-26-ladies-carry-with-confidence/
LOCATION:Howell’s Gun Shop\, 81 West Gray Road\, Gray\, ME\, 04039\, United States
CATEGORIES:All Events,Ladies Carry with Confidence
ATTACH;FMTTYPE=image/png:https://howellsgunshop.com/wp-content/uploads/2025/10/62626-LCWC-ME.png
ORGANIZER;CN="Tatiana Whitlock - Training in Context":MAILTO:training@tatianawhitlock.com
END:VEVENT
BEGIN:VEVENT
DTSTART;TZID=America/New_York:20261016T090000
DTEND;TZID=America/New_York:20261016T170000
DTSTAMP:20260425T234705
CREATED:20251101T094935Z
LAST-MODIFIED:20251101T095017Z
UID:19136-1792141200-1792170000@howellsgunshop.com
SUMMARY:10/16/26 - Advanced Pistol Skills with Tatiana Whitlock
DESCRIPTION:CLICK HERE TO ENROLL\n  \nADVANCED PISTOL SKILLS \nThis course is for the shooter who already owns the basics; solid marksmanship\, dependable reloads\, routine malfunction clearing\, and a practiced holster draw. If you’re comfortable on the line and hungry for next-level challenges\, this class will make your pistol skills indestructible. Through some of Tatiana’s signature drill sets like the Compass Drill and building into the Tempest\, you’ll train to solve problems faster\, shooting from either hand. Make your gun an extension of a decision you’ve already made\, not the obstacle between you and it. \n  \nWHAT YOU’LL LEARN\n Ambidextrous Performance – Shoot\, reload\, and clear malfunctions with either hand.\n One-Handed Fight Skills – Manage reloads\, malfunctions\, and target engagement effectively when only one hand is available.\n Progressive Drill Sets (Assessment → Compass → Tempest) – Move through structured progressions that escalate stress\, speed\, and complexity.\n Dry Fire to Live Fire Integration — Use focused dry-fire practice to ingrain mechanics\, then validate under live fire with expert coaching. \nAdvanced Pistol Skills is not a beginner’s course – it’s designed for shooters who are already comfortable with handgun fundamentals\, and should you choose\, holster skills. This hands-on\, high-impact course is designed for experienced semi-auto shooters ready to elevate resilience\, versatility\, and confidence with their pistols. Expect precise coaching\, demanding drills\, and measurable improvement you can take to the range\, and any situation. \nEQUIPMENT\n●Working semi-automatic handgun (preferably centerfire) \n● 300 rounds factory FMJ (bring more if you want extra live-fire repetitions) \n● Minimum of two (2) magazines; 3+ magazines strongly recommended \n● PPE: Eye & ear protection\, personal med kit \n● IWB/OWB holster (see note below) & magazine pouch(s) \n● Sturdy gun belt \n● Cleaning kit & lubricant \n● High-collared shirt\, cover/concealment garment (bring multiple options)\, base layers or compression garments recommended for comfort when working from concealment holsters \n● Closed-toe shoes required; brimmed ball cap recommended but not required \nNOTE: For safety during live fire\, bra holsters\, soft side-collapsible holsters\, cross-draw\, Serpa\, ankle\, off-body\, and behind-the-back holsters are NOT allowed. \n“I’ve been shooting for years\, but Advanced Pistol Skills took me to the next level. The drills were tough but eye-opening\, and Tatiana’s coaching was spot-on. By the end of the day\, I was confidently handling the gun with either hand and fixing problems on the fly.” — James L. \n  \nREGISTRATION POLICIES & TERMS\nRANGE FEE: $30 payable to Howell’s Gun Shop for any participant that is NOT already a Howell’s member.\nNO VIDEO POLICY! To protect the privacy and learning experience of your fellow students we have adopted a strict NO VIDEO policy during class.\nTERMS: By completing enrollment in this event you confirm that you have read and agree Tatiana Whitlocks Terms of Sale & Event Policies.\nNOTE: This is a hosted course\, registrations are made directly with the guest instructor. Howell’s store credits\, discounts\, or membership perks do not apply. 
URL:https://howellsgunshop.com/event/10-16-26-advanced-pistol-skills-with-tatiana-whitlock/
LOCATION:Howell’s Gun Shop\, 81 West Gray Road\, Gray\, ME\, 04039\, United States
CATEGORIES:Advanced Pistol Skills,All Events
ATTACH;FMTTYPE=image/png:https://howellsgunshop.com/wp-content/uploads/2025/11/101626-APS-ME.png
ORGANIZER;CN="Tatiana Whitlock - Training in Context":MAILTO:training@tatianawhitlock.com
END:VEVENT
END:VCALENDAR