BEGIN:VCALENDAR
VERSION:2.0
PRODID:-//Howell&#039;s Gun Shop - ECPv6.15.20//NONSGML v1.0//EN
CALSCALE:GREGORIAN
METHOD:PUBLISH
X-WR-CALNAME:Howell&#039;s Gun Shop
X-ORIGINAL-URL:https://howellsgunshop.com
X-WR-CALDESC:Events for Howell&#039;s Gun Shop
REFRESH-INTERVAL;VALUE=DURATION:PT1H
X-Robots-Tag:noindex
X-PUBLISHED-TTL:PT1H
BEGIN:VTIMEZONE
TZID:America/New_York
BEGIN:DAYLIGHT
TZOFFSETFROM:-0500
TZOFFSETTO:-0400
TZNAME:EDT
DTSTART:20220313T070000
END:DAYLIGHT
BEGIN:STANDARD
TZOFFSETFROM:-0400
TZOFFSETTO:-0500
TZNAME:EST
DTSTART:20221106T060000
END:STANDARD
BEGIN:DAYLIGHT
TZOFFSETFROM:-0500
TZOFFSETTO:-0400
TZNAME:EDT
DTSTART:20230312T070000
END:DAYLIGHT
BEGIN:STANDARD
TZOFFSETFROM:-0400
TZOFFSETTO:-0500
TZNAME:EST
DTSTART:20231105T060000
END:STANDARD
BEGIN:DAYLIGHT
TZOFFSETFROM:-0500
TZOFFSETTO:-0400
TZNAME:EDT
DTSTART:20240310T070000
END:DAYLIGHT
BEGIN:STANDARD
TZOFFSETFROM:-0400
TZOFFSETTO:-0500
TZNAME:EST
DTSTART:20241103T060000
END:STANDARD
END:VTIMEZONE
BEGIN:VEVENT
DTSTART;TZID=America/New_York:20231209T090000
DTEND;TZID=America/New_York:20231210T180000
DTSTAMP:20260423T210538
CREATED:20230417T122450Z
LAST-MODIFIED:20230417T131906Z
UID:11588-1702112400-1702231200@howellsgunshop.com
SUMMARY:12/9&10/23 - NRA Certified Basic Pistol Instructor
DESCRIPTION:12/9/23 – 9am – 6pm\n12/10/23 – 10am – 4pm \nAre you a handgun shooter who wants to help other shooters improve their skills? Pistols are some of the most used firearms in the world\, but not everyone has the training to use them safely. With the NRA Certified Pistol Instructor course\, GTBR will help you become an effective and knowledgeable instructor\, capable of teaching students how to handle pistols with skill and safety. \n  \nWhat You Will Learn\n• Range Safety\n• Pistol Knowledge and Safe Gun Handling\n• Ammunition Knowledge\n• The Fundamentals of Pistol Shooting\n• Shooting Positions and Shooting Qualifications\n• Scoring Targets\n• Selecting and Maintaining Your Pistol \nThe Prerequisites\nIn order to undertake the NRA Certified Pistol Instructor Training Course you need to know the basics of firearm safety and have a measure of proficiency in shooting skills and provide proof of completing each the following prior to class:\n\nYou must take and pass the NRA Basic Instructor Training Course within 2 years.\nYou must take and pass the student course NRA Basics of Pistol Shooting Instructor Led Student Course.\nProvide proof of completing each prior to class.\n\nWhat to Expect \nThe NRA Basics of Pistol Shooting Instructor Course is more hands-on and involves some live-fire range time. Before that is classroom instruction with dummy ammunition where you will learn proper operation\, maintenance\, storage\, and shooting fundamentals for revolvers and semi-automatic handguns. You will also learn how to appropriately select both pistols and ammunition. Marksmanship and range safety are also covered. \nAfter that\, you will head to the range to test your skills and undergo nationally standardized shooting qualification. \nYou will receive the NRA Basics of Shooting handbook and a certificate bearing the signature of the NRA Secretary and your NRA Certified Instructor. \nWhat do I need to bring and what do I need to know? Please download and review the following NRA Basics of Pistol Shooting Instructor documents BEFORE you come to class. Also\, make sure you practice the live fire exercises prior to coming to the range. \nPISTOL INSTRUCTOR PRE-COURSE ASSESSMENT \nBASICS OF PISTOL SHOOTING INSTRUCTOR LED COURSE \nBASICS OF PISTOL SHOOTING QUALIFICATION TARGETS \nWhat to Bring\n\nA copy (digital or print) of the above NRA Basics of Pistol Shooting Instructor documents.\n3 ring binder\nTarget shooting pistol\n200 rounds of ammunition \nQUESTIONS? Contact out in-house NRA Training Counselor
URL:https://howellsgunshop.com/event/12-910-23-nra-certified-basic-pistol-instructor/
LOCATION:81 West Gray Road\, Gray\, ME\, 04039\, United States
CATEGORIES:All Events,NRA INSTRUCTOR PISTOL SHOOTING COURSE (BPI)
ATTACH;FMTTYPE=image/jpeg:https://howellsgunshop.com/wp-content/uploads/2019/12/Howells_NRABPI.jpg
END:VEVENT
BEGIN:VEVENT
DTSTART;TZID=America/New_York:20231011T173000
DTEND;TZID=America/New_York:20231011T183000
DTSTAMP:20260423T210538
CREATED:20230813T141422Z
LAST-MODIFIED:20230813T141639Z
UID:12418-1697045400-1697049000@howellsgunshop.com
SUMMARY:A GIRL & A GUN  - GIRLS NIGHT OUT
DESCRIPTION:A GIRL & A GUN  – GIRLS NIGHT OUT\n(Supervised/Coached Practice session)\n\nALL EXPERIENCE LEVELS WELCOME!\nTIME: 5:30pm – 7:00pm\nEVENT FEE: $10 payable on TEAM APP\nRANGE FEE: Payable to Howells at check-in. Howell’s Members shoot for FREE. AGAG Members shoot for $15.\nRSVP: ENSURE YOU HAVE A SPOT by signing up on the TEAM APP!\nMEMBERS: REMEMBER TO BRING YOUR SHOOTING JOURNALS!\nNOT A MEMBER? JOIN US!\n\nPrerequisite: None! Come as you are. AG&AG events provide an ideal place to learn for women of all skill levels. \nHOWELL’S GUN SHOP WELCOMES\nA Girl & A Gun Women’s Shooting League!\nA Girl & A Gun Women’s Shooting League (AG & AG) is a shooting club established by women shooters for women shooters. AG & AG events are intended to be fun\, social gatherings where women can come together for support\, encouragement\, ask questions in a safe and nonjudgmental environment\, improve on their marksmanship\, and bond together in the shooting community. \nWhat Makes Us Different? \nAll AG & AG events are supervised by female Certified Firearms Instructors. All facilitators are women who can “speak girl” and provide techniques and tips for female shooters. Our goal is to empower\, educate\, and have fun at the range. AG & AG events have been successful stepping stones for thousands of women. At our events and through articles and information\, we provide: \n\nBasics of safe gun handling\nRange etiquette\nProper grip techniques\nStance for accurate shooting\nTrigger control and follow-through\nSight picture and sight alignment and MUCH MORE!\n\nIt’s More Than Shooting\nWhile our mission is to educate women on safe and accurate shooting\, our organization is about so much more than shooting! It’s about empowerment\, support\, friendships\, fun\, self-reliance\, and so much more. Every day we witness the transformation of women who set out to learn how to shoot and in the process discover a confidence in themselves that improves all areas of their lives. Whether you’re interested in competition\, concealed carry\, home defense\, the safe storage of guns in the home\, or you just want to get out of the house and try something new\, please join us at an upcoming event. \nAs A Member Of The National Club\, You Receive:\n\nOur innovative Shooting Journal specifically for women shooters\nChance to win guns and gear in our quarterly and annually\nMember Appreciation Giveaways\nTONS of discounts and offers from our Vendor Partners\n20% off all AG & AG apparel and hats\nExclusive members-only matches and clinics\nInvitation to attend the AG & AG Conference\nInvitation to attend the regional Girl’s Getaways\nThe Four Rules by Kathy Jackson of The Cornered Cat\nBasic Pistols Skills by Lynn Givens of Rangemaster\nPersonalized AG & AG designer name tag\nAccess to the AG & AG Shooting Journal\nOfficial membership card\nSpecial discounts from our home range\, Howell’s Gun Shop!\n\nHowell’s Members SHOOT FOR FREE\n\n\n\nNOT A MEMBER? JOIN US!
URL:https://howellsgunshop.com/event/a-girl-a-gun-girls-night-out/2023-10-11/
LOCATION:81 West Gray Road\, Gray\, ME\, 04039\, United States
CATEGORIES:A Girl & A Gun,All Events
ATTACH;FMTTYPE=image/png:https://howellsgunshop.com/wp-content/uploads/2022/11/AGAG_ChapterMeeting_GNO-1-2.png
END:VEVENT
BEGIN:VEVENT
DTSTART;TZID=America/New_York:20231004T090000
DTEND;TZID=America/New_York:20231004T170000
DTSTAMP:20260423T210538
CREATED:20221115T143334Z
LAST-MODIFIED:20230505T131410Z
UID:10262-1696410000-1696438800@howellsgunshop.com
SUMMARY:10/4/23 - Handgun Essentials
DESCRIPTION:Handgun Essentials\nDuration Of 8 Hours\nCourse Fee $250\nMembership: Discounts Apply!\nStep 1: New Shooter\nStep 2: Handgun Essentials\nStep 3: Beyond Basics\nStep 4: Defensive Handgun with Tatiana Whitlock \nEstablish essential handgun skills necessary to become a safe semiautomatic handgun owner and marksman. This class thoroughly covers handgun safety awareness\, the basics of handgun mechanics\, safe handling techniques\, and the fundamentals of stance\, grip\, sight picture and alignment. Round out your skill set with malfunction clearing and ammunition management (reloading) techniques with a heavy emphasis on marksmanship and accuracy. By the end of this class\, you will have the knowledge to safely and confidently enjoy shooting your handgun! \n*Please note that this is NOT a revolver class. This course is focused on semiautomatic handguns only. Should you wish you explore revolvers please consider signing up for a private lesson.  \nREQUIRED EQUIPMENT \n\nWorking semiautomatic handgun (preferably a centerfire gun)\nMinimum of two (2) magazines\nAmmunition – 150 rounds\nEye & ear protection\nAttire: Long pants\, high collared shirt or t-shirt\, closed toe shoes\, ball caps recommended.\n\nEVENT REGISTRATION TERMS & CONDITIONS\nCourse Transfer: With 72-hour advance notice of the event date we will issue a unique re-registration code for course transfers.\nCancellation Refund: Refunds for 50% balance of event fee\, if no transfer is possible\, are issued in the form of store gift cards only but ONLY if we are notified of the cancelation up to 72 hours in advance of the event date.\nNo-Call/No-Show: Participants who do not show to the event without prior 72-hour notice forfeit their total registration fees.\nSame Day Cancelations: Same day cancelations are non-refundable as spots in classes are quick to fill and we will be unable to resell that spot in the event or give an individual on a waitlist adequate time to purchase that spot.
URL:https://howellsgunshop.com/event/10-4-23-handgun-essentials/
LOCATION:81 West Gray Road\, Gray\, ME\, 04039\, United States
CATEGORIES:All Events,Handgun Essentials
ATTACH;FMTTYPE=image/jpeg:https://howellsgunshop.com/wp-content/uploads/2022/05/Howells_HandgunEssentials.jpg
END:VEVENT
BEGIN:VEVENT
DTSTART;TZID=America/New_York:20230802T090000
DTEND;TZID=America/New_York:20230802T170000
DTSTAMP:20260423T210538
CREATED:20221115T142434Z
LAST-MODIFIED:20230731T162726Z
UID:10256-1690966800-1690995600@howellsgunshop.com
SUMMARY:CANCELED - Handgun Essentials
DESCRIPTION:CANCELED – Handgun Essentials\nDuration Of 8 Hours\nCourse Fee $250\nMembership: Discounts Apply!\nStep 1: New Shooter\nStep 2: Handgun Essentials\nStep 3: Beyond Basics\nStep 4: Defensive Handgun with Tatiana Whitlock \nEstablish essential handgun skills necessary to become a safe semiautomatic handgun owner and marksman. This class thoroughly covers handgun safety awareness\, the basics of handgun mechanics\, safe handling techniques\, and the fundamentals of stance\, grip\, sight picture and alignment. Round out your skill set with malfunction clearing and ammunition management (reloading) techniques with a heavy emphasis on marksmanship and accuracy. By the end of this class\, you will have the knowledge to safely and confidently enjoy shooting your handgun! \n*Please note that this is NOT a revolver class. This course is focused on semiautomatic handguns only. Should you wish you explore revolvers please consider signing up for a private lesson.  \nREQUIRED EQUIPMENT \n\nWorking semiautomatic handgun (preferably a centerfire gun)\nMinimum of two (2) magazines\nAmmunition – 150 rounds\nEye & ear protection\nAttire: Long pants\, high collared shirt or t-shirt\, closed toe shoes\, ball caps recommended.\n\nEVENT REGISTRATION TERMS & CONDITIONS\nCourse Transfer: With 72-hour advance notice of the event date we will issue a unique re-registration code for course transfers.\nCancellation Refund: Refunds for 50% balance of event fee\, if no transfer is possible\, are issued in the form of store gift cards only but ONLY if we are notified of the cancelation up to 72 hours in advance of the event date.\nNo-Call/No-Show: Participants who do not show to the event without prior 72-hour notice forfeit their total registration fees.\nSame Day Cancelations: Same day cancelations are non-refundable as spots in classes are quick to fill and we will be unable to resell that spot in the event or give an individual on a waitlist adequate time to purchase that spot.
URL:https://howellsgunshop.com/event/8-2-23-handgun-essentials/
LOCATION:81 West Gray Road\, Gray\, ME\, 04039\, United States
CATEGORIES:All Events,Handgun Essentials
ATTACH;FMTTYPE=image/jpeg:https://howellsgunshop.com/wp-content/uploads/2022/05/Howells_HandgunEssentials.jpg
END:VEVENT
BEGIN:VEVENT
DTSTART;TZID=America/New_York:20230419T180000
DTEND;TZID=America/New_York:20230419T190000
DTSTAMP:20260423T210538
CREATED:20221221T215847Z
LAST-MODIFIED:20230419T124021Z
UID:10982-1681927200-1681930800@howellsgunshop.com
SUMMARY:CANCELED - Youth Safety League
DESCRIPTION:Howell’s Youth Safety League is a monthly 60 minute lesson and range time for students 10 to 18 designed to instill firearm safety\, education and marksmanship skills. This program is an opportunity for our young students to learn with others\, make friends\, build character\, and continue the tradition of shooting sports and safety practices. This league is open to all students whom have taken a private lesson at Howell’s within one calendar year where the basics of range safety and etiquette are taught on a one-on-one basis. Students must be accompanied by a participating parent/guardian over the age of 21 years old. \nMontly meetings focus on safety and a themed lesson on marksmanship and precision. Participants then transition to the range to shoot the NRA Pistol Qualification and NRA Rifle Qualification exercises and progress through the series at their own pace. Individual coaching\, safety monitors (RSO’s) are present to support each participant and their accompanying parent/guardian in the range at all times. \nRequired Equipment \n\n.22lr\, 380 or 9mm Semi Automatic handguns provided\nParticipants are welcome to bring their own .22lr\, 380 or 9mm Semi Automatic handguns to work with during class\n100 to 150 rounds of caliber appropriate FMJ Ball ammunition estimated per class\nAmmunition can be purchased at check-in if utilizing Howell’s equipment\nHowell’s equipment requires ammunition purchase from Howell’s (nothing brought in from home please.)\nEye protection for both participant and guardian (available for purchase at check-in)\nHearing protection for both participant and guardian (available for purchase at check-in)\nRange appropriate attire for both participant and parent/guardian\nClosed toe shoes for both participant and guardian\nA good attitude and an open mind 🙂\n\n\n\nHOWELL’S TERMS – CLASS CANCELLATIONS \nNo Call/No Show: All no-call/no-show participants will be non-refundable not eligible for store credit or transfer. \nLate Arrival: Arriving more than 15 minutes after class start time is considered no-call/no-show. \nStudent Cancelation: Refunds for 100% balance of event fee\, if no transfer is possible\, are issued ONLY if we are notified of the cancellation more than 48 hours in advance of the event date. Notifications received within 48 hours of the event date are eligible for 50% refund or 50% tuition value applied towards an upcoming course within one calendar year. \nHowell’s Cancelation: Should Howell’s need to cancel a class students will be contacted via email\, phone and/or text with as much notice as possible. All students will be provided an option to transfer into an upcoming event of their choosing or receive a full refund. \nStudent Transfer: One transfer is permitted per original transaction\, per customer\, within the terms outlined above\, and must be conducted within a calendar year of the original booking date. \nGuest Instructors: There are no refunds or transfers on guest instructor classes including Defensive Handgun through Howell’s Gun Shop. No Exceptions. When a student enrolls for a hosted class\, the student accepts the terms of the company (instructor) they are registering through. Please read their terms and conditions before enrolling and direct any questions regarding cancelations to them directly. \nTo Change or Cancel YourReservation: All inquiries must be made via phone 207-657-4323 and/or email training@howellsgunshop.com. Please be prepared to provide your name\, email address and order number. \nWEBSITE DISCLAIMER \nAll items on this website are subject to change without notice. This includes item availability\, one-of-a-kind items\, and pricing. \nis a monthly 60 minute lesson and range time for students 10 to 18 designed to instill firearm safety\, education and marksmanship skills. This program is an opportunity for our young students to learn with others\, make friends\, build character\, and continue the tradition of shooting sports and safety practices. This league is open to all students whom have taken a private lesson at Howell’s within one calendar year where the basics of range safety and etiquette are taught on a one-on-one basis. Students must be accompanied by a participating parent/guardian over the age of 21 years old. \nMontly meetings focus on safety and a themed lesson on marksmanship and precision. Participants then transition to the range to shoot the NRA Pistol Qualification and NRA Rifle Qualification exercises and progress through the series at their own pace. Individual coaching\, safety monitors (RSO’s) are present to support each participant and their accompanying parent/guardian in the range at all times. \nRequired Equipment \n\n.22lr\, 380 or 9mm Semi Automatic handguns provided\nParticipants are welcome to bring their own .22lr\, 380 or 9mm Semi Automatic handguns to work with during class\n100 to 150 rounds of caliber appropriate FMJ Ball ammunition estimated per class\nAmmunition can be purchased at check-in if utilizing Howell’s equipment\nHowell’s equipment requires ammunition purchase from Howell’s (nothing brought in from home please.)\nEye protection for both participant and guardian (available for purchase at check-in)\nHearing protection for both participant and guardian (available for purchase at check-in)\nRange appropriate attire for both participant and parent/guardian\nClosed toe shoes for both participant and guardian\nA good attitude and an open mind 🙂\n\nHOWELL’S TERMS – CLASS CANCELLATIONS \nNo Call/No Show: All no-call/no-show participants will be non-refundable not eligible for store credit or transfer. \nLate Arrival: Arriving more than 15 minutes after class start time is considered no-call/no-show. \nStudent Cancelation: Refunds for 100% balance of event fee\, if no transfer is possible\, are issued ONLY if we are notified of the cancellation more than 48 hours in advance of the event date. Notifications received within 48 hours of the event date are eligible for 50% refund or 50% tuition value applied towards an upcoming course within one calendar year. \nHowell’s Cancelation: Should Howell’s need to cancel a class students will be contacted via email\, phone and/or text with as much notice as possible. All students will be provided an option to transfer into an upcoming event of their choosing or receive a full refund. \nStudent Transfer: One transfer is permitted per original transaction\, per customer\, within the terms outlined above\, and must be conducted within a calendar year of the original booking date. \nGuest Instructors: There are no refunds or transfers on guest instructor classes including Defensive Handgun through Howell’s Gun Shop. No Exceptions. When a student enrolls for a hosted class\, the student accepts the terms of the company (instructor) they are registering through. Please read their terms and conditions before enrolling and direct any questions regarding cancelations to them directly. \nTo Change or Cancel YourReservation: All inquiries must be made via phone 207-657-4323 and/or email training@howellsgunshop.com. Please be prepared to provide your name\, email address and order number. \nWEBSITE DISCLAIMER \nAll items on this website are subject to change without notice. This includes item availability\, one-of-a-kind items\, and pricing.
URL:https://howellsgunshop.com/event/4-19-23-youth-safety-league/
LOCATION:81 West Gray Road\, Gray\, ME\, 04039\, United States
CATEGORIES:All Events,Youth Safety League
ATTACH;FMTTYPE=image/jpeg:https://howellsgunshop.com/wp-content/uploads/2022/03/Howells-Youth-Safety-League.jpg
END:VEVENT
END:VCALENDAR